BEGIN:VCALENDAR
VERSION:2.0
PRODID:-//Sinneave Foundation - ECPv6.15.19//NONSGML v1.0//EN
CALSCALE:GREGORIAN
METHOD:PUBLISH
X-ORIGINAL-URL:https://sinneavefoundation.org
X-WR-CALDESC:Events for Sinneave Foundation
REFRESH-INTERVAL;VALUE=DURATION:PT1H
X-Robots-Tag:noindex
X-PUBLISHED-TTL:PT1H
BEGIN:VTIMEZONE
TZID:America/Edmonton
BEGIN:DAYLIGHT
TZOFFSETFROM:-0700
TZOFFSETTO:-0600
TZNAME:MDT
DTSTART:20230312T090000
END:DAYLIGHT
BEGIN:STANDARD
TZOFFSETFROM:-0600
TZOFFSETTO:-0700
TZNAME:MST
DTSTART:20231105T080000
END:STANDARD
BEGIN:DAYLIGHT
TZOFFSETFROM:-0700
TZOFFSETTO:-0600
TZNAME:MDT
DTSTART:20240310T090000
END:DAYLIGHT
BEGIN:STANDARD
TZOFFSETFROM:-0600
TZOFFSETTO:-0700
TZNAME:MST
DTSTART:20241103T080000
END:STANDARD
BEGIN:DAYLIGHT
TZOFFSETFROM:-0700
TZOFFSETTO:-0600
TZNAME:MDT
DTSTART:20250309T090000
END:DAYLIGHT
BEGIN:STANDARD
TZOFFSETFROM:-0600
TZOFFSETTO:-0700
TZNAME:MST
DTSTART:20251102T080000
END:STANDARD
END:VTIMEZONE
BEGIN:VEVENT
DTSTART;TZID=America/Edmonton:20240215T130000
DTEND;TZID=America/Edmonton:20240215T153000
DTSTAMP:20260421T075429
CREATED:20240124T004958Z
LAST-MODIFIED:20240905T211629Z
UID:10000491-1708002000-1708011000@sinneavefoundation.org
SUMMARY:Get Ready for Your Summer Job! - Youth Series
DESCRIPTION:Are you an Autistic or neurodivergent high school or post-secondary student who’s thinking about getting a summer job?  \nYou’re invited to join us for a special employment series designed just for you! \nWe know from experience that when a person has a better understanding of their strengths and interests it helps them feel more confident in taking steps to find a fulfilling job–so we’re here to help. \nGet Ready for Your Summer Job! is a two-day workshop that will: \n\nguide participants in discovering their strengths and interests\,\nprovide an overview of various types of summer jobs\,\nexplore seasonal opportunities in the Calgary area\, and\nshare the necessary skills for successful employment\, such as preparing a resume and cover letter\, and honing interview skills.\n\nThis series takes place during Calgary Teachers’ Convention: \nThursday & Friday\, February 15 & 16 \n1:00 – 3:30 p.m. \nIn-person @The Ability Hub (300\, 3820 24 Ave NW) \nWe want to ensure our participants have the best possible experience\, so to facilitate as much hands-on interaction as possible\, this series is limited to 15 attendees. When you sign up\, you are committing to attend both sessions. \nReserve your spot today by clicking the button below that says Get Ready for Your Summer Job! This button will direct you to Sinneave Connects\, our online learning portal. \nIf you already have a Sinneave Connects account\, just log in as usual and enroll in the course. If this is the first time you’ve used Sinneave Connects\, you will need to create a FREE account. It’s as easy as 1\, 2\, 3\, 4… When you click the button below\, it will direct you to the portal. Follow the prompts from there. \n\nCreate a Username\nCreate a password (remember to keep it someplace safe for next time)\nSelect “Register”\nChoose the “Get Ready for Your Summer Job!” session\n\nGet Ready for Your Summer Job! \nAbout the Presenter: Ian Humphreys is an Employment Advisor at The Sinneave Family Foundation. With more than 10 years of experience in the disability and employment sectors\, he leads impactful programs for Autistic and neurodivergent individuals like EmploymentWorks and EmploymentWorks Online. He has also facilitated one-on-one employment coaching via our Drop-in Employment Support workshops. He is passionate about empowering individuals on their employment journeys\, fostering both personal and professional growth\, and aiding them in the successful transition to the workforce.
URL:https://sinneavefoundation.org/event/get-ready-for-your-summer-job-youth-series/2024-02-15/
LOCATION:The Ability Hub\, Suite #300\, 3820 - 24th Avenue NW|Suite #300\, 3820 – 24th Avenue NW|Suite #300\, 3820 – 24th Avenue NW|Suite #300\, 3820 – 24th Avenue NW\, Calgary\, Alberta\, T3B-2X9|T3B-2X9|T3B-2X9|T3B-2X9\, Canada
CATEGORIES:Learning & Connection Activity,Workshops
ATTACH;FMTTYPE=image/png:https://sinneavefoundation.org/wp-content/uploads/2024/06/Summer-Job-Series.png
GEO:51.0747716|51.0747716|51.0747716|51.0747716;-114.1439694|-114.1439694|-114.1439694|-114.1439694
X-APPLE-STRUCTURED-LOCATION;VALUE=URI;X-ADDRESS=The Ability Hub Suite #300 3820 - 24th Avenue NW|Suite #300 3820 – 24th Avenue NW|Suite #300 3820 – 24th Avenue NW|Suite #300 3820 – 24th Avenue NW Calgary Alberta T3B-2X9|T3B-2X9|T3B-2X9|T3B-2X9 Canada;X-APPLE-RADIUS=500;X-TITLE=Suite #300\, 3820 - 24th Avenue NW|Suite #300\, 3820 – 24th Avenue NW|Suite #300\, 3820 – 24th Avenue NW|Suite #300\, 3820 – 24th Avenue NW:geo:-114.1439694|-114.1439694|-114.1439694|-114.1439694,51.0747716|51.0747716|51.0747716|51.0747716
END:VEVENT
BEGIN:VEVENT
DTSTART;TZID=America/Edmonton:20240215T160000
DTEND;TZID=America/Edmonton:20240215T173000
DTSTAMP:20260421T075429
CREATED:20240118T000348Z
LAST-MODIFIED:20240905T211625Z
UID:10000478-1708012800-1708018200@sinneavefoundation.org
SUMMARY:Goal Setting: Creating a Blueprint for your Life
DESCRIPTION:Do you have plans and dreams for your future\, but aren’t sure of how to make them a reality? \nDo you want to set meaningful goals for your life\, but don’t know where to start? \nThis Learning & Connection activity may be just what you need! \nLearn how to create meaningful and realistic goals and then take action steps to achieve them – one at a time. \nIn this session\, participants will learn about the importance of values and how they inform our life goals. They will also learn about SMART goals and how to determine what yours might be. Attendees will have an opportunity to participate in a values exercise and a goal setting exercise to practice these skills. \nJoin us Thursday\, February 15 from 4:00 – 5:30 p.m. at The Ability Hub (300\, 3820 24th Avenue NW in Calgary) If attending in person isn’t possible for you\, you can also attend virtually via Sinneave Connects\, our online learning hub. \nIf you already have a Sinneave Connects account\, just log in as usual and enroll in the course. If this is the first time you’ve used Sinneave Connects\, you will need to create a free account. It’s as easy as 1\, 2\, 3.  \n\nCreate a Username\nCreate a password (remember to keep it someplace safe for next time)\nSelect “Register”\nChoose the “Goal Setting: Creating a Blueprint for your Life – Feb. 15” session\n\nTo access Sinneave Connects\, click on the button below that reads\, “Goal Setting: Creating a Blueprint for your Life – Feb 15” \nGoal Setting: Creating a Blueprint for your Life – Feb 15  \nAbout the Presenter:\nCedric Nicholson is a certified professional executive and life coach with 20 years of working with people who have various disabilities and 7 years working specifically with individuals on the spectrum. Cedric is passionate about personal development and helping people reach their highest potential and is currently a Life Skills coach in the Launch + Skills program at Sinneave.\n \nIf you have questions or need help navigating Sinneave Connects\, please email us at info@sinneavefoundation.org or call 403 210-5000. We’re here to help! \nP.S. This session pairs perfectly with our Visioning: Creating a Blueprint for your Life session on February 8. To find out more about that session\, visit the event page by clicking on the words\, Visioning. \nP.S. Did you know we have a quick access button to Sinneave Connects on the upper right corner of our Homepage? Once you have a Sinneave Connects account\, you can go directly to the portal and see what’s new!
URL:https://sinneavefoundation.org/event/goal-setting-creating-a-blueprint-for-your-life-2/
LOCATION:The Ability Hub\, Suite #300\, 3820 - 24th Avenue NW|Suite #300\, 3820 – 24th Avenue NW|Suite #300\, 3820 – 24th Avenue NW|Suite #300\, 3820 – 24th Avenue NW\, Calgary\, Alberta\, T3B-2X9|T3B-2X9|T3B-2X9|T3B-2X9\, Canada
CATEGORIES:Exploration Sessions
ATTACH;FMTTYPE=image/jpeg:https://sinneavefoundation.org/wp-content/uploads/2024/06/Goal-setting-Feb-15-2024-scaled-1.jpg
GEO:51.0747716|51.0747716|51.0747716|51.0747716;-114.1439694|-114.1439694|-114.1439694|-114.1439694
X-APPLE-STRUCTURED-LOCATION;VALUE=URI;X-ADDRESS=The Ability Hub Suite #300 3820 - 24th Avenue NW|Suite #300 3820 – 24th Avenue NW|Suite #300 3820 – 24th Avenue NW|Suite #300 3820 – 24th Avenue NW Calgary Alberta T3B-2X9|T3B-2X9|T3B-2X9|T3B-2X9 Canada;X-APPLE-RADIUS=500;X-TITLE=Suite #300\, 3820 - 24th Avenue NW|Suite #300\, 3820 – 24th Avenue NW|Suite #300\, 3820 – 24th Avenue NW|Suite #300\, 3820 – 24th Avenue NW:geo:-114.1439694|-114.1439694|-114.1439694|-114.1439694,51.0747716|51.0747716|51.0747716|51.0747716
END:VEVENT
END:VCALENDAR