BEGIN:VCALENDAR
VERSION:2.0
PRODID:-//Sinneave Foundation - ECPv6.15.19//NONSGML v1.0//EN
CALSCALE:GREGORIAN
METHOD:PUBLISH
X-WR-CALNAME:Sinneave Foundation
X-ORIGINAL-URL:https://sinneavefoundation.org
X-WR-CALDESC:Events for Sinneave Foundation
REFRESH-INTERVAL;VALUE=DURATION:PT1H
X-Robots-Tag:noindex
X-PUBLISHED-TTL:PT1H
BEGIN:VTIMEZONE
TZID:America/Edmonton
BEGIN:DAYLIGHT
TZOFFSETFROM:-0700
TZOFFSETTO:-0600
TZNAME:MDT
DTSTART:20230312T090000
END:DAYLIGHT
BEGIN:STANDARD
TZOFFSETFROM:-0600
TZOFFSETTO:-0700
TZNAME:MST
DTSTART:20231105T080000
END:STANDARD
BEGIN:DAYLIGHT
TZOFFSETFROM:-0700
TZOFFSETTO:-0600
TZNAME:MDT
DTSTART:20240310T090000
END:DAYLIGHT
BEGIN:STANDARD
TZOFFSETFROM:-0600
TZOFFSETTO:-0700
TZNAME:MST
DTSTART:20241103T080000
END:STANDARD
BEGIN:DAYLIGHT
TZOFFSETFROM:-0700
TZOFFSETTO:-0600
TZNAME:MDT
DTSTART:20250309T090000
END:DAYLIGHT
BEGIN:STANDARD
TZOFFSETFROM:-0600
TZOFFSETTO:-0700
TZNAME:MST
DTSTART:20251102T080000
END:STANDARD
END:VTIMEZONE
BEGIN:VEVENT
DTSTART;TZID=America/Edmonton:20240228T160000
DTEND;TZID=America/Edmonton:20240228T173000
DTSTAMP:20260421T061238
CREATED:20231207T021525Z
LAST-MODIFIED:20251210T185600Z
UID:10000419-1709136000-1709141400@sinneavefoundation.org
SUMMARY:Skills Group: Executive Functioning (EF)
DESCRIPTION:Registration for our January-February Skills Groups is now closed.  \nWe offer Skills Groups every quarter. We open applications for each group approximately 4 weeks in advance of the start dates. When the application window opens\, you can find a live link on this page as well as on our Event Calendar\, which you can access by clicking HERE. When you click the live link\, you will be directed to an application form to complete. Once your form is submitted\, a staff member will follow up with you. If there is not a link\, we are not currently accepting applications. \n\nSkills Groups are skill development workshops that are facilitated by two Sinneave staff members (one is an autistic self-advocate). In each 90-minute workshop\, participants learn a variety of strategies that are foundational to success in various aspects of daily life. They are then given opportunities to practice the strategies with the support of the facilitators and other group members. \nSkills Group sessions happen once a week for six consecutive weeks. The next Executive Functioning group begins Wednesday\, January 31 and runs through March 6\, 2024. \nDo you: \n\nStruggle with unexpected changes?\nHave trouble getting started\, or maybe have trouble stopping things you like to do when it’s time to do something you don’t like to do?\nHave you ever avoided an experience or a person because of your anxiety?\nHow about when you have a great idea\, but have trouble creating and acting on a plan to get it done.\n\nIf so\, learning more about Executive Functioning (EF) may be for you. Research has shown us that the skills underlying Executive Functioning can be taught\, practiced and improved on. When EF Skills are working\, we tend to be happier and more productive. \nWe are excited to invite self-advocates and individuals who identify as autistic to attend this six part workshop on Executive Functioning (EF). We will discuss and practice skills including: Cognitive Flexibility\, Getting Started\, Staying Present\, Bringing your Anxiety along for the Ride\, and Organization/Planning. \nParticipants will learn about the importance of EF and how to improve EF skills through specific practice within a safe and supportive environment. \nPlease note: Skills Groups are closed groups with a limited number of participants to allow for the greatest participation. They are filled by application only. These are not drop-in sessions. \nTo learn more about Skills Groups\, visit our website\, by clicking HERE.
URL:https://sinneavefoundation.org/event/skills-group-executive-functioning-ef-2/2024-02-28/
LOCATION:The Ability Hub\, Suite #300\, 3820 - 24th Avenue NW|Suite #300\, 3820 – 24th Avenue NW|Suite #300\, 3820 – 24th Avenue NW|Suite #300\, 3820 – 24th Avenue NW\, Calgary\, Alberta\, T3B-2X9|T3B-2X9|T3B-2X9|T3B-2X9\, Canada
CATEGORIES:Skills Groups
ATTACH;FMTTYPE=image/png:https://sinneavefoundation.org/wp-content/uploads/2024/06/Skills-Group-Q1-EF.png
GEO:51.0747716|51.0747716|51.0747716|51.0747716;-114.1439694|-114.1439694|-114.1439694|-114.1439694
X-APPLE-STRUCTURED-LOCATION;VALUE=URI;X-ADDRESS=The Ability Hub Suite #300 3820 - 24th Avenue NW|Suite #300 3820 – 24th Avenue NW|Suite #300 3820 – 24th Avenue NW|Suite #300 3820 – 24th Avenue NW Calgary Alberta T3B-2X9|T3B-2X9|T3B-2X9|T3B-2X9 Canada;X-APPLE-RADIUS=500;X-TITLE=Suite #300\, 3820 - 24th Avenue NW|Suite #300\, 3820 – 24th Avenue NW|Suite #300\, 3820 – 24th Avenue NW|Suite #300\, 3820 – 24th Avenue NW:geo:-114.1439694|-114.1439694|-114.1439694|-114.1439694,51.0747716|51.0747716|51.0747716|51.0747716
END:VEVENT
BEGIN:VEVENT
DTSTART;TZID=America/Edmonton:20240228T160000
DTEND;TZID=America/Edmonton:20240228T173000
DTSTAMP:20260421T061238
CREATED:20231207T021525Z
LAST-MODIFIED:20231207T021525Z
UID:10000424-1709136000-1709141400@sinneavefoundation.org
SUMMARY:Skills Group: Executive Functioning (EF)
DESCRIPTION:Registration for our January-February Skills Groups is now closed.  \nWe offer Skills Groups every quarter. We open applications for each group approximately 4 weeks in advance of the start dates. When the application window opens\, you can find a live link on this page as well as on our Event Calendar\, which you can access by clicking HERE. When you click the live link\, you will be directed to an application form to complete. Once your form is submitted\, a staff member will follow up with you. If there is not a link\, we are not currently accepting applications. \n\nSkills Groups are skill development workshops that are facilitated by two Sinneave staff members (one is an autistic self-advocate). In each 90-minute workshop\, participants learn a variety of strategies that are foundational to success in various aspects of daily life. They are then given opportunities to practice the strategies with the support of the facilitators and other group members. \nSkills Group sessions happen once a week for six consecutive weeks. The next Executive Functioning group begins Wednesday\, January 31 and runs through March 6\, 2024. \nDo you: \n\nStruggle with unexpected changes?\nHave trouble getting started\, or maybe have trouble stopping things you like to do when it’s time to do something you don’t like to do?\nHave you ever avoided an experience or a person because of your anxiety?\nHow about when you have a great idea\, but have trouble creating and acting on a plan to get it done.\n\nIf so\, learning more about Executive Functioning (EF) may be for you. Research has shown us that the skills underlying Executive Functioning can be taught\, practiced and improved on. When EF Skills are working\, we tend to be happier and more productive. \nWe are excited to invite self-advocates and individuals who identify as autistic to attend this six part workshop on Executive Functioning (EF). We will discuss and practice skills including: Cognitive Flexibility\, Getting Started\, Staying Present\, Bringing your Anxiety along for the Ride\, and Organization/Planning. \nParticipants will learn about the importance of EF and how to improve EF skills through specific practice within a safe and supportive environment. \nPlease note: Skills Groups are closed groups with a limited number of participants to allow for the greatest participation. They are filled by application only. These are not drop-in sessions. \nTo learn more about Skills Groups\, visit our website\, by clicking HERE.
URL:https://sinneavefoundation.org/event/skills-group-executive-functioning-ef-2/2024-02-28/
LOCATION:The Ability Hub\, Suite #300\, 3820 - 24th Avenue NW|Suite #300\, 3820 – 24th Avenue NW|Suite #300\, 3820 – 24th Avenue NW|Suite #300\, 3820 – 24th Avenue NW\, Calgary\, Alberta\, T3B-2X9|T3B-2X9|T3B-2X9|T3B-2X9\, Canada
CATEGORIES:Skills Groups
ATTACH;FMTTYPE=image/png:https://sinneavefoundation.org/wp-content/uploads/2024/06/Skills-Group-Q1-EF.png
GEO:51.0747716|51.0747716|51.0747716|51.0747716;-114.1439694|-114.1439694|-114.1439694|-114.1439694
X-APPLE-STRUCTURED-LOCATION;VALUE=URI;X-ADDRESS=The Ability Hub Suite #300 3820 - 24th Avenue NW|Suite #300 3820 – 24th Avenue NW|Suite #300 3820 – 24th Avenue NW|Suite #300 3820 – 24th Avenue NW Calgary Alberta T3B-2X9|T3B-2X9|T3B-2X9|T3B-2X9 Canada;X-APPLE-RADIUS=500;X-TITLE=Suite #300\, 3820 - 24th Avenue NW|Suite #300\, 3820 – 24th Avenue NW|Suite #300\, 3820 – 24th Avenue NW|Suite #300\, 3820 – 24th Avenue NW:geo:-114.1439694|-114.1439694|-114.1439694|-114.1439694,51.0747716|51.0747716|51.0747716|51.0747716
END:VEVENT
BEGIN:VEVENT
DTSTART;TZID=America/Edmonton:20240228T160000
DTEND;TZID=America/Edmonton:20240228T173000
DTSTAMP:20260421T061238
CREATED:20231207T021525Z
LAST-MODIFIED:20231207T021525Z
UID:10000428-1709136000-1709141400@sinneavefoundation.org
SUMMARY:Skills Group: Executive Functioning (EF)
DESCRIPTION:Registration for our January-February Skills Groups is now closed.  \nWe offer Skills Groups every quarter. We open applications for each group approximately 4 weeks in advance of the start dates. When the application window opens\, you can find a live link on this page as well as on our Event Calendar\, which you can access by clicking HERE. When you click the live link\, you will be directed to an application form to complete. Once your form is submitted\, a staff member will follow up with you. If there is not a link\, we are not currently accepting applications. \n\nSkills Groups are skill development workshops that are facilitated by two Sinneave staff members (one is an autistic self-advocate). In each 90-minute workshop\, participants learn a variety of strategies that are foundational to success in various aspects of daily life. They are then given opportunities to practice the strategies with the support of the facilitators and other group members. \nSkills Group sessions happen once a week for six consecutive weeks. The next Executive Functioning group begins Wednesday\, January 31 and runs through March 6\, 2024. \nDo you: \n\nStruggle with unexpected changes?\nHave trouble getting started\, or maybe have trouble stopping things you like to do when it’s time to do something you don’t like to do?\nHave you ever avoided an experience or a person because of your anxiety?\nHow about when you have a great idea\, but have trouble creating and acting on a plan to get it done.\n\nIf so\, learning more about Executive Functioning (EF) may be for you. Research has shown us that the skills underlying Executive Functioning can be taught\, practiced and improved on. When EF Skills are working\, we tend to be happier and more productive. \nWe are excited to invite self-advocates and individuals who identify as autistic to attend this six part workshop on Executive Functioning (EF). We will discuss and practice skills including: Cognitive Flexibility\, Getting Started\, Staying Present\, Bringing your Anxiety along for the Ride\, and Organization/Planning. \nParticipants will learn about the importance of EF and how to improve EF skills through specific practice within a safe and supportive environment. \nPlease note: Skills Groups are closed groups with a limited number of participants to allow for the greatest participation. They are filled by application only. These are not drop-in sessions. \nTo learn more about Skills Groups\, visit our website\, by clicking HERE.
URL:https://sinneavefoundation.org/event/skills-group-executive-functioning-ef-2/2024-02-28/
LOCATION:The Ability Hub\, Suite #300\, 3820 - 24th Avenue NW|Suite #300\, 3820 – 24th Avenue NW|Suite #300\, 3820 – 24th Avenue NW|Suite #300\, 3820 – 24th Avenue NW\, Calgary\, Alberta\, T3B-2X9|T3B-2X9|T3B-2X9|T3B-2X9\, Canada
CATEGORIES:Skills Groups
ATTACH;FMTTYPE=image/png:https://sinneavefoundation.org/wp-content/uploads/2024/06/Skills-Group-Q1-EF.png
GEO:51.0747716|51.0747716|51.0747716|51.0747716;-114.1439694|-114.1439694|-114.1439694|-114.1439694
X-APPLE-STRUCTURED-LOCATION;VALUE=URI;X-ADDRESS=The Ability Hub Suite #300 3820 - 24th Avenue NW|Suite #300 3820 – 24th Avenue NW|Suite #300 3820 – 24th Avenue NW|Suite #300 3820 – 24th Avenue NW Calgary Alberta T3B-2X9|T3B-2X9|T3B-2X9|T3B-2X9 Canada;X-APPLE-RADIUS=500;X-TITLE=Suite #300\, 3820 - 24th Avenue NW|Suite #300\, 3820 – 24th Avenue NW|Suite #300\, 3820 – 24th Avenue NW|Suite #300\, 3820 – 24th Avenue NW:geo:-114.1439694|-114.1439694|-114.1439694|-114.1439694,51.0747716|51.0747716|51.0747716|51.0747716
END:VEVENT
BEGIN:VEVENT
DTSTART;TZID=America/Edmonton:20240228T160000
DTEND;TZID=America/Edmonton:20240228T173000
DTSTAMP:20260421T061238
CREATED:20231207T021525Z
LAST-MODIFIED:20231207T021525Z
UID:10000431-1709136000-1709141400@sinneavefoundation.org
SUMMARY:Skills Group: Executive Functioning (EF)
DESCRIPTION:Registration for our January-February Skills Groups is now closed.  \nWe offer Skills Groups every quarter. We open applications for each group approximately 4 weeks in advance of the start dates. When the application window opens\, you can find a live link on this page as well as on our Event Calendar\, which you can access by clicking HERE. When you click the live link\, you will be directed to an application form to complete. Once your form is submitted\, a staff member will follow up with you. If there is not a link\, we are not currently accepting applications. \n\nSkills Groups are skill development workshops that are facilitated by two Sinneave staff members (one is an autistic self-advocate). In each 90-minute workshop\, participants learn a variety of strategies that are foundational to success in various aspects of daily life. They are then given opportunities to practice the strategies with the support of the facilitators and other group members. \nSkills Group sessions happen once a week for six consecutive weeks. The next Executive Functioning group begins Wednesday\, January 31 and runs through March 6\, 2024. \nDo you: \n\nStruggle with unexpected changes?\nHave trouble getting started\, or maybe have trouble stopping things you like to do when it’s time to do something you don’t like to do?\nHave you ever avoided an experience or a person because of your anxiety?\nHow about when you have a great idea\, but have trouble creating and acting on a plan to get it done.\n\nIf so\, learning more about Executive Functioning (EF) may be for you. Research has shown us that the skills underlying Executive Functioning can be taught\, practiced and improved on. When EF Skills are working\, we tend to be happier and more productive. \nWe are excited to invite self-advocates and individuals who identify as autistic to attend this six part workshop on Executive Functioning (EF). We will discuss and practice skills including: Cognitive Flexibility\, Getting Started\, Staying Present\, Bringing your Anxiety along for the Ride\, and Organization/Planning. \nParticipants will learn about the importance of EF and how to improve EF skills through specific practice within a safe and supportive environment. \nPlease note: Skills Groups are closed groups with a limited number of participants to allow for the greatest participation. They are filled by application only. These are not drop-in sessions. \nTo learn more about Skills Groups\, visit our website\, by clicking HERE.
URL:https://sinneavefoundation.org/event/skills-group-executive-functioning-ef-2/2024-02-28/
LOCATION:The Ability Hub\, Suite #300\, 3820 - 24th Avenue NW|Suite #300\, 3820 – 24th Avenue NW|Suite #300\, 3820 – 24th Avenue NW|Suite #300\, 3820 – 24th Avenue NW\, Calgary\, Alberta\, T3B-2X9|T3B-2X9|T3B-2X9|T3B-2X9\, Canada
CATEGORIES:Skills Groups
ATTACH;FMTTYPE=image/png:https://sinneavefoundation.org/wp-content/uploads/2024/06/Skills-Group-Q1-EF.png
GEO:51.0747716|51.0747716|51.0747716|51.0747716;-114.1439694|-114.1439694|-114.1439694|-114.1439694
X-APPLE-STRUCTURED-LOCATION;VALUE=URI;X-ADDRESS=The Ability Hub Suite #300 3820 - 24th Avenue NW|Suite #300 3820 – 24th Avenue NW|Suite #300 3820 – 24th Avenue NW|Suite #300 3820 – 24th Avenue NW Calgary Alberta T3B-2X9|T3B-2X9|T3B-2X9|T3B-2X9 Canada;X-APPLE-RADIUS=500;X-TITLE=Suite #300\, 3820 - 24th Avenue NW|Suite #300\, 3820 – 24th Avenue NW|Suite #300\, 3820 – 24th Avenue NW|Suite #300\, 3820 – 24th Avenue NW:geo:-114.1439694|-114.1439694|-114.1439694|-114.1439694,51.0747716|51.0747716|51.0747716|51.0747716
END:VEVENT
BEGIN:VEVENT
DTSTART;TZID=America/Edmonton:20240228T160000
DTEND;TZID=America/Edmonton:20240228T173000
DTSTAMP:20260421T061238
CREATED:20231207T021525Z
LAST-MODIFIED:20231207T021525Z
UID:10000433-1709136000-1709141400@sinneavefoundation.org
SUMMARY:Skills Group: Executive Functioning (EF)
DESCRIPTION:Registration for our January-February Skills Groups is now closed.  \nWe offer Skills Groups every quarter. We open applications for each group approximately 4 weeks in advance of the start dates. When the application window opens\, you can find a live link on this page as well as on our Event Calendar\, which you can access by clicking HERE. When you click the live link\, you will be directed to an application form to complete. Once your form is submitted\, a staff member will follow up with you. If there is not a link\, we are not currently accepting applications. \n\nSkills Groups are skill development workshops that are facilitated by two Sinneave staff members (one is an autistic self-advocate). In each 90-minute workshop\, participants learn a variety of strategies that are foundational to success in various aspects of daily life. They are then given opportunities to practice the strategies with the support of the facilitators and other group members. \nSkills Group sessions happen once a week for six consecutive weeks. The next Executive Functioning group begins Wednesday\, January 31 and runs through March 6\, 2024. \nDo you: \n\nStruggle with unexpected changes?\nHave trouble getting started\, or maybe have trouble stopping things you like to do when it’s time to do something you don’t like to do?\nHave you ever avoided an experience or a person because of your anxiety?\nHow about when you have a great idea\, but have trouble creating and acting on a plan to get it done.\n\nIf so\, learning more about Executive Functioning (EF) may be for you. Research has shown us that the skills underlying Executive Functioning can be taught\, practiced and improved on. When EF Skills are working\, we tend to be happier and more productive. \nWe are excited to invite self-advocates and individuals who identify as autistic to attend this six part workshop on Executive Functioning (EF). We will discuss and practice skills including: Cognitive Flexibility\, Getting Started\, Staying Present\, Bringing your Anxiety along for the Ride\, and Organization/Planning. \nParticipants will learn about the importance of EF and how to improve EF skills through specific practice within a safe and supportive environment. \nPlease note: Skills Groups are closed groups with a limited number of participants to allow for the greatest participation. They are filled by application only. These are not drop-in sessions. \nTo learn more about Skills Groups\, visit our website\, by clicking HERE.
URL:https://sinneavefoundation.org/event/skills-group-executive-functioning-ef-2/2024-02-28/
LOCATION:The Ability Hub\, Suite #300\, 3820 - 24th Avenue NW|Suite #300\, 3820 – 24th Avenue NW|Suite #300\, 3820 – 24th Avenue NW|Suite #300\, 3820 – 24th Avenue NW\, Calgary\, Alberta\, T3B-2X9|T3B-2X9|T3B-2X9|T3B-2X9\, Canada
CATEGORIES:Skills Groups
ATTACH;FMTTYPE=image/png:https://sinneavefoundation.org/wp-content/uploads/2024/06/Skills-Group-Q1-EF.png
GEO:51.0747716|51.0747716|51.0747716|51.0747716;-114.1439694|-114.1439694|-114.1439694|-114.1439694
X-APPLE-STRUCTURED-LOCATION;VALUE=URI;X-ADDRESS=The Ability Hub Suite #300 3820 - 24th Avenue NW|Suite #300 3820 – 24th Avenue NW|Suite #300 3820 – 24th Avenue NW|Suite #300 3820 – 24th Avenue NW Calgary Alberta T3B-2X9|T3B-2X9|T3B-2X9|T3B-2X9 Canada;X-APPLE-RADIUS=500;X-TITLE=Suite #300\, 3820 - 24th Avenue NW|Suite #300\, 3820 – 24th Avenue NW|Suite #300\, 3820 – 24th Avenue NW|Suite #300\, 3820 – 24th Avenue NW:geo:-114.1439694|-114.1439694|-114.1439694|-114.1439694,51.0747716|51.0747716|51.0747716|51.0747716
END:VEVENT
BEGIN:VEVENT
DTSTART;TZID=America/Edmonton:20240228T173000
DTEND;TZID=America/Edmonton:20240228T190000
DTSTAMP:20260421T061238
CREATED:20240202T012720Z
LAST-MODIFIED:20240905T211605Z
UID:10000505-1709141400-1709146800@sinneavefoundation.org
SUMMARY:Board Game Night - Autism Awareness Club UCalgary
DESCRIPTION:If you enjoy playing board games and hanging out with a great group of people\, you are invited to join the fun! \nThe Autism Awareness Club at University of Calgary  (AACUC) is hosting several Board Game Nights this semester. \nMark your calendar and plan to join in the fun – you don’t have to be a U of C student to participate\, anyone who enjoys games is welcome. \n  \nYou’re invited: \nWednesday\, February 28 \n5:30 – 7:00 p.m. in the café area at the Child Development Centre   \n3820 24th Avenue NW Calgary\, AB (located at the Southeast corner of the University of Calgary campus\, across from the Children’s Hospital and Ronald McDonald House) \n  \nThere is no cost to attend\, however attendees are asked to email autismawarenessucalgary@gmail.com to RSVP so organizers know how many people to expect and prepare for. \nIf you have any questions about this event\, please email autismawarenessucalgary@gmail.com directly. \n  \nOther dates this semester are: \nWednesday\, March 13 \nWednesday\, March 27
URL:https://sinneavefoundation.org/event/board-game-night-autism-awareness-club-ucalgary/
LOCATION:A Little Somethin’ Cafe at the Child Development Centre\, 3820 24 Avenue NW\, Calgary\, Alberta\, T3B 2X9\, Canada
CATEGORIES:Special Events
ATTACH;FMTTYPE=image/png:https://sinneavefoundation.org/wp-content/uploads/2024/06/AACUC-Board-games-Feb-28-2024.png
END:VEVENT
BEGIN:VEVENT
DTSTART;TZID=America/Edmonton:20240228T183000
DTEND;TZID=America/Edmonton:20240228T200000
DTSTAMP:20260421T061238
CREATED:20240215T062053Z
LAST-MODIFIED:20240905T211600Z
UID:10000521-1709145000-1709150400@sinneavefoundation.org
SUMMARY:Preparing for Independent Living: Virtual Panel Discussion
DESCRIPTION:The Autism Housing Network of Alberta (AHNA) have assembled a panel of autistic individuals and parents of autistics to help guide a virtual discussion on Preparing for Independent Living. \nYou’re invited to join in Wednesday\, February 28 at 6:30 p.m. In-person in Edmonton and Calgary or online throughout the rest of the province. \nWhether independent living is your goal or you are simply trying to create an environment to live as independently as possible\, learning from others is key. The more we discuss\, the more we realize that with the path to independent living is within our grasp. \nThe panel will explore and discuss things like: \n\nHow do we skill build as an Autistic individual? \nHow do Autistic individuals learn and grow? \nWhat tools and resources should we use to compliment our journey?\n\n  \nIf you are in Calgary\, join the watch party in-person at The Sinneave Family Foundation (300\, 3820 24 Ave NW) starting at 6:20 p.m. \nTo reserve your spot\, click on the words Calgary Watch Party and secure your free ticket. \n  \nIf you are in the Edmonton area\, join the watch party in-person at Autism Edmonton’s office. 11720 Kingsway NW starting at 6:20 p.m. \nTo reserve your spot\, click on the words Edmonton Watch Party and secure your free ticket. \n  \nTo attend the virtual event\, click the words Virtual Panel Discussion to secure your free ticket. \n\nAHNA is looking for autistics and their support networks to share their stories. Please submit your 2-5 minute video! Telling stories of lived experiences is a great way to share great ideas that can help others take steps towards their goals. For example\, what is one approach that you took that worked to move you or your loved one closer to independent living? \nPlease submit your video to Drewe at housing@autismedmonton.org \n\nMeet our panelists: \nKim Fox is a parent of 21-year-old with complex needs living on the spectrum. She is a past Director of the Autism Society of Alberta and was a part of the Housing Advisory Committee for the Sinneave Family Foundation. She is also the moderator for the Connecting CommUNITY Facebook group. Life planning and preparedness for independence have become a focal point in her journey supporting her daughter. \nDebbie Bocian is the parent of an Autistic 36 year-old who is also challenged with OCD. She is a retired Special Education teacher. As an Elder in her Church\, she became involved with the St. Albert Independent Living Association. Debbie seeks to create “a wonderful\, supportive place where Adults on the Autism Spectrum can live very happy\, social\, independent lives.” \nKyle Lobb is the Vice President of the Autism Independent Living Association (AILA). He is an Autistic adult who is preparing for independent living. Kyle attends Grant MacEwan University and works part-time. He intends on moving out when his finances align with his educational aspirations and has been working towards independent living in the interim. \n 
URL:https://sinneavefoundation.org/event/preparing-for-independent-living-virtual-panel-discussion/
LOCATION:Hybrid: The Ability Hub and Online\, 300\, 3820 24th Avenue NW\, Calgary\, Alberta\, T3B 2X9\, Canada
CATEGORIES:Presentation
ATTACH;FMTTYPE=image/png:https://sinneavefoundation.org/wp-content/uploads/2024/06/AHNA-Feb-28-2024.png
END:VEVENT
END:VCALENDAR