BEGIN:VCALENDAR
VERSION:2.0
PRODID:-//Sinneave Foundation - ECPv6.15.19//NONSGML v1.0//EN
CALSCALE:GREGORIAN
METHOD:PUBLISH
X-ORIGINAL-URL:https://sinneavefoundation.org
X-WR-CALDESC:Events for Sinneave Foundation
REFRESH-INTERVAL;VALUE=DURATION:PT1H
X-Robots-Tag:noindex
X-PUBLISHED-TTL:PT1H
BEGIN:VTIMEZONE
TZID:America/Edmonton
BEGIN:DAYLIGHT
TZOFFSETFROM:-0700
TZOFFSETTO:-0600
TZNAME:MDT
DTSTART:20230312T090000
END:DAYLIGHT
BEGIN:STANDARD
TZOFFSETFROM:-0600
TZOFFSETTO:-0700
TZNAME:MST
DTSTART:20231105T080000
END:STANDARD
BEGIN:DAYLIGHT
TZOFFSETFROM:-0700
TZOFFSETTO:-0600
TZNAME:MDT
DTSTART:20240310T090000
END:DAYLIGHT
BEGIN:STANDARD
TZOFFSETFROM:-0600
TZOFFSETTO:-0700
TZNAME:MST
DTSTART:20241103T080000
END:STANDARD
BEGIN:DAYLIGHT
TZOFFSETFROM:-0700
TZOFFSETTO:-0600
TZNAME:MDT
DTSTART:20250309T090000
END:DAYLIGHT
BEGIN:STANDARD
TZOFFSETFROM:-0600
TZOFFSETTO:-0700
TZNAME:MST
DTSTART:20251102T080000
END:STANDARD
END:VTIMEZONE
BEGIN:VEVENT
DTSTART;TZID=America/Edmonton:20240318T080000
DTEND;TZID=America/Edmonton:20240324T170000
DTSTAMP:20260421T075429
CREATED:20240312T213339Z
LAST-MODIFIED:20240905T211520Z
UID:10000584-1710748800-1711299600@sinneavefoundation.org
SUMMARY:Neurodiversity Celebration Week
DESCRIPTION:
URL:https://sinneavefoundation.org/event/neurodiversity-celebration-week/
LOCATION:Alberta
CATEGORIES:Special Events
END:VEVENT
BEGIN:VEVENT
DTSTART;TZID=America/Edmonton:20240319T130000
DTEND;TZID=America/Edmonton:20240319T143000
DTSTAMP:20260421T075429
CREATED:20240214T063820Z
LAST-MODIFIED:20251210T181703Z
UID:10000513-1710853200-1710858600@sinneavefoundation.org
SUMMARY:Drop-in Employment Support
DESCRIPTION:Our weekly Drop-in Employment Support Workshops continue in March! Attendees will benefit from connecting with experienced professionals who understand neurodiversity and will help identify your strengths\, interests\, and potential career paths. Whether you have a formal diagnosis or not\, if you’re an autistic or neurodivergent individual who is interested in improving your job prospects\, consider stopping by. \nTuesdays\, March 5\, 12\, 19\, & 26\, 2024 \n1:00 – 2:30 p.m. \nat The Ability Hub (300\, 3820 24 Avenue NW) \nThere is no formal agenda. Participants are welcome to bring their curiosity and questions\, resumes\, and cover letters. Our employment specialists will focus on working with you as you identify priority areas for support. This could include developing essential pre-employment skills\, such as: \n\ncreating an effective resume\nlearning and practicing interview techniques\njob search strategies\n\nOr\, working on post-employment support such as: \n\nworkplace communication\nasking for accommodations\nand more!\n\nReceive personalized guidance and learn more about how to successfully navigate the job search journey and the world of work. \nOur goal is to create an inclusive and supportive environment where neurodivergent individuals can access resources\, gain valuable insights\, and enhance their employability\, confidence\, and career prospects. \nThere is no cost for these sessions and you don’t need to register in advance\, just drop-in. We hope to see you there! \nDue to the interactive nature of these sessions\, they are currently offered in-person only. You don’t need an appointment or to register\, just drop-in between 1:00 and 2:30 p.m. \nAbout the Presenters: Meet the Sinneave Employment Team: Marcela\, Sherry\, and Ryan. They are a dedicated group of professionals committed to empowering neurodivergent individuals on their journeys towards meaningful employment and cneurodiversitareer success.
URL:https://sinneavefoundation.org/event/drop-in-employment-support-14/2024-03-19/
LOCATION:The Ability Hub\, Suite #300\, 3820 - 24th Avenue NW|Suite #300\, 3820 – 24th Avenue NW|Suite #300\, 3820 – 24th Avenue NW|Suite #300\, 3820 – 24th Avenue NW\, Calgary\, Alberta\, T3B-2X9|T3B-2X9|T3B-2X9|T3B-2X9\, Canada
CATEGORIES:Learning & Connection Activity,Workshops
ATTACH;FMTTYPE=image/jpeg:https://sinneavefoundation.org/wp-content/uploads/2024/06/March-empl-drop-in-scaled-1.jpg
GEO:51.0747716|51.0747716|51.0747716|51.0747716;-114.1439694|-114.1439694|-114.1439694|-114.1439694
X-APPLE-STRUCTURED-LOCATION;VALUE=URI;X-ADDRESS=The Ability Hub Suite #300 3820 - 24th Avenue NW|Suite #300 3820 – 24th Avenue NW|Suite #300 3820 – 24th Avenue NW|Suite #300 3820 – 24th Avenue NW Calgary Alberta T3B-2X9|T3B-2X9|T3B-2X9|T3B-2X9 Canada;X-APPLE-RADIUS=500;X-TITLE=Suite #300\, 3820 - 24th Avenue NW|Suite #300\, 3820 – 24th Avenue NW|Suite #300\, 3820 – 24th Avenue NW|Suite #300\, 3820 – 24th Avenue NW:geo:-114.1439694|-114.1439694|-114.1439694|-114.1439694,51.0747716|51.0747716|51.0747716|51.0747716
END:VEVENT
BEGIN:VEVENT
DTSTART;TZID=America/Edmonton:20240319T130000
DTEND;TZID=America/Edmonton:20240319T143000
DTSTAMP:20260421T075429
CREATED:20240214T063820Z
LAST-MODIFIED:20240214T063820Z
UID:10000516-1710853200-1710858600@sinneavefoundation.org
SUMMARY:Drop-in Employment Support
DESCRIPTION:Our weekly Drop-in Employment Support Workshops continue in March! Attendees will benefit from connecting with experienced professionals who understand neurodiversity and will help identify your strengths\, interests\, and potential career paths. Whether you have a formal diagnosis or not\, if you’re an autistic or neurodivergent individual who is interested in improving your job prospects\, consider stopping by. \nTuesdays\, March 5\, 12\, 19\, & 26\, 2024 \n1:00 – 2:30 p.m. \nat The Ability Hub (300\, 3820 24 Avenue NW) \nThere is no formal agenda. Participants are welcome to bring their curiosity and questions\, resumes\, and cover letters. Our employment specialists will focus on working with you as you identify priority areas for support. This could include developing essential pre-employment skills\, such as: \n\ncreating an effective resume\nlearning and practicing interview techniques\njob search strategies\n\nOr\, working on post-employment support such as: \n\nworkplace communication\nasking for accommodations\nand more!\n\nReceive personalized guidance and learn more about how to successfully navigate the job search journey and the world of work. \nOur goal is to create an inclusive and supportive environment where neurodivergent individuals can access resources\, gain valuable insights\, and enhance their employability\, confidence\, and career prospects. \nThere is no cost for these sessions and you don’t need to register in advance\, just drop-in. We hope to see you there! \nDue to the interactive nature of these sessions\, they are currently offered in-person only. You don’t need an appointment or to register\, just drop-in between 1:00 and 2:30 p.m. \nAbout the Presenters: Meet the Sinneave Employment Team: Marcela\, Sherry\, and Ryan. They are a dedicated group of professionals committed to empowering neurodivergent individuals on their journeys towards meaningful employment and cneurodiversitareer success.
URL:https://sinneavefoundation.org/event/drop-in-employment-support-14/2024-03-19/
LOCATION:The Ability Hub\, Suite #300\, 3820 - 24th Avenue NW|Suite #300\, 3820 – 24th Avenue NW|Suite #300\, 3820 – 24th Avenue NW|Suite #300\, 3820 – 24th Avenue NW\, Calgary\, Alberta\, T3B-2X9|T3B-2X9|T3B-2X9|T3B-2X9\, Canada
CATEGORIES:Learning & Connection Activity,Workshops
ATTACH;FMTTYPE=image/jpeg:https://sinneavefoundation.org/wp-content/uploads/2024/06/March-empl-drop-in-scaled-1.jpg
GEO:51.0747716|51.0747716|51.0747716|51.0747716;-114.1439694|-114.1439694|-114.1439694|-114.1439694
X-APPLE-STRUCTURED-LOCATION;VALUE=URI;X-ADDRESS=The Ability Hub Suite #300 3820 - 24th Avenue NW|Suite #300 3820 – 24th Avenue NW|Suite #300 3820 – 24th Avenue NW|Suite #300 3820 – 24th Avenue NW Calgary Alberta T3B-2X9|T3B-2X9|T3B-2X9|T3B-2X9 Canada;X-APPLE-RADIUS=500;X-TITLE=Suite #300\, 3820 - 24th Avenue NW|Suite #300\, 3820 – 24th Avenue NW|Suite #300\, 3820 – 24th Avenue NW|Suite #300\, 3820 – 24th Avenue NW:geo:-114.1439694|-114.1439694|-114.1439694|-114.1439694,51.0747716|51.0747716|51.0747716|51.0747716
END:VEVENT
BEGIN:VEVENT
DTSTART;TZID=America/Edmonton:20240319T130000
DTEND;TZID=America/Edmonton:20240319T143000
DTSTAMP:20260421T075429
CREATED:20240214T063822Z
LAST-MODIFIED:20240214T063822Z
UID:10000518-1710853200-1710858600@sinneavefoundation.org
SUMMARY:Drop-in Employment Support
DESCRIPTION:Our weekly Drop-in Employment Support Workshops continue in March! Attendees will benefit from connecting with experienced professionals who understand neurodiversity and will help identify your strengths\, interests\, and potential career paths. Whether you have a formal diagnosis or not\, if you’re an autistic or neurodivergent individual who is interested in improving your job prospects\, consider stopping by. \nTuesdays\, March 5\, 12\, 19\, & 26\, 2024 \n1:00 – 2:30 p.m. \nat The Ability Hub (300\, 3820 24 Avenue NW) \nThere is no formal agenda. Participants are welcome to bring their curiosity and questions\, resumes\, and cover letters. Our employment specialists will focus on working with you as you identify priority areas for support. This could include developing essential pre-employment skills\, such as: \n\ncreating an effective resume\nlearning and practicing interview techniques\njob search strategies\n\nOr\, working on post-employment support such as: \n\nworkplace communication\nasking for accommodations\nand more!\n\nReceive personalized guidance and learn more about how to successfully navigate the job search journey and the world of work. \nOur goal is to create an inclusive and supportive environment where neurodivergent individuals can access resources\, gain valuable insights\, and enhance their employability\, confidence\, and career prospects. \nThere is no cost for these sessions and you don’t need to register in advance\, just drop-in. We hope to see you there! \nDue to the interactive nature of these sessions\, they are currently offered in-person only. You don’t need an appointment or to register\, just drop-in between 1:00 and 2:30 p.m. \nAbout the Presenters: Meet the Sinneave Employment Team: Marcela\, Sherry\, and Ryan. They are a dedicated group of professionals committed to empowering neurodivergent individuals on their journeys towards meaningful employment and cneurodiversitareer success.
URL:https://sinneavefoundation.org/event/drop-in-employment-support-14/2024-03-19/
LOCATION:The Ability Hub\, Suite #300\, 3820 - 24th Avenue NW|Suite #300\, 3820 – 24th Avenue NW|Suite #300\, 3820 – 24th Avenue NW|Suite #300\, 3820 – 24th Avenue NW\, Calgary\, Alberta\, T3B-2X9|T3B-2X9|T3B-2X9|T3B-2X9\, Canada
CATEGORIES:Learning & Connection Activity,Workshops
ATTACH;FMTTYPE=image/jpeg:https://sinneavefoundation.org/wp-content/uploads/2024/06/March-empl-drop-in-scaled-1.jpg
GEO:51.0747716|51.0747716|51.0747716|51.0747716;-114.1439694|-114.1439694|-114.1439694|-114.1439694
X-APPLE-STRUCTURED-LOCATION;VALUE=URI;X-ADDRESS=The Ability Hub Suite #300 3820 - 24th Avenue NW|Suite #300 3820 – 24th Avenue NW|Suite #300 3820 – 24th Avenue NW|Suite #300 3820 – 24th Avenue NW Calgary Alberta T3B-2X9|T3B-2X9|T3B-2X9|T3B-2X9 Canada;X-APPLE-RADIUS=500;X-TITLE=Suite #300\, 3820 - 24th Avenue NW|Suite #300\, 3820 – 24th Avenue NW|Suite #300\, 3820 – 24th Avenue NW|Suite #300\, 3820 – 24th Avenue NW:geo:-114.1439694|-114.1439694|-114.1439694|-114.1439694,51.0747716|51.0747716|51.0747716|51.0747716
END:VEVENT
BEGIN:VEVENT
DTSTART;TZID=America/Edmonton:20240319T160000
DTEND;TZID=America/Edmonton:20240319T170000
DTSTAMP:20260421T075429
CREATED:20240312T031247Z
LAST-MODIFIED:20260309T210224Z
UID:10000583-1710864000-1710867600@sinneavefoundation.org
SUMMARY:Celebrating Autism during Neurodiversity Celebration Week
DESCRIPTION:We’re kicking off Neurodiversity Celebration Week with a celebration of all things Autism and you’re invited!\n\nWhen we read or search about Autism online\, one thing we notice is that a lot of the information uses negative-based and disability-focused language. Words like “inflexible”\, “rigid”\, “lack of” and “difficulty “are commonly found alongside the definitions of Autism.\n\nHowever\, we know that the medical model of disability which uses those terms doesn’t tell the whole story.\n\nAt The Sinneave Family Foundation\, we are focused on changing the perception and language around Autism\, starting with celebrating the many positive traits and characteristics common among Autistics and empowering those individuals to embrace who they are and what they have to offer.\n\nIn this celebration\, we will shift the views on Autism towards the positives\, amplify the strength and vibrancy of the Autistic culture\, and ways we can support Autism inclusion in the workplace and in life. The event will include a short presentation\, information sharing\, and discussion in a safe and welcoming small group environment.\n\nTuesday\, March 19\, 2024\n\n4:00 – 5:00 p.m.\n\nat The Ability Hub (300\, 3820 24th Avenue NW Calgary\, AB) OR virtually via Sinneave Connects\, our online learning platform.\n\nIf you already have a Sinneave Connects account\, just log in as usual. If you haven’t yet opened an account\, it’s easy! Click the button below that says\, “Celebrating Autism! – Jan 4” to be directed to the portal and follow the prompts.\n\n 	Pick a user name\n 	Pick a password (Don’t forget to record it somewhere safe for next time!)\n 	Select “Register”\n 	Choose “Celebrating Autism! – Mar 19” and enroll.\n\nCelebrating Autism! – Mar 19\n\nPlease note: While advance registration is not necessary for most of our Learning & Connection activities (you are welcome to just pop-in)\, IF you do pre-register it helps us in our planning AND allows us to notify you in the event of a last-minute change or cancellation. Either way\, we’d love to see you!\n\nAbout the Presenter: Sherry Taylor has over 15 years of experience in the not-for-profit industry. She currently is the Program Coordinator with the EmploymentWorks program at Sinneave. She started working with the EW Online program and made the transition to the in-person program continuously developing curriculum and content for Autistic youth\, adults\, and persons with disabilities\, and professionals.\n\nIf you have any questions about this session\, please contact us by emailing info@sinneavefoundation.org or calling 403 210-5000.\n\nP.S. Did you know there’s a quick access button to Sinneave Connects in the upper right corner of our Homepage.
URL:https://sinneavefoundation.org/event/celebrating-autism-during-neurodiversity-celebration-week/
LOCATION:Hybrid: The Ability Hub and Online\, 300\, 3820 24th Avenue NW\, Calgary\, Alberta\, T3B 2X9\, Canada
CATEGORIES:Learning & Connection Activity
ATTACH;FMTTYPE=image/png:https://sinneavefoundation.org/wp-content/uploads/2024/06/Celebrating-Autism-Mar-2024-v2.png
END:VEVENT
BEGIN:VEVENT
DTSTART;TZID=America/Edmonton:20240319T160000
DTEND;TZID=America/Edmonton:20240319T173000
DTSTAMP:20260421T075429
CREATED:20240229T230209Z
LAST-MODIFIED:20251209T202148Z
UID:10000522-1710864000-1710869400@sinneavefoundation.org
SUMMARY:Skills Group: Acceptance & Commitment Training (ACT)
DESCRIPTION:The Spring 2024 Acceptance & Commitment Training Skills Group is FULL. Please note: This is a closed group\, not an open event. \nRegistration for the next Skills Groups will open in the summer. Stay tuned to our Event Calendar and Social Media channels for updates. \n\n 
URL:https://sinneavefoundation.org/event/skills-group-acceptance-commitment-training-act-3/2024-03-19/
LOCATION:The Ability Hub\, Suite #300\, 3820 - 24th Avenue NW|Suite #300\, 3820 – 24th Avenue NW|Suite #300\, 3820 – 24th Avenue NW|Suite #300\, 3820 – 24th Avenue NW\, Calgary\, Alberta\, T3B-2X9|T3B-2X9|T3B-2X9|T3B-2X9\, Canada
CATEGORIES:Skills Groups
ATTACH;FMTTYPE=image/png:https://sinneavefoundation.org/wp-content/uploads/2024/06/Skills-Group-Q2-ACT.png
GEO:51.0747716|51.0747716|51.0747716|51.0747716;-114.1439694|-114.1439694|-114.1439694|-114.1439694
X-APPLE-STRUCTURED-LOCATION;VALUE=URI;X-ADDRESS=The Ability Hub Suite #300 3820 - 24th Avenue NW|Suite #300 3820 – 24th Avenue NW|Suite #300 3820 – 24th Avenue NW|Suite #300 3820 – 24th Avenue NW Calgary Alberta T3B-2X9|T3B-2X9|T3B-2X9|T3B-2X9 Canada;X-APPLE-RADIUS=500;X-TITLE=Suite #300\, 3820 - 24th Avenue NW|Suite #300\, 3820 – 24th Avenue NW|Suite #300\, 3820 – 24th Avenue NW|Suite #300\, 3820 – 24th Avenue NW:geo:-114.1439694|-114.1439694|-114.1439694|-114.1439694,51.0747716|51.0747716|51.0747716|51.0747716
END:VEVENT
END:VCALENDAR