BEGIN:VCALENDAR
VERSION:2.0
PRODID:-//Sinneave Foundation - ECPv6.15.19//NONSGML v1.0//EN
CALSCALE:GREGORIAN
METHOD:PUBLISH
X-ORIGINAL-URL:https://sinneavefoundation.org
X-WR-CALDESC:Events for Sinneave Foundation
REFRESH-INTERVAL;VALUE=DURATION:PT1H
X-Robots-Tag:noindex
X-PUBLISHED-TTL:PT1H
BEGIN:VTIMEZONE
TZID:America/Edmonton
BEGIN:DAYLIGHT
TZOFFSETFROM:-0700
TZOFFSETTO:-0600
TZNAME:MDT
DTSTART:20230312T090000
END:DAYLIGHT
BEGIN:STANDARD
TZOFFSETFROM:-0600
TZOFFSETTO:-0700
TZNAME:MST
DTSTART:20231105T080000
END:STANDARD
BEGIN:DAYLIGHT
TZOFFSETFROM:-0700
TZOFFSETTO:-0600
TZNAME:MDT
DTSTART:20240310T090000
END:DAYLIGHT
BEGIN:STANDARD
TZOFFSETFROM:-0600
TZOFFSETTO:-0700
TZNAME:MST
DTSTART:20241103T080000
END:STANDARD
BEGIN:DAYLIGHT
TZOFFSETFROM:-0700
TZOFFSETTO:-0600
TZNAME:MDT
DTSTART:20250309T090000
END:DAYLIGHT
BEGIN:STANDARD
TZOFFSETFROM:-0600
TZOFFSETTO:-0700
TZNAME:MST
DTSTART:20251102T080000
END:STANDARD
END:VTIMEZONE
BEGIN:VEVENT
DTSTART;TZID=America/Edmonton:20240402T110000
DTEND;TZID=America/Edmonton:20240402T140000
DTSTAMP:20260421T075211
CREATED:20240301T034608Z
LAST-MODIFIED:20240905T211446Z
UID:10000581-1712055600-1712066400@sinneavefoundation.org
SUMMARY:YYC Autism Awareness & Acceptance Day
DESCRIPTION:YYC World Autism Acceptance Day is April 2!\n\nYYC World Autism Awareness (& Acceptance) Day (YYC WAAD) in Calgary has grown to be the largest of its kind in Canada! 2024 marks the 11th annual celebration and we are excited to celebrate\, raise awareness and promote acceptance everywhere. The event is free for all ages\, and you are invited!\n\nHosted by Autism Calgary and Autism Aspergers Friendship Society (AAFS) Calgary\, this event brings together local leading autism- and disability-serving agencies and educational organizations\, all onsite showcasing their programs and services.\n\nYou can expect food trucks\, facing painting\, an art station\, and performers on the spectrum during the event. Plus…we’re planning a few new things that will appeal to young adults too–be sure to come check it out!\n\nWear Gold or represent your favourite local sports team!\n\nTuesday\, April 2\, 2024\n\n11 a.m. – 2 p.m.\n\nCalgary Stampede Youth Campus (1302 6th Street SE)\n\nThis is an outdoor event (rain\, snow\, and shine)\, so feel free to bring lawn chairs if seating is a priority for you!\n\nIf you have any questions and/or are interested in a sponsorship\, donations or vendor table please contact yycwaad@aafscalgary.com\n\nRegister in advance to help organizers to know how many people to plan and prepare for: https://www.generoussolutions.com/e/world-autism-awareness-day-2024-820
URL:https://sinneavefoundation.org/event/save-the-date-yyc-autism-awareness-acceptance-day/
LOCATION:Calgary Stampede Youth Campus\, 1302 6 Street SE\, Calgary\, Alberta\, T2G 4Z2\, Canada
CATEGORIES:Special Events
ATTACH;FMTTYPE=image/jpeg:https://sinneavefoundation.org/wp-content/uploads/2024/06/YYC-WAAD-Poster-scaled-1.jpg
END:VEVENT
BEGIN:VEVENT
DTSTART;TZID=America/Edmonton:20240402T130000
DTEND;TZID=America/Edmonton:20240402T143000
DTSTAMP:20260421T075211
CREATED:20240327T232824Z
LAST-MODIFIED:20240905T211441Z
UID:10000597-1712062800-1712068200@sinneavefoundation.org
SUMMARY:Free! Drop-in Employment Support
DESCRIPTION:Drop-in and visit our Employment Specialists for FREE 1:1 coaching and guidance as you navigate your employment journey!\n \nIn April\, join us on Tuesdays\, April 2\, 16\, and 30 \n1:00 – 2:30 p.m. \nat The Ability Hub (300\, 3820 24 Ave NW) \nYou will benefit from connecting with experienced professionals who understand neurodiversity and will help identify your strengths\, interests and potential career paths. \nParticipants are encouraged to bring their resumes\, cover letters\, curiosity and questions. Our Facilitators will focus on helping you where you most need support\, including the following areas: \n\nCreating a more effective resume and cover letter\nlearning and practicing interview techniques\njob search strategies\nand more!\n\nReceive up to 30 minutes of personalized guidance and learn more about how to successfully navigate the job search journey and the world of work. Support availability is limited and is on a “first come\, first served” basis. \nOur goal is to create an inclusive and supportive environment where neurodivergent individuals can access resources\, gain valuable insights\, and enhance their employability\, confidence\, and career prospects. \nAbout our Facilitators:  \nMeet the Sinneave Employment Team: Sherry\, Marcela and Ryan. They are a dedicated group of professionals committed to empowering neurodivergent individuals on their journeys towards meaningful employment and career success.
URL:https://sinneavefoundation.org/event/free-drop-in-employment-support/2024-04-02/
LOCATION:The Ability Hub\, Suite #300\, 3820 - 24th Avenue NW|Suite #300\, 3820 – 24th Avenue NW|Suite #300\, 3820 – 24th Avenue NW|Suite #300\, 3820 – 24th Avenue NW\, Calgary\, Alberta\, T3B-2X9|T3B-2X9|T3B-2X9|T3B-2X9\, Canada
CATEGORIES:Information Session,Workshops
ATTACH;FMTTYPE=image/jpeg:https://sinneavefoundation.org/wp-content/uploads/2024/06/April-2024-Empl-Drop-in-scaled-1.jpg
GEO:51.0747716|51.0747716|51.0747716|51.0747716;-114.1439694|-114.1439694|-114.1439694|-114.1439694
X-APPLE-STRUCTURED-LOCATION;VALUE=URI;X-ADDRESS=The Ability Hub Suite #300 3820 - 24th Avenue NW|Suite #300 3820 – 24th Avenue NW|Suite #300 3820 – 24th Avenue NW|Suite #300 3820 – 24th Avenue NW Calgary Alberta T3B-2X9|T3B-2X9|T3B-2X9|T3B-2X9 Canada;X-APPLE-RADIUS=500;X-TITLE=Suite #300\, 3820 - 24th Avenue NW|Suite #300\, 3820 – 24th Avenue NW|Suite #300\, 3820 – 24th Avenue NW|Suite #300\, 3820 – 24th Avenue NW:geo:-114.1439694|-114.1439694|-114.1439694|-114.1439694,51.0747716|51.0747716|51.0747716|51.0747716
END:VEVENT
END:VCALENDAR