BEGIN:VCALENDAR
VERSION:2.0
PRODID:-//Sinneave Foundation - ECPv6.15.19//NONSGML v1.0//EN
CALSCALE:GREGORIAN
METHOD:PUBLISH
X-WR-CALNAME:Sinneave Foundation
X-ORIGINAL-URL:https://sinneavefoundation.org
X-WR-CALDESC:Events for Sinneave Foundation
REFRESH-INTERVAL;VALUE=DURATION:PT1H
X-Robots-Tag:noindex
X-PUBLISHED-TTL:PT1H
BEGIN:VTIMEZONE
TZID:America/Edmonton
BEGIN:DAYLIGHT
TZOFFSETFROM:-0700
TZOFFSETTO:-0600
TZNAME:MDT
DTSTART:20230312T090000
END:DAYLIGHT
BEGIN:STANDARD
TZOFFSETFROM:-0600
TZOFFSETTO:-0700
TZNAME:MST
DTSTART:20231105T080000
END:STANDARD
BEGIN:DAYLIGHT
TZOFFSETFROM:-0700
TZOFFSETTO:-0600
TZNAME:MDT
DTSTART:20240310T090000
END:DAYLIGHT
BEGIN:STANDARD
TZOFFSETFROM:-0600
TZOFFSETTO:-0700
TZNAME:MST
DTSTART:20241103T080000
END:STANDARD
BEGIN:DAYLIGHT
TZOFFSETFROM:-0700
TZOFFSETTO:-0600
TZNAME:MDT
DTSTART:20250309T090000
END:DAYLIGHT
BEGIN:STANDARD
TZOFFSETFROM:-0600
TZOFFSETTO:-0700
TZNAME:MST
DTSTART:20251102T080000
END:STANDARD
END:VTIMEZONE
BEGIN:VEVENT
DTSTART;VALUE=DATE:20240525
DTEND;VALUE=DATE:20240602
DTSTAMP:20260421T044214
CREATED:20240417T215326Z
LAST-MODIFIED:20240905T211306Z
UID:10000614-1716595200-1717286399@sinneavefoundation.org
SUMMARY:National AccessAbility Week
DESCRIPTION:National AccessAbility Week takes place from May 26 to June 1\, 2024\, under the theme of “Forward Together: Accessibility and Inclusion for All“. \nThe week provides an opportunity to mark the important contributions made by Canadians with disabilities\, and to put a spotlight on the leadership of those who work tirelessly to make our country more accessible and disability inclusive. \nHelp make the week a success by promoting it using the key messages\, social media content and visuals provided on the Government of Canada website: https://www.canada.ca/en/employment-social-development/campaigns/national-accessability-week/toolkit.html#h2.2 \nJoin or Follow Sinneave’s posts on: \nLinkedIn – https://www.linkedin.com/feed/update/urn:li:activity:7199801390129426433 \nFacebook – https://www.facebook.com/photo/?fbid=832377895590350&set=a.648085217352953 \nInstagram – https://www.instagram.com/p/C7W21TSqPjQ/?utm_source=ig_web_copy_link \nX (Twitter) – https://x.com/sinneave/status/1794035702541308221 \n 
URL:https://sinneavefoundation.org/event/national-accessability-week/
LOCATION:Alberta
CATEGORIES:Special Events
ATTACH;FMTTYPE=image/png:https://sinneavefoundation.org/wp-content/uploads/2024/06/National-AccessAbility-Week-2024-revised-for-website-GS.png
END:VEVENT
END:VCALENDAR