BEGIN:VCALENDAR
VERSION:2.0
PRODID:-//Sinneave Foundation - ECPv6.15.19//NONSGML v1.0//EN
CALSCALE:GREGORIAN
METHOD:PUBLISH
X-WR-CALNAME:Sinneave Foundation
X-ORIGINAL-URL:https://sinneavefoundation.org
X-WR-CALDESC:Events for Sinneave Foundation
REFRESH-INTERVAL;VALUE=DURATION:PT1H
X-Robots-Tag:noindex
X-PUBLISHED-TTL:PT1H
BEGIN:VTIMEZONE
TZID:America/Edmonton
BEGIN:DAYLIGHT
TZOFFSETFROM:-0700
TZOFFSETTO:-0600
TZNAME:MDT
DTSTART:20230312T090000
END:DAYLIGHT
BEGIN:STANDARD
TZOFFSETFROM:-0600
TZOFFSETTO:-0700
TZNAME:MST
DTSTART:20231105T080000
END:STANDARD
BEGIN:DAYLIGHT
TZOFFSETFROM:-0700
TZOFFSETTO:-0600
TZNAME:MDT
DTSTART:20240310T090000
END:DAYLIGHT
BEGIN:STANDARD
TZOFFSETFROM:-0600
TZOFFSETTO:-0700
TZNAME:MST
DTSTART:20241103T080000
END:STANDARD
BEGIN:DAYLIGHT
TZOFFSETFROM:-0700
TZOFFSETTO:-0600
TZNAME:MDT
DTSTART:20250309T090000
END:DAYLIGHT
BEGIN:STANDARD
TZOFFSETFROM:-0600
TZOFFSETTO:-0700
TZNAME:MST
DTSTART:20251102T080000
END:STANDARD
END:VTIMEZONE
BEGIN:VEVENT
DTSTART;TZID=America/Edmonton:20241125T170000
DTEND;TZID=America/Edmonton:20241125T200000
DTSTAMP:20260421T155841
CREATED:20241029T165851Z
LAST-MODIFIED:20241125T194256Z
UID:10000725-1732554000-1732564800@sinneavefoundation.org
SUMMARY:CANCELLED: Joy of Cooking: Cooking Skills for Independent Living
DESCRIPTION:Please note The Joy of Cooking Class that was scheduled for Monday\, November 25\, 2024 has been cancelled. Check back on our Event Calendar in the New Year to see when the next session will be held.
URL:https://sinneavefoundation.org/event/the-joy-of-cooking-cooking-skills-for-independent-living-3/
LOCATION:The Ability Hub\, Suite #300\, 3820 - 24th Avenue NW\, Calgary\, Alberta\, T3B-2X9\, Canada
CATEGORIES:Exploration Sessions,Learning & Connection Activity
ATTACH;FMTTYPE=image/jpeg:https://sinneavefoundation.org/wp-content/uploads/2024/08/Sept-23-Joy-of-Cooking-website-image-scaled.jpg
GEO:51.0747716;-114.1439694
X-APPLE-STRUCTURED-LOCATION;VALUE=URI;X-ADDRESS=The Ability Hub Suite #300 3820 - 24th Avenue NW Calgary Alberta T3B-2X9 Canada;X-APPLE-RADIUS=500;X-TITLE=Suite #300\, 3820 - 24th Avenue NW:geo:-114.1439694,51.0747716
END:VEVENT
END:VCALENDAR