BEGIN:VCALENDAR
VERSION:2.0
PRODID:-//Sinneave Foundation - ECPv6.15.19//NONSGML v1.0//EN
CALSCALE:GREGORIAN
METHOD:PUBLISH
X-ORIGINAL-URL:https://sinneavefoundation.org
X-WR-CALDESC:Events for Sinneave Foundation
REFRESH-INTERVAL;VALUE=DURATION:PT1H
X-Robots-Tag:noindex
X-PUBLISHED-TTL:PT1H
BEGIN:VTIMEZONE
TZID:America/Edmonton
BEGIN:DAYLIGHT
TZOFFSETFROM:-0700
TZOFFSETTO:-0600
TZNAME:MDT
DTSTART:20250309T090000
END:DAYLIGHT
BEGIN:STANDARD
TZOFFSETFROM:-0600
TZOFFSETTO:-0700
TZNAME:MST
DTSTART:20251102T080000
END:STANDARD
BEGIN:DAYLIGHT
TZOFFSETFROM:-0700
TZOFFSETTO:-0600
TZNAME:MDT
DTSTART:20260308T090000
END:DAYLIGHT
BEGIN:STANDARD
TZOFFSETFROM:-0600
TZOFFSETTO:-0700
TZNAME:MST
DTSTART:20261101T080000
END:STANDARD
BEGIN:DAYLIGHT
TZOFFSETFROM:-0700
TZOFFSETTO:-0600
TZNAME:MDT
DTSTART:20270314T090000
END:DAYLIGHT
BEGIN:STANDARD
TZOFFSETFROM:-0600
TZOFFSETTO:-0700
TZNAME:MST
DTSTART:20271107T080000
END:STANDARD
END:VTIMEZONE
BEGIN:VEVENT
DTSTART;TZID=America/Edmonton:20260224T170000
DTEND;TZID=America/Edmonton:20260224T193000
DTSTAMP:20260421T230538
CREATED:20260210T222011Z
LAST-MODIFIED:20260325T231714Z
UID:10001266-1771952400-1771961400@sinneavefoundation.org
SUMMARY:Your Time\, Your Way
DESCRIPTION:Many individuals can benefit from what is often referred to as a “third space”—a place separate from home or work or school where there is no obligation to spend money on food or beverages. So we’re opening our doors to members of our community. \n\n\n\nWe invite you to drop in and use our space to help you unwind or recharge—with no pressure to engage in structured activities. We have several rooms and spaces available–a quiet lounge\, computer desks\, hang out sofas–you choose. It’s your time to use your way. \n\n\n\nOur space provides flexible seating options\, focus tools\, and adjustable lighting options as we strive to make our space more welcoming and inclusive to those who wish to spend time in it. \n\n\n\nOur drop-in hours are 5:00 – 7:30 p.m. \n\n\n\n\n\n\n\n\n\nHere are some suggestions of things you may like to do\, but this is not an exhaustive list: \n\n\n\n\nSocializing: Chat with others\, make new connections\, or catch up with friends\n\n\n\nUsing Computers: Access  the internet\, complete personal tasks\, or explore hobbies online. Use our computers and wifi or bring your own device and connect via our network\n\n\n\nRelaxing: Sit quietly\, read\, listen to music with headphones\, or just enjoy the calm space\n\n\n\nIndependent Work: Bring personal projects\, homework or studying you may need to do\, or use the time to focus on tasks\n\n\n\nUnstructured Activities: puzzles\, sketching\, journaling\, or engaging in other personal hobbies\n\n\n\nExploring Resources: Learn about other programs\, events\, or services Sinneave offers\n\n\n\nSimply Being: Spend time in the space without any specific activity\, just enjoying the presence of others without any expectations to engage\n\n\n\n\n\n\n\nTo ensure a welcoming and safe space for all users\, please read over the Rules of the Space before you arrive: \n\n\n\n\nCheck-In is Required: Everyone signs in upon arrival\n\n\n\nNo Alcohol or Drugs: This is a substance-free space for everyone’s safety and comfort\n\n\n\nRespectful Content and Behavior: No engagement with explicit content and all interactions should be respectful\n\n\n\nNoise Levels: Keep volume moderate to accommodate diverse activities\n\n\n\nNo formal supervision provided: Attend and engage independently
URL:https://sinneavefoundation.org/event/your-time-your-way-24/2026-02-24/
LOCATION:The Ability Hub\, Suite #300\, 3820 - 24th Avenue NW\, Calgary\, Alberta\, T3B-2X9\, Canada
CATEGORIES:Learning & Connection Activity
ATTACH;FMTTYPE=image/png:https://sinneavefoundation.org/wp-content/uploads/2026/02/Website-image-YTYW-gradient-1200-x-630-px-1.png
GEO:51.0747716;-114.1439694
X-APPLE-STRUCTURED-LOCATION;VALUE=URI;X-ADDRESS=The Ability Hub Suite #300 3820 - 24th Avenue NW Calgary Alberta T3B-2X9 Canada;X-APPLE-RADIUS=500;X-TITLE=Suite #300\, 3820 - 24th Avenue NW:geo:-114.1439694,51.0747716
END:VEVENT
BEGIN:VEVENT
DTSTART;TZID=America/Edmonton:20260224T173000
DTEND;TZID=America/Edmonton:20260224T190000
DTSTAMP:20260421T230538
CREATED:20260108T215543Z
LAST-MODIFIED:20260128T214734Z
UID:10001317-1771954200-1771959600@sinneavefoundation.org
SUMMARY:Social Communication Workshop: Neurodivergent and Neurotypical Communication
DESCRIPTION:Do you know communication can vastly differ between neurodivergent and neurotypical people?  \n\n\n\nIn this session\, participants will gain the skills and knowledge to: \n\n\n\n\nDescribe how communication can differ between neurodivergent and neurotypical people\n\n\n\nRecognize how communication across neurotypes is a form of cross-cultural communication\n\n\n\nIdentify their own authentic communication preferences and needs\n\n\n\nEvaluate the benefits and challenges of using authentic communication in different settings\n\n\n\nPractice expressing or requesting their communication preferences and needs\n\n\n\n\nTuesday\, February 245:30 – 7:00 pmOnline via Sinneave Connects There is no cost to attend  \n\n\n\nThis workshop is designed to provide Autistic and neurodivergent individuals opportunities to learn and practice essential social communication skills in a safe and welcoming setting. Participants will be provided with information\, tips\, and strategies intended to help in day-to-day social situations. \n\n\n\nIf you register in advance you’ll be notified of any last minute changes to the schedule. \n\n\n\nThis workshop is virtual\, via Sinneave Connects\, our online learning hub. If you already have a Connects account\, just log in as usual. If you have not registered yet\, it’s free and easy! Click the button that says “Sinneave Connects” to access the hub and follow the instructions on the log-in screen. \n\n\n\n\n\n\nCreate a password (don’t forget to save it someplace handy)\n\n\n\nCreate a user name\n\n\n\nSelect “Register”\n\n\n\nSelect the “Social Communication Workshop: Neurodivergent and Neurotypical Communication – February 24\, 2026” course and enroll.\n\n\n\n\n\n\nSinneave Connects\n\n\n\n\n\n\n\n\n\n\nAbout the Presenter: \n\n\n\nYonatan Tesfagiorgis is a Life Skills Coach at The Sinneave Family Foundation and has been working with neurodivergent and Autistic individuals for over 8 years. He strives to offer skill building strategies using a neuro affirming framework and provides an inclusive space for all individuals. \n\n\n\nIf you have questions\, reach out to info@sinneavefoundation.org or call 403 210-5000. We’re here to help.
URL:https://sinneavefoundation.org/event/social-communication-workshop-neurodivergent-and-neurotypical-communication/
LOCATION:Online via Sinneave Connects
CATEGORIES:Learning & Connection Activity,Workshops
ATTACH;FMTTYPE=image/png:https://sinneavefoundation.org/wp-content/uploads/2026/01/Website-image-ND-NT-Comms-1200-x-630-px.png
END:VEVENT
END:VCALENDAR