BEGIN:VCALENDAR
VERSION:2.0
PRODID:-//Sinneave Foundation - ECPv6.15.19//NONSGML v1.0//EN
CALSCALE:GREGORIAN
METHOD:PUBLISH
X-WR-CALNAME:Sinneave Foundation
X-ORIGINAL-URL:https://sinneavefoundation.org
X-WR-CALDESC:Events for Sinneave Foundation
REFRESH-INTERVAL;VALUE=DURATION:PT1H
X-Robots-Tag:noindex
X-PUBLISHED-TTL:PT1H
BEGIN:VTIMEZONE
TZID:America/Edmonton
BEGIN:DAYLIGHT
TZOFFSETFROM:-0700
TZOFFSETTO:-0600
TZNAME:MDT
DTSTART:20250309T090000
END:DAYLIGHT
BEGIN:STANDARD
TZOFFSETFROM:-0600
TZOFFSETTO:-0700
TZNAME:MST
DTSTART:20251102T080000
END:STANDARD
BEGIN:DAYLIGHT
TZOFFSETFROM:-0700
TZOFFSETTO:-0600
TZNAME:MDT
DTSTART:20260308T090000
END:DAYLIGHT
BEGIN:STANDARD
TZOFFSETFROM:-0600
TZOFFSETTO:-0700
TZNAME:MST
DTSTART:20261101T080000
END:STANDARD
BEGIN:DAYLIGHT
TZOFFSETFROM:-0700
TZOFFSETTO:-0600
TZNAME:MDT
DTSTART:20270314T090000
END:DAYLIGHT
BEGIN:STANDARD
TZOFFSETFROM:-0600
TZOFFSETTO:-0700
TZNAME:MST
DTSTART:20271107T080000
END:STANDARD
END:VTIMEZONE
BEGIN:VEVENT
DTSTART;TZID=America/Edmonton:20260227T120000
DTEND;TZID=America/Edmonton:20260227T130000
DTSTAMP:20260421T230414
CREATED:20260108T181553Z
LAST-MODIFIED:20260128T211435Z
UID:10001315-1772193600-1772197200@sinneavefoundation.org
SUMMARY:Autistic Journeys: Voices and Perspectives: Kyle Lobb 
DESCRIPTION:Join Kyle Lobb for a unique exploration of Autistic Journeys\, offering diverse voices and perspectives. This learning session is part of Autism Edmonton’s “Autistic Journeys: Voices and Perspectives” series\, where Kyle will share his experiences and insights as a neurodivergent individual navigating life\, independence\, and community involvement. \n\n\n\nThis session is well suited for educators\, parents\, professionals\, and anyone interested in hearing authentic Autistic voices and learning about neurodiversity\, self-advocacy\, and inclusive practices. \n\n\n\nThis session is brought to you by Autism Edmonton and The Sinneave Family Foundation. \n\n\n\nFriday\, February 2712:00 p.m. – 1:00 p.m.Online via Autism Edmonton \n\n\n\nRegistration for this event is via Autism Edmonton’s website. You can register by clicking the button that says\, “Register”. \n\n\n\n\nRegister\n\n\n\n\n\n\n\n\n\n\nAbout the Presenter: \n\n\n\nKyle Lobb is a 37-year-old neurodivergent individual diagnosed with Autism\, Tourette’s syndrome\, OCD\, ADHD\, and Bipolar disorder. Growing up\, Kyle often felt different from others and faced challenges navigating school\, friendships\, employment\, and neurotypical society. Despite these obstacles\, he has developed strategies to manage daily life and recently moved into his first independent home with support from his community. \n\n\n\nKyle is also a personal trainer and an active member of Toastmasters\, which has helped him build confidence and strengthen his communication skills. He credits much of his personal growth to the support of his loving family and Edmonton’s Autistic community\, inspiring him to give back through active involvement in initiatives that empower neurodivergent individuals. \n\n\n\nKyle currently serves as Vice-President of the Alberta Independent Living Association (AiLA)\, using his lived experience and expertise to advance independence\, advocacy\, and inclusion for people with disabilities.
URL:https://sinneavefoundation.org/event/autistic-journeys-voices-and-perspectives-kyle-lobb/
LOCATION:Online via Autism Edmonton
CATEGORIES:Presentation,Special Events
END:VEVENT
END:VCALENDAR