BEGIN:VCALENDAR
VERSION:2.0
PRODID:-//Sinneave Foundation - ECPv6.15.19//NONSGML v1.0//EN
CALSCALE:GREGORIAN
METHOD:PUBLISH
X-WR-CALNAME:Sinneave Foundation
X-ORIGINAL-URL:https://sinneavefoundation.org
X-WR-CALDESC:Events for Sinneave Foundation
REFRESH-INTERVAL;VALUE=DURATION:PT1H
X-Robots-Tag:noindex
X-PUBLISHED-TTL:PT1H
BEGIN:VTIMEZONE
TZID:America/Edmonton
BEGIN:DAYLIGHT
TZOFFSETFROM:-0700
TZOFFSETTO:-0600
TZNAME:MDT
DTSTART:20250309T090000
END:DAYLIGHT
BEGIN:STANDARD
TZOFFSETFROM:-0600
TZOFFSETTO:-0700
TZNAME:MST
DTSTART:20251102T080000
END:STANDARD
BEGIN:DAYLIGHT
TZOFFSETFROM:-0700
TZOFFSETTO:-0600
TZNAME:MDT
DTSTART:20260308T090000
END:DAYLIGHT
BEGIN:STANDARD
TZOFFSETFROM:-0600
TZOFFSETTO:-0700
TZNAME:MST
DTSTART:20261101T080000
END:STANDARD
BEGIN:DAYLIGHT
TZOFFSETFROM:-0700
TZOFFSETTO:-0600
TZNAME:MDT
DTSTART:20270314T090000
END:DAYLIGHT
BEGIN:STANDARD
TZOFFSETFROM:-0600
TZOFFSETTO:-0700
TZNAME:MST
DTSTART:20271107T080000
END:STANDARD
END:VTIMEZONE
BEGIN:VEVENT
DTSTART;TZID=America/Edmonton:20260316T000000
DTEND;TZID=America/Edmonton:20260322T235959
DTSTAMP:20260422T053037
CREATED:20260203T202950Z
LAST-MODIFIED:20260223T184418Z
UID:10001364-1773619200-1774223999@sinneavefoundation.org
SUMMARY:Neurodiversity Celebration Week
DESCRIPTION:
URL:https://sinneavefoundation.org/event/neurodiversity-celebration-week-3/
CATEGORIES:Special Events
END:VEVENT
BEGIN:VEVENT
DTSTART;TZID=America/Edmonton:20260316T080000
DTEND;TZID=America/Edmonton:20260316T170000
DTSTAMP:20260422T053037
CREATED:20260316T140507Z
LAST-MODIFIED:20260413T220223Z
UID:10001404-1773648000-1773680400@sinneavefoundation.org
SUMMARY:Apply Now! Acceptance & Commitment Training Skills Group
DESCRIPTION:The application window for the Spring Acceptance and Commitment Training Skills Group is now closed.  \n\n\n\nIf you want to learn more about Skills Groups\, visit our website: https://sinneavefoundation.org/services/skills-groups/ \n\n\n\n\nIf you have questions\, please reach out by email to info@sinneavefoundation.org or call us at 403 210-5000. We are here to help.
URL:https://sinneavefoundation.org/event/apply-now-acceptance-commitment-training-skills-group-3/
CATEGORIES:Skills Groups,Workshops
ATTACH;FMTTYPE=image/jpeg:https://sinneavefoundation.org/wp-content/uploads/2025/08/42dc326020c9130d32f8bd909f7700bd3ff2e837.jpeg
END:VEVENT
BEGIN:VEVENT
DTSTART;TZID=America/Edmonton:20260316T173000
DTEND;TZID=America/Edmonton:20260316T190000
DTSTAMP:20260422T053037
CREATED:20260309T144652Z
LAST-MODIFIED:20260309T144655Z
UID:10001384-1773682200-1773687600@sinneavefoundation.org
SUMMARY:Board Games Night with Autism Awareness Club UCalgary
DESCRIPTION:If you love playing board games and hanging out with awesome people\, you’re invited to a Board Games Night with The UCalgary Autism Awareness Club \n\n\n\nMonday\, March 16\, 20265:30 – 7:00 PMIn-person at The Ability Hub (300\, 3820 24 Ave NW) \n\n\n\nThere will be a variety of board games available to play. All are welcome! You don’t need to be a UCalgary student to attend.  \n\n\n\nWe hope to see you there!
URL:https://sinneavefoundation.org/event/board-games-night-with-autism-awareness-club-ucalgary-3/
LOCATION:The Ability Hub\, Suite #300\, 3820 - 24th Avenue NW\, Calgary\, Alberta\, T3B-2X9\, Canada
CATEGORIES:Special Events
ATTACH;FMTTYPE=image/png:https://sinneavefoundation.org/wp-content/uploads/2026/03/Website-image-AACUC-Board-Games-Mar-16-1200-x-630-px.png
GEO:51.0747716;-114.1439694
X-APPLE-STRUCTURED-LOCATION;VALUE=URI;X-ADDRESS=The Ability Hub Suite #300 3820 - 24th Avenue NW Calgary Alberta T3B-2X9 Canada;X-APPLE-RADIUS=500;X-TITLE=Suite #300\, 3820 - 24th Avenue NW:geo:-114.1439694,51.0747716
END:VEVENT
END:VCALENDAR