BEGIN:VCALENDAR
VERSION:2.0
PRODID:-//Sinneave Foundation - ECPv6.15.19//NONSGML v1.0//EN
CALSCALE:GREGORIAN
METHOD:PUBLISH
X-WR-CALNAME:Sinneave Foundation
X-ORIGINAL-URL:https://sinneavefoundation.org
X-WR-CALDESC:Events for Sinneave Foundation
REFRESH-INTERVAL;VALUE=DURATION:PT1H
X-Robots-Tag:noindex
X-PUBLISHED-TTL:PT1H
BEGIN:VTIMEZONE
TZID:America/Edmonton
BEGIN:DAYLIGHT
TZOFFSETFROM:-0700
TZOFFSETTO:-0600
TZNAME:MDT
DTSTART:20250309T090000
END:DAYLIGHT
BEGIN:STANDARD
TZOFFSETFROM:-0600
TZOFFSETTO:-0700
TZNAME:MST
DTSTART:20251102T080000
END:STANDARD
BEGIN:DAYLIGHT
TZOFFSETFROM:-0700
TZOFFSETTO:-0600
TZNAME:MDT
DTSTART:20260308T090000
END:DAYLIGHT
BEGIN:STANDARD
TZOFFSETFROM:-0600
TZOFFSETTO:-0700
TZNAME:MST
DTSTART:20261101T080000
END:STANDARD
BEGIN:DAYLIGHT
TZOFFSETFROM:-0700
TZOFFSETTO:-0600
TZNAME:MDT
DTSTART:20270314T090000
END:DAYLIGHT
BEGIN:STANDARD
TZOFFSETFROM:-0600
TZOFFSETTO:-0700
TZNAME:MST
DTSTART:20271107T080000
END:STANDARD
END:VTIMEZONE
BEGIN:VEVENT
DTSTART;TZID=America/Edmonton:20260316T000000
DTEND;TZID=America/Edmonton:20260322T235959
DTSTAMP:20260422T035724
CREATED:20260203T202950Z
LAST-MODIFIED:20260223T184418Z
UID:10001364-1773619200-1774223999@sinneavefoundation.org
SUMMARY:Neurodiversity Celebration Week
DESCRIPTION:
URL:https://sinneavefoundation.org/event/neurodiversity-celebration-week-3/
CATEGORIES:Special Events
END:VEVENT
BEGIN:VEVENT
DTSTART;TZID=America/Edmonton:20260317T120000
DTEND;TZID=America/Edmonton:20260317T130000
DTSTAMP:20260422T035724
CREATED:20260309T183113Z
LAST-MODIFIED:20260309T183115Z
UID:10001388-1773748800-1773752400@sinneavefoundation.org
SUMMARY:Language Matters: How We Communicate Our Findings as Scientists (Part 1)
DESCRIPTION:​This presentation is part of the Azrieli Accelerator Engaged Research Discussion Series. During this online discussion we will explore how the language used in research shapes public understanding\, policy conversations\, and community trust.  \n\n\n\nUsing neurodiversity-affirming language as a case example\, we will examine how people with lived experience wish to be represented in scientific literature and the responsibilities researchers hold as their work circulates beyond academic journals.  \n\n\n\nParticipants will reflect on precision\, accuracy\, and intentional language choices in research communication. \n\n\n\nTuesday\, March 1712:00 p.m. – 1:00 p.m. (Mountain Time)Online via Azrieli Accelerator \n\n\n\nRegistration for this event is via the Azrieli Accelerator. You can register by clicking the button that says\, “Register”. \n\n\n\n\nRegister\n\n\n\n\n\n\n\n\n\n\n​About the Azrieli Accelerator Engaged Research Discussion Series \n\n\n\n​This series helps researchers build capacity to meaningfully engage people with lived experience as participants and partners in research. Open to researchers and trainees across all disciplines\, we introduce core principles of engaged research and explore how inclusive\, community-partnered approaches can strengthen research design\, practice\, and knowledge sharing in neurodevelopment research. 
URL:https://sinneavefoundation.org/event/language-matters-how-we-communicate-our-findings-as-scientists-part-1/
LOCATION:Online via Azrieli Accelerator
CATEGORIES:Presentation,Special Events
ATTACH;FMTTYPE=image/png:https://sinneavefoundation.org/wp-content/uploads/2026/03/Azrieli-Accelerator-website-image.png
END:VEVENT
BEGIN:VEVENT
DTSTART;TZID=America/Edmonton:20260317T120000
DTEND;TZID=America/Edmonton:20260317T151500
DTSTAMP:20260422T035724
CREATED:20260130T205422Z
LAST-MODIFIED:20260130T205423Z
UID:10001361-1773748800-1773760500@sinneavefoundation.org
SUMMARY:NEUROinclusion Untapped | Calgary
DESCRIPTION:You are invited to join NEUROinclusive Workforce Solutions for an interactive event designed for employers and HR professionals who want to turn inclusion into action. \n\n\n\nThis event offers an opportunity to build employer confidence and capacity through practical training and education. Participants will connect with businesses and inclusion advocates in their community who are putting neuroinclusive practices into action. \n\n\n\nTuesday\, March 1712:00 – 3:15 p.m. In-person at The Ampersand (112 4 Ave SW\, Calgary\, AB)  \n\n\n\nTo learn more about this event and to register\, click on the button that says\, “Register your Organization”. You will be redirected to the event information page\, please scroll down on that page to find more information on the Calgary event. \n\n\n\n\nRegister Your Organization
URL:https://sinneavefoundation.org/event/neuroinclusion-untapped-calgary/
LOCATION:The Ampersand\, 112 4 Ave SW\, Calgary\, AB\, T2P 0H3\, Canada
CATEGORIES:Presentation
ATTACH;FMTTYPE=image/png:https://sinneavefoundation.org/wp-content/uploads/2026/01/Untapped-Website-image-1200-x-630-px.png
ORGANIZER;CN="NEUROinclusive Workforce Solutions":MAILTO:info@neuroinclusive-solutions.ca
END:VEVENT
BEGIN:VEVENT
DTSTART;TZID=America/Edmonton:20260317T170000
DTEND;TZID=America/Edmonton:20260317T193000
DTSTAMP:20260422T035724
CREATED:20260210T221110Z
LAST-MODIFIED:20260210T221148Z
UID:10001372-1773766800-1773775800@sinneavefoundation.org
SUMMARY:Your Time\, Your Way - Crafting Meet-up
DESCRIPTION:Many individuals benefit from what is referred to as a “third space”—a place separate from home\, work\, or school where there is no obligation to spend money on food or beverages. To that end\, our doors are open every Tuesday\, Wednesday\, and Thursday evening for members of our community to use our space. \n\n\n\nDrop-in to work or play\, rest and recharge\, with no pressure to engage in structured activities. We have several rooms and spaces available–a quiet lounge\, computer desks\, hang out sofas–you choose. It’s your time to use your way. \n\n\n\n\n\n\n\nOn Tuesday\, March 17\, we’re hosting a special activity during Your Time\, Your Way. Participants can drop-in between 5:00 p.m. and 7:30 p.m. for a crafting meet-up. \n\n\n\nThis promises to be the perfect blend of creativity and community. Spend the evening crafting\, chatting\, and sharing ideas in a laid-back environment. No experience needed\, just a willingness to create and connect. All skill levels are welcome. \n\n\n\nParticipants can bring their own craft and supplies\, however\, materials will be provided for people who want to try something new\, like origami\, painting\, key chain and bracelet making and adult colouring. \n\n\n\n\n\n\n\n\n\n\n\nIf you don’t want to participate in the craft meet-up\, you are still welcome to use the space; here’s a not-exhaustive list of things you can do: \n\n\n\n\nSocializing: Chat with others\, make new connections\, or catch up with friends\n\n\n\nUsing Computers: Access  the internet\, complete personal tasks\, or explore hobbies online. Use our computers and wifi or bring your own device and connect via our network\n\n\n\nRelaxing: Sit quietly\, read\, listen to music with headphones\, or just enjoy the calm space\n\n\n\nIndependent Work: Bring personal projects\, homework or studying you may need to do\, or use the time to focus on tasks\n\n\n\nUnstructured Activities: puzzles\, sketching\, journaling\, or engaging in other personal hobbies\n\n\n\nExploring Resources: Learn about other programs\, events\, or services Sinneave offers\n\n\n\nSimply Being: Spend time in the space without any specific activity\, just enjoying the presence of others without any expectations to engage\n\n\n\n\n\n\n\nTo ensure a welcoming and safe space for all users\, please read over the Rules of the Space before you arrive: \n\n\n\n\nCheck-In is Required: Everyone signs in upon arrival\n\n\n\nNo Alcohol or Drugs: This is a substance-free space for everyone’s safety and comfort\n\n\n\nRespectful Content and Behavior: No engagement with explicit content and all interactions should be respectful\n\n\n\nNoise Levels: Keep volume moderate to accommodate diverse activities\n\n\n\nNo formal supervision provided: Attend and engage independently
URL:https://sinneavefoundation.org/event/your-time-your-way-crafting-meet-up/
LOCATION:The Ability Hub\, Suite #300\, 3820 - 24th Avenue NW\, Calgary\, Alberta\, T3B-2X9\, Canada
CATEGORIES:Learning & Connection Activity
ATTACH;FMTTYPE=image/png:https://sinneavefoundation.org/wp-content/uploads/2026/02/Website-image-YTYW-Mar-17-1200-x-630-px.png
GEO:51.0747716;-114.1439694
X-APPLE-STRUCTURED-LOCATION;VALUE=URI;X-ADDRESS=The Ability Hub Suite #300 3820 - 24th Avenue NW Calgary Alberta T3B-2X9 Canada;X-APPLE-RADIUS=500;X-TITLE=Suite #300\, 3820 - 24th Avenue NW:geo:-114.1439694,51.0747716
END:VEVENT
BEGIN:VEVENT
DTSTART;TZID=America/Edmonton:20260317T173000
DTEND;TZID=America/Edmonton:20260317T190000
DTSTAMP:20260422T035724
CREATED:20260224T155610Z
LAST-MODIFIED:20260224T224654Z
UID:10001376-1773768600-1773774000@sinneavefoundation.org
SUMMARY:Social Communication Workshop: Communication and Miscommunication
DESCRIPTION:Communication can feel effortless one moment and confusing or frustrating the next. Many different factors can make conversations run smoothly (or lead to misunderstandings). \n\n\n\nIn this workshop\, participants will learn why miscommunication happens and feel more confident navigating it. We’ll explore topics like: \n\n\n\n\nWhat is really happening when we communicate\n\n\n\nCommon reasons for miscommunication\n\n\n\nHow to anticipate and prevent misunderstandings\n\n\n\nHow to address and repair miscommunication when it happens\n\n\n\n\nTuesday\, March 175:30 – 7:00 p.m.In-person at The Ability Hub (300\, 3820 24 Ave NW)There is no cost to attend this drop-in workshop. \n\n\n\nOur Social Communication workshops are designed to provide Autistic and neurodivergent individuals opportunities to learn and practice essential social communication skills in a safe and welcoming setting. Participants will be provided with information\, tips\, and strategies intended to help in day-to-day social situations. \n\n\n\nAdvance registration is not required\, however\, if you want to sign up\, our team can contact you in the event of any last minute changes or cancellations. Click the button that says “Sinneave Connects” to enroll in the course.  \n\n\n\nIf you have not created a Sinneave Connects account yet\, you will need to do that. Just follow the prompts on the sign-in page. \n\n\n\n\n\n\n\n\nSinneave Connects\n\n\n\n\n\n\n\n\nAbout the Presenter:Yonatan Tesfagiorgis is a Life Skills Coach at The Sinneave Family Foundation and has been working with neurodivergent and Autistic individuals for more than 8 years. He offers skill-building strategies using a neuro-affirming framework and provides an inclusive space for all individuals. \n\n\n\nIf you have questions\, reach out to info@sinneavefoundation.org or call 403 210-5000. We’re here to help.
URL:https://sinneavefoundation.org/event/social-communication-workshop-communication-and-miscommunication-2/
LOCATION:The Ability Hub\, Suite #300\, 3820 - 24th Avenue NW\, Calgary\, Alberta\, T3B-2X9\, Canada
CATEGORIES:Learning & Connection Activity,Workshops
ATTACH;FMTTYPE=image/png:https://sinneavefoundation.org/wp-content/uploads/2026/01/Website-image-Comm-and-Miscomm-1200-x-630-px-1.png
GEO:51.0747716;-114.1439694
X-APPLE-STRUCTURED-LOCATION;VALUE=URI;X-ADDRESS=The Ability Hub Suite #300 3820 - 24th Avenue NW Calgary Alberta T3B-2X9 Canada;X-APPLE-RADIUS=500;X-TITLE=Suite #300\, 3820 - 24th Avenue NW:geo:-114.1439694,51.0747716
END:VEVENT
BEGIN:VEVENT
DTSTART;TZID=America/Edmonton:20260317T180000
DTEND;TZID=America/Edmonton:20260317T193000
DTSTAMP:20260422T035724
CREATED:20260210T181026Z
LAST-MODIFIED:20260402T191715Z
UID:10001370-1773770400-1773775800@sinneavefoundation.org
SUMMARY:Women's Group: Peer Support for 18+
DESCRIPTION:Women often face unique experiences as Autistic and neurodivergent individuals\, including how we socialize\, societal expectations\, and how Autism is understood and expressed.  \n\n\n\nWe’re thrilled to offer a new group designed specifically for Autistic and neurodivergent adults (18+) who identify as women or who connect with experiences of womanhood.* This is not a therapy group\, but rather\, a supportive\, non-clinical space to discuss and share ideas\, lived experiences\, and connect meaningfully with others. \n\n\n\nThe content and resources shared in this group are informed by both lived Autistic experience and research as they intersect with gendered experiences in society. \n\n\n\nIn this first session\, we’ll discuss: \n\n\n\n\nUnderstanding Autism and gender differences\n\n\n\nUnderstanding how this affects presentation\, diagnosis\, and the link to stereotypes\n\n\n\nBreaking down barriers and stereotypes\n\n\n\n\n*This group is intended for Autistic and neurodivergent folks who identify as women or who connect with experiences of womanhood\, inclusive of non-binary and other 2SLGBTQ+ identities and expressions. This boundary ensures that participants can share openly without explanation\, justification or judgement. \n\n\n\n\n\n\n\n\n\nTuesday\, March 176:00 – 7:30 p.m.In-person at The Ability Hub (300\, 3820 24 Ave NW)There is no cost to attend. \n\n\n\n\n\n\n\n\n\nRegistration is appreciated\, but not required. If you sign up in advance\, our facilitators are able to contact you in the event of a last-minute change in plans. Drop-ins are also welcome.  \n\n\n\nTo register\, log in to Sinneave Connects. If you don’t have a Sinneave Connects account yet\, it’s easy! Click the button that says\, Sinneave Connects to access the learning hub and follow these steps: \n\n\n\n\nPick a username\n\n\n\nPick a password\n\n\n\nSelect “Register”\n\n\n\nChoose the Women’s Group: Peer Support for 18+ workshop and click on the enroll button\n\n\n\n\n\n\nSinneave Connects\n\n\n\n\n\n\n\n\n\n\nAbout the presenters:Kristen Coglon is a Life Skills Coach at The Sinneave Family Foundation. She has been working with Sinneave for more than 4 years and in the Human Services field for more than 10 years. Her experiences have been working with individuals across the lifespan\, and she has gained valuable skills and knowledge that contribute to her daily work. Kristen is a passionate and empathetic person who is happy to be a listening ear\, supportive coach\, and an advocate for Autistic and neurodivergent adults.  \n\n\n\nAlexandra (Ali) Skeet is a Learning and Connection Associate at The Sinneave Family Foundation. She delivers the Information and Navigation service where they have the pleasure to meet with Autistic and neurodivergent individuals one-on-one to provide consistent\, person-centred information and navigation to Sinneave programs and services\, and/or community-based resources. Ali has both professional and lived experience navigating identity\, and the intersectional impact of societal expectations/beliefs on neurodivergent individuals. They bring over a decade of experience in the field of mental health\, and a passion for person-centered care and intersectional inclusivity. \n\n\n\n\n\n\n \n\n\n\nIf you have questions\, reach out to info@sinneavefoundation.org or call (403) 210-5000. We’re here to help.
URL:https://sinneavefoundation.org/event/womens-group-peer-support-for-18/
CATEGORIES:Information Session,Learning & Connection Activity
END:VEVENT
END:VCALENDAR