BEGIN:VCALENDAR
VERSION:2.0
PRODID:-//Sinneave Foundation - ECPv6.15.19//NONSGML v1.0//EN
CALSCALE:GREGORIAN
METHOD:PUBLISH
X-WR-CALNAME:Sinneave Foundation
X-ORIGINAL-URL:https://sinneavefoundation.org
X-WR-CALDESC:Events for Sinneave Foundation
REFRESH-INTERVAL;VALUE=DURATION:PT1H
X-Robots-Tag:noindex
X-PUBLISHED-TTL:PT1H
BEGIN:VTIMEZONE
TZID:America/Edmonton
BEGIN:DAYLIGHT
TZOFFSETFROM:-0700
TZOFFSETTO:-0600
TZNAME:MDT
DTSTART:20250309T090000
END:DAYLIGHT
BEGIN:STANDARD
TZOFFSETFROM:-0600
TZOFFSETTO:-0700
TZNAME:MST
DTSTART:20251102T080000
END:STANDARD
BEGIN:DAYLIGHT
TZOFFSETFROM:-0700
TZOFFSETTO:-0600
TZNAME:MDT
DTSTART:20260308T090000
END:DAYLIGHT
BEGIN:STANDARD
TZOFFSETFROM:-0600
TZOFFSETTO:-0700
TZNAME:MST
DTSTART:20261101T080000
END:STANDARD
BEGIN:DAYLIGHT
TZOFFSETFROM:-0700
TZOFFSETTO:-0600
TZNAME:MDT
DTSTART:20270314T090000
END:DAYLIGHT
BEGIN:STANDARD
TZOFFSETFROM:-0600
TZOFFSETTO:-0700
TZNAME:MST
DTSTART:20271107T080000
END:STANDARD
END:VTIMEZONE
BEGIN:VEVENT
DTSTART;TZID=America/Edmonton:20260325T100000
DTEND;TZID=America/Edmonton:20260325T120000
DTSTAMP:20260421T141628
CREATED:20260210T163833Z
LAST-MODIFIED:20260210T163835Z
UID:10001369-1774432800-1774440000@sinneavefoundation.org
SUMMARY:The Employment Classroom: Creating a Career Plan and New Job Expectations
DESCRIPTION:Are you interested in learning more about all the stages of the employment journey and the steps you can take to lead you on a path to success? We offer a series of workshops that cover many topics related to finding a job\, keeping a job\, and thriving in the workplace.  \n\n\n\nIn our next Employment Classroom\, participants will learn all about how to create a career plan\, what you can do to advance your career\, and navigating the expectations of a new job. \n\n\n\nAttendees will learn: \n\n\n\n\nWhy it’s important to have a career planning outline\n\n\n\nChoosing a career that is practical for you\n\n\n\nThe challenges you might encounter in a job search and in the job market\n\n\n\nNavigating first-job jitters – things like social skills\, unwritten workplace expectations\n\n\n\nand more!\n\n\n\n\n\n\nWednesday\, March 2510:00 a.m. – 12:00 p.m.In-person at The Ability Hub (300\, 3820 24 Avenue NW) \n\n\n\n\n\n\n\n\n\nThis workshop combines classroom instruction and time to practice what you’ve learned with support from the facilitators\, if needed. Attendees to these workshops must be able to participate independently. \n\n\n\nPlease note: These classes are limited to 12 attendees. Registration is on a first-come\, first-served basis. Register quickly to avoid disappointment. \n\n\n\nTo Register:  \n\n\n\nIf you already have a Sinneave Connects account\, just log in as usual. If you have not registered yet\, it’s easy! Click the button that says\, Sinneave Connects to access the learning hub and follow these steps: \n\n\n\n\nPick a username\n\n\n\nPick a password\n\n\n\nChoose The Employment Classroom: Creating a Career Plan and New Job Expectations and click on the enroll button\n\n\n\n\n\n\nSinneave Connects\n\n\n\n\n\n\n\n\nAbout our Facilitators:  \n\n\n\nRyan Elkanah and Sherry Taylor\, members of the Sinneave employment team\, are committed to empowering Autistic and neurodivergent individuals on their journeys towards meaningful employment and career success. \n\n\n\nIf you have questions\, reach out to info@sinneavefoundation.org or call our office at (403) 210-5000. We’re here to help!
URL:https://sinneavefoundation.org/event/the-employment-classroom-creating-a-career-plan-and-new-job-expectations/
LOCATION:The Ability Hub\, Suite #300\, 3820 - 24th Avenue NW\, Calgary\, Alberta\, T3B-2X9\, Canada
CATEGORIES:Learning & Connection Activity,Workshops
ATTACH;FMTTYPE=image/png:https://sinneavefoundation.org/wp-content/uploads/2026/02/EW-Class-Career-Plan-Website-image.png
GEO:51.0747716;-114.1439694
X-APPLE-STRUCTURED-LOCATION;VALUE=URI;X-ADDRESS=The Ability Hub Suite #300 3820 - 24th Avenue NW Calgary Alberta T3B-2X9 Canada;X-APPLE-RADIUS=500;X-TITLE=Suite #300\, 3820 - 24th Avenue NW:geo:-114.1439694,51.0747716
END:VEVENT
BEGIN:VEVENT
DTSTART;TZID=America/Edmonton:20260325T110000
DTEND;TZID=America/Edmonton:20260325T120000
DTSTAMP:20260421T141628
CREATED:20260309T180246Z
LAST-MODIFIED:20260309T180732Z
UID:10001387-1774436400-1774440000@sinneavefoundation.org
SUMMARY:AIDE Canada Webinar - Autism\, Aging\, and Cancer: Rethinking Care Pathways
DESCRIPTION:Cancer can affect anyone\, and growing awareness is helping healthcare providers better understand how to support Autistic patients throughout diagnosis and treatment. \n\n\n\nAs research and lived experience continue to inform practice\, there is increasing recognition that sensory environments\, communication styles\, and healthcare systems can play an important role in how Autistic people experience cancer care – particularly for aging Autistic adults navigating complex treatment pathways. \n\n\n\nJoin Dr. Char Goodwin\, Dr. Mary Doherty\, and Melissa Levin for an insightful discussion exploring how cancer care can evolve to better meet the needs of Autistic patients. \n\n\n\nDrawing on research\, clinical insight\, and lived expertise\, the panel will highlight both the challenges Autistic patients report and the approaches that are making care more accessible and supportive across the cancer journey. \n\n\n\nIn this webinar\, we’ll explore: \n\n\n\n• What Autistic patients say is most helpful across screening\, diagnosis\, and treatment• How communication\, sensory awareness\, and flexible practices can improve care• Practical strategies clinicians and support networks can use to create more accessible healthcare experiences \n\n\n\nParticipants will also hear system-level ideas that can help healthcare environments become more responsive and supportive\, so Autistic patients can focus on their health rather than navigating barriers.  \n\n\n\nThis session is designed for Autistic adults\, caregivers\, healthcare professionals\, researchers\, and anyone interested in strengthening cancer care for Autistic people. \n\n\n\nWednesday\, March 2511:00 a.m. – 12:00 p.m. (Mountain Time)Online via AIDE Canada \n\n\n\nRegistration for this event is via AIDE Canada’s website. You can register by clicking the button that says\, “Register”. \n\n\n\n\nRegister\n\n\n\n\n\n\n\n\n\n\nAbout the Presenters:Dr. Mary DohertyMelissa LevinDr. Char Goodwin \n\n\n\nModerator: \n\n\n\nDouglas Parsons – Training and Resource Manager\,  Autism Edmonton
URL:https://sinneavefoundation.org/event/aide-canada-webinar-autism-aging-and-cancer-rethinking-care-pathways/
LOCATION:Online via Aide Canada and Autism Edmonton
CATEGORIES:Presentation,Special Events
ATTACH;FMTTYPE=image/png:https://sinneavefoundation.org/wp-content/uploads/2026/03/AIDE-webinar-website-image.png
END:VEVENT
BEGIN:VEVENT
DTSTART;TZID=America/Edmonton:20260325T170000
DTEND;TZID=America/Edmonton:20260325T183000
DTSTAMP:20260421T141628
CREATED:20260119T154115Z
LAST-MODIFIED:20260217T151202Z
UID:10001331-1774458000-1774463400@sinneavefoundation.org
SUMMARY:Executive Functioning Skills Group
DESCRIPTION:Applications for the March – April 2026 Executive Functioning (EF) Skills Group are now closed. In order to participate in this Skills Group\, you must have applied through Sinneave Connects and be accepted into the group. \n\n\n\nPlease note this Skills Group will be held virtually only through Sinneave Connects and will not be held in person. If you are interested to learn more about Skills Groups and apply for the next round\, please visit the Skills Groups page.  \n\n\n\nIf you have questions or need support\, please email info@sinneavefoundation.org or call 403-210-5000. We’re here to help.
URL:https://sinneavefoundation.org/event/executive-functioning-skills-group-6/2026-03-25/
CATEGORIES:Skills Groups
ATTACH;FMTTYPE=image/png:https://sinneavefoundation.org/wp-content/uploads/2026/01/Website-image-EF-Skills-Groups-2026-1.png
END:VEVENT
BEGIN:VEVENT
DTSTART;TZID=America/Edmonton:20260325T170000
DTEND;TZID=America/Edmonton:20260325T193000
DTSTAMP:20260421T141628
CREATED:20260210T222011Z
LAST-MODIFIED:20260325T231714Z
UID:10001279-1774458000-1774467000@sinneavefoundation.org
SUMMARY:Your Time\, Your Way
DESCRIPTION:Many individuals can benefit from what is often referred to as a “third space”—a place separate from home or work or school where there is no obligation to spend money on food or beverages. So we’re opening our doors to members of our community. \n\n\n\nWe invite you to drop in and use our space to help you unwind or recharge—with no pressure to engage in structured activities. We have several rooms and spaces available–a quiet lounge\, computer desks\, hang out sofas–you choose. It’s your time to use your way. \n\n\n\nOur space provides flexible seating options\, focus tools\, and adjustable lighting options as we strive to make our space more welcoming and inclusive to those who wish to spend time in it. \n\n\n\nOur drop-in hours are 5:00 – 7:30 p.m. \n\n\n\n\n\n\n\n\n\nHere are some suggestions of things you may like to do\, but this is not an exhaustive list: \n\n\n\n\nSocializing: Chat with others\, make new connections\, or catch up with friends\n\n\n\nUsing Computers: Access  the internet\, complete personal tasks\, or explore hobbies online. Use our computers and wifi or bring your own device and connect via our network\n\n\n\nRelaxing: Sit quietly\, read\, listen to music with headphones\, or just enjoy the calm space\n\n\n\nIndependent Work: Bring personal projects\, homework or studying you may need to do\, or use the time to focus on tasks\n\n\n\nUnstructured Activities: puzzles\, sketching\, journaling\, or engaging in other personal hobbies\n\n\n\nExploring Resources: Learn about other programs\, events\, or services Sinneave offers\n\n\n\nSimply Being: Spend time in the space without any specific activity\, just enjoying the presence of others without any expectations to engage\n\n\n\n\n\n\n\nTo ensure a welcoming and safe space for all users\, please read over the Rules of the Space before you arrive: \n\n\n\n\nCheck-In is Required: Everyone signs in upon arrival\n\n\n\nNo Alcohol or Drugs: This is a substance-free space for everyone’s safety and comfort\n\n\n\nRespectful Content and Behavior: No engagement with explicit content and all interactions should be respectful\n\n\n\nNoise Levels: Keep volume moderate to accommodate diverse activities\n\n\n\nNo formal supervision provided: Attend and engage independently
URL:https://sinneavefoundation.org/event/your-time-your-way-24/2026-03-25/
LOCATION:The Ability Hub\, Suite #300\, 3820 - 24th Avenue NW\, Calgary\, Alberta\, T3B-2X9\, Canada
CATEGORIES:Learning & Connection Activity
ATTACH;FMTTYPE=image/png:https://sinneavefoundation.org/wp-content/uploads/2026/02/Website-image-YTYW-gradient-1200-x-630-px-1.png
GEO:51.0747716;-114.1439694
X-APPLE-STRUCTURED-LOCATION;VALUE=URI;X-ADDRESS=The Ability Hub Suite #300 3820 - 24th Avenue NW Calgary Alberta T3B-2X9 Canada;X-APPLE-RADIUS=500;X-TITLE=Suite #300\, 3820 - 24th Avenue NW:geo:-114.1439694,51.0747716
END:VEVENT
END:VCALENDAR