BEGIN:VCALENDAR
VERSION:2.0
PRODID:-//Sinneave Foundation - ECPv6.15.19//NONSGML v1.0//EN
CALSCALE:GREGORIAN
METHOD:PUBLISH
X-WR-CALNAME:Sinneave Foundation
X-ORIGINAL-URL:https://sinneavefoundation.org
X-WR-CALDESC:Events for Sinneave Foundation
REFRESH-INTERVAL;VALUE=DURATION:PT1H
X-Robots-Tag:noindex
X-PUBLISHED-TTL:PT1H
BEGIN:VTIMEZONE
TZID:America/Edmonton
BEGIN:DAYLIGHT
TZOFFSETFROM:-0700
TZOFFSETTO:-0600
TZNAME:MDT
DTSTART:20250309T090000
END:DAYLIGHT
BEGIN:STANDARD
TZOFFSETFROM:-0600
TZOFFSETTO:-0700
TZNAME:MST
DTSTART:20251102T080000
END:STANDARD
BEGIN:DAYLIGHT
TZOFFSETFROM:-0700
TZOFFSETTO:-0600
TZNAME:MDT
DTSTART:20260308T090000
END:DAYLIGHT
BEGIN:STANDARD
TZOFFSETFROM:-0600
TZOFFSETTO:-0700
TZNAME:MST
DTSTART:20261101T080000
END:STANDARD
BEGIN:DAYLIGHT
TZOFFSETFROM:-0700
TZOFFSETTO:-0600
TZNAME:MDT
DTSTART:20270314T090000
END:DAYLIGHT
BEGIN:STANDARD
TZOFFSETFROM:-0600
TZOFFSETTO:-0700
TZNAME:MST
DTSTART:20271107T080000
END:STANDARD
END:VTIMEZONE
BEGIN:VEVENT
DTSTART;TZID=America/Edmonton:20260326T170000
DTEND;TZID=America/Edmonton:20260326T183000
DTSTAMP:20260421T105957
CREATED:20260105T202705Z
LAST-MODIFIED:20260119T152456Z
UID:10001298-1774544400-1774549800@sinneavefoundation.org
SUMMARY:Acceptance & Commitment Training Skills Group
DESCRIPTION:Applications for the February – March 2026 Acceptance & Commitment Training (ACT) Skills Group are now closed. In order to participate in this Skills Group\, you must have applied through Sinneave Connects and be accepted into the group. \n\n\n\nPlease note this Skills Group will be held virtually only through Sinneave Connects and will not be held in person.  \n\n\n\nIf you have questions or need support\, please email info@sinneavefoundation.org or call 403-210-5000. We’re here to help.
URL:https://sinneavefoundation.org/event/acceptance-commitment-training-skills-group-5/2026-03-26/
LOCATION:Alberta
CATEGORIES:Skills Groups
ATTACH;FMTTYPE=image/png:https://sinneavefoundation.org/wp-content/uploads/2025/12/Website-image-ACT-Skills-Groups-2026-1.png
END:VEVENT
BEGIN:VEVENT
DTSTART;TZID=America/Edmonton:20260326T170000
DTEND;TZID=America/Edmonton:20260326T193000
DTSTAMP:20260421T105957
CREATED:20260210T222011Z
LAST-MODIFIED:20260325T231714Z
UID:10001280-1774544400-1774553400@sinneavefoundation.org
SUMMARY:Your Time\, Your Way
DESCRIPTION:Many individuals can benefit from what is often referred to as a “third space”—a place separate from home or work or school where there is no obligation to spend money on food or beverages. So we’re opening our doors to members of our community. \n\n\n\nWe invite you to drop in and use our space to help you unwind or recharge—with no pressure to engage in structured activities. We have several rooms and spaces available–a quiet lounge\, computer desks\, hang out sofas–you choose. It’s your time to use your way. \n\n\n\nOur space provides flexible seating options\, focus tools\, and adjustable lighting options as we strive to make our space more welcoming and inclusive to those who wish to spend time in it. \n\n\n\nOur drop-in hours are 5:00 – 7:30 p.m. \n\n\n\n\n\n\n\n\n\nHere are some suggestions of things you may like to do\, but this is not an exhaustive list: \n\n\n\n\nSocializing: Chat with others\, make new connections\, or catch up with friends\n\n\n\nUsing Computers: Access  the internet\, complete personal tasks\, or explore hobbies online. Use our computers and wifi or bring your own device and connect via our network\n\n\n\nRelaxing: Sit quietly\, read\, listen to music with headphones\, or just enjoy the calm space\n\n\n\nIndependent Work: Bring personal projects\, homework or studying you may need to do\, or use the time to focus on tasks\n\n\n\nUnstructured Activities: puzzles\, sketching\, journaling\, or engaging in other personal hobbies\n\n\n\nExploring Resources: Learn about other programs\, events\, or services Sinneave offers\n\n\n\nSimply Being: Spend time in the space without any specific activity\, just enjoying the presence of others without any expectations to engage\n\n\n\n\n\n\n\nTo ensure a welcoming and safe space for all users\, please read over the Rules of the Space before you arrive: \n\n\n\n\nCheck-In is Required: Everyone signs in upon arrival\n\n\n\nNo Alcohol or Drugs: This is a substance-free space for everyone’s safety and comfort\n\n\n\nRespectful Content and Behavior: No engagement with explicit content and all interactions should be respectful\n\n\n\nNoise Levels: Keep volume moderate to accommodate diverse activities\n\n\n\nNo formal supervision provided: Attend and engage independently
URL:https://sinneavefoundation.org/event/your-time-your-way-24/2026-03-26/
LOCATION:The Ability Hub\, Suite #300\, 3820 - 24th Avenue NW\, Calgary\, Alberta\, T3B-2X9\, Canada
CATEGORIES:Learning & Connection Activity
ATTACH;FMTTYPE=image/png:https://sinneavefoundation.org/wp-content/uploads/2026/02/Website-image-YTYW-gradient-1200-x-630-px-1.png
GEO:51.0747716;-114.1439694
X-APPLE-STRUCTURED-LOCATION;VALUE=URI;X-ADDRESS=The Ability Hub Suite #300 3820 - 24th Avenue NW Calgary Alberta T3B-2X9 Canada;X-APPLE-RADIUS=500;X-TITLE=Suite #300\, 3820 - 24th Avenue NW:geo:-114.1439694,51.0747716
END:VEVENT
BEGIN:VEVENT
DTSTART;TZID=America/Edmonton:20260326T180000
DTEND;TZID=America/Edmonton:20260326T193000
DTSTAMP:20260421T105957
CREATED:20260225T214641Z
LAST-MODIFIED:20260325T180357Z
UID:10001379-1774548000-1774553400@sinneavefoundation.org
SUMMARY:Social Communication Workshop: Understanding Communication Beyond Words
DESCRIPTION:Much of our everyday communication involves the use of non-spoken cues and unwritten social rules. Non-spoken cues can include things like facial expressions\, posture\, eye contact\, hand gestures\, and tone of voice.  \n\n\n\nThese are often used to emphasize a particular point that the communicator is trying to make. They may also be used to change the meaning of the words being spoken. For example\, using sarcasm. \n\n\n\nNot everyone uses or understand these cues or rules\, yet it is often assumed that everyone knows what they are and what they mean. Thankfully\, they can be explored\, practiced\, and adapted in ways that support everyone’s understanding.  \n\n\n\nIn this session\, you will have the opportunity to: \n\n\n\n\nDevelop greater understanding of non-spoken cues and how they impact shared communication.\n\n\n\nDiscuss strategies for noticing\, interpreting\, and responding to non-spoken cues.\n\n\n\nReceive tips to support effective non-spoken communication across different social situations.\n\n\n\n\nThursday\, March 266:00 – 7:30 p.m.In-person @ The Ability Hub (300\, 3820 24 Ave NW)There is no cost to attend  \n\n\n\nOur Social Communication workshops are designed to provide Autistic and neurodivergent individuals opportunities to learn and practice a variety of social communication skills in a safe and welcoming setting. Participants will be provided with information\, tips\, and strategies that they can choose to apply in common day-to-day social situations. \n\n\n\n\n\n\n\nAdvance registration is not required\, however\, if you want to sign up\, our team can contact you in the event of any last minute changes or cancellations. Click the button that says “Sinneave Connects” to enroll in the course. \n\n\n\nIf you have not created a free Sinneave Connects account yet\, you will need to do that. Just follow the prompts on the sign-in page. \n\n\n\n\nSinneave Connects\n\n\n\n\n\n\n\n\n\n\n\n\nAbout the Presenter: \n\n\n\nKristen Coglon is a Life Skills Coach at The Sinneave Family Foundation. She has been working with Sinneave for more than 4 years and has had a career in the Human Services field for over 10 years. Her experiences have been working with individuals across the lifespan\, and she has gained valuable skills and knowledge that contribute to her daily work. Kristen is a passionate and empathetic person who is happy to be a listening ear\, supportive coach and an advocate for Autistic and neurodivergent adults.  \n\n\n\nIf you have questions\, reach out to info@sinneavefoundation.org or call 403 210-5000. We’re here to help.
URL:https://sinneavefoundation.org/event/social-communication-workshop-understanding-communication-beyond-words/
LOCATION:Online via Sinneave Connects
CATEGORIES:Learning & Connection Activity,Workshops
ATTACH;FMTTYPE=image/png:https://sinneavefoundation.org/wp-content/uploads/2026/02/Website-image-Comms-Beyond-words-1200-x-630-px.png
END:VEVENT
BEGIN:VEVENT
DTSTART;TZID=America/Edmonton:20260326T190000
DTEND;TZID=America/Edmonton:20260326T200000
DTSTAMP:20260421T105957
CREATED:20260302T165905Z
LAST-MODIFIED:20260302T171206Z
UID:10001380-1774551600-1774555200@sinneavefoundation.org
SUMMARY:Autistic Journeys: Voices and Perspectives - Terri Robson
DESCRIPTION:After overcoming struggles to accept and understand the impact of autism in her own life\, Terri Robson was inspired to help others. With incredible determination she has engaged in various projects to raise awareness of and remove barriers for individuals with Autism. \n\n\n\nTerri has become an ambassador and a voice for thousands of Albertans and Canadians who cannot speak for themselves. The impact of Terri’s tireless work is tremendous as her presentations continue to be well-received in communities and have even exceeded her own expectations.  \n\n\n\nHer impressive skills are not limited to her workspace. Terri is a leader and mentor who has worked tirelessly at many varied events in Alberta for years. Her determination\, hard work and effectiveness continue to inspire and to make a difference in Alberta’s communities. \n\n\n\nDynamic\, funny\, and informative\, Terri will share how she became an advocate for herself and for others. You don’t want to miss it. \n\n\n\nThis learning session is part of Autism Edmonton’s “Autistic Journeys: Voices and Perspectives” series which is brought to you with support from the Sinneave Family Foundation. \n\n\n\nThursday\, March 267:00 – 8:00 p.m. (Mountain Time)Online via Autism Edmonton \n\n\n\nRegistration for this event is via Autism Edmonton’s website. You can register by clicking the button that says\, “Register”. \n\n\n\n\nRegister
URL:https://sinneavefoundation.org/event/autistic-journeys-voices-and-perspectives-terri-robson/
LOCATION:Online via Eventbrite
CATEGORIES:Presentation,Special Events
END:VEVENT
END:VCALENDAR