BEGIN:VCALENDAR
VERSION:2.0
PRODID:-//Sinneave Foundation - ECPv6.15.19//NONSGML v1.0//EN
CALSCALE:GREGORIAN
METHOD:PUBLISH
X-WR-CALNAME:Sinneave Foundation
X-ORIGINAL-URL:https://sinneavefoundation.org
X-WR-CALDESC:Events for Sinneave Foundation
REFRESH-INTERVAL;VALUE=DURATION:PT1H
X-Robots-Tag:noindex
X-PUBLISHED-TTL:PT1H
BEGIN:VTIMEZONE
TZID:America/Edmonton
BEGIN:DAYLIGHT
TZOFFSETFROM:-0700
TZOFFSETTO:-0600
TZNAME:MDT
DTSTART:20250309T090000
END:DAYLIGHT
BEGIN:STANDARD
TZOFFSETFROM:-0600
TZOFFSETTO:-0700
TZNAME:MST
DTSTART:20251102T080000
END:STANDARD
BEGIN:DAYLIGHT
TZOFFSETFROM:-0700
TZOFFSETTO:-0600
TZNAME:MDT
DTSTART:20260308T090000
END:DAYLIGHT
BEGIN:STANDARD
TZOFFSETFROM:-0600
TZOFFSETTO:-0700
TZNAME:MST
DTSTART:20261101T080000
END:STANDARD
BEGIN:DAYLIGHT
TZOFFSETFROM:-0700
TZOFFSETTO:-0600
TZNAME:MDT
DTSTART:20270314T090000
END:DAYLIGHT
BEGIN:STANDARD
TZOFFSETFROM:-0600
TZOFFSETTO:-0700
TZNAME:MST
DTSTART:20271107T080000
END:STANDARD
END:VTIMEZONE
BEGIN:VEVENT
DTSTART;TZID=America/Edmonton:20260618T120000
DTEND;TZID=America/Edmonton:20260618T130000
DTSTAMP:20260423T023930
CREATED:20260421T180444Z
LAST-MODIFIED:20260421T180445Z
UID:10001498-1781784000-1781787600@sinneavefoundation.org
SUMMARY:Work and Care: Practical Solutions
DESCRIPTION:Get ready to dive into practical solutions and support for caregivers\, together with Caregivers Alberta. \n\n\n\nThis insightful and empowering session focuses on proactive strategies to support employed caregivers in the workplace. It highlights ways to continue the conversation through initiatives like Employee Resource Groups (ERGs)\, caregiver-focused programs\, and peer-support groups. \n\n\n\nTogether\, we will discuss the importance of ongoing support to ensure caregivers feel valued and connected over time. \n\n\n\nThe goal is to build trust\, reduce stress\, and connect caregivers with resources while fostering an inclusive and understanding workplace. \n\n\n\nThis session is presented by Autism Edmonton in partnership with Caregivers Alberta and support from The Sinneave Family Foundation. \n\n\n\n\n\n\n\n\nThursday\, June 1812:00 – 1:00 p.m. (Mountain Time)Online via Autism Edmonton \n\n\n\nRegistration for this event is via Autism Edmonton’s Eventbrite page. You can register by clicking the button that says “Register.” \n\n\n\n\nRegister\n\n\n\n\n\n\n\n\nAbout the Presenter \n\n\n\nChristina Henderson is a highly motivated and professional trainer in workshop facilitation\, administration\, and program development. As the founder of Peerspective Consulting and Facilitation in Calgary\, Alberta\, and the Coordinator for Caregivers Alberta Work & Care program\, Christina has collaborated with organizations across Canada to integrate positive and supportive programming into staff\, client\, and partner interactions. \n\n\n\nChristina is the mom of twin sons who both have special needs. Her lived experience has given her a deep understanding of the importance of fostering supportive environments and empowering individuals through peer connections.
URL:https://sinneavefoundation.org/event/work-and-care-practical-solutions/
LOCATION:Online via Autism Edmonton Eventbrite
CATEGORIES:Presentation,Workshops
ATTACH;FMTTYPE=image/png:https://sinneavefoundation.org/wp-content/uploads/2026/03/Autism-Edmonton-Website-image.png
END:VEVENT
END:VCALENDAR