BEGIN:VCALENDAR
VERSION:2.0
PRODID:-//Sinneave Foundation - ECPv6.15.19//NONSGML v1.0//EN
CALSCALE:GREGORIAN
METHOD:PUBLISH
X-ORIGINAL-URL:https://sinneavefoundation.org
X-WR-CALDESC:Events for Sinneave Foundation
REFRESH-INTERVAL;VALUE=DURATION:PT1H
X-Robots-Tag:noindex
X-PUBLISHED-TTL:PT1H
BEGIN:VTIMEZONE
TZID:America/Edmonton
BEGIN:DAYLIGHT
TZOFFSETFROM:-0700
TZOFFSETTO:-0600
TZNAME:MDT
DTSTART:20250309T090000
END:DAYLIGHT
BEGIN:STANDARD
TZOFFSETFROM:-0600
TZOFFSETTO:-0700
TZNAME:MST
DTSTART:20251102T080000
END:STANDARD
BEGIN:DAYLIGHT
TZOFFSETFROM:-0700
TZOFFSETTO:-0600
TZNAME:MDT
DTSTART:20260308T090000
END:DAYLIGHT
BEGIN:STANDARD
TZOFFSETFROM:-0600
TZOFFSETTO:-0700
TZNAME:MST
DTSTART:20261101T080000
END:STANDARD
BEGIN:DAYLIGHT
TZOFFSETFROM:-0700
TZOFFSETTO:-0600
TZNAME:MDT
DTSTART:20270314T090000
END:DAYLIGHT
BEGIN:STANDARD
TZOFFSETFROM:-0600
TZOFFSETTO:-0700
TZNAME:MST
DTSTART:20271107T080000
END:STANDARD
END:VTIMEZONE
BEGIN:VEVENT
DTSTART;TZID=America/Edmonton:20260623T170000
DTEND;TZID=America/Edmonton:20260623T193000
DTSTAMP:20260421T155751
CREATED:20260420T213609Z
LAST-MODIFIED:20260420T213610Z
UID:10001492-1782234000-1782243000@sinneavefoundation.org
SUMMARY:Your Time\, Your Way
DESCRIPTION:Members of our community are invited to drop-in and use our space on Tuesdays\, Wednesdays\, and Thursdays to unwind or recharge—with no pressure to engage in structured activities. We have several rooms available–a quiet lounge\, computer desks\, hang out sofas–you choose. It’s your time to use your way. \n\n\n\nEach week\, we offer a “third space”—a place separate from home\, work\, or school where there is no obligation to spend money on food or beverages—to members of our community.  \n\n\n\nWe provide flexible seating\, focus tools\, and adjustable lighting options in an effort to make our space welcoming and inclusive to those who wish to spend time in it. \n\n\n\nDrop-in hours are 5:00 – 7:30 p.m. \n\n\n\n \n\n\n\n\n\nHere are some suggestions of things you may like to do\, but this is not an exhaustive list: \n\n\n\n\nSocializing: Chat with others\, make new connections\, or catch up with friends\n\n\n\nUsing Computers: Access the internet\, complete personal tasks\, or explore hobbies online. Use our computers and wifi or bring your own device and connect via our network\n\n\n\nRelaxing: Sit quietly\, read\, listen to music with headphones\, or just enjoy the calm space\n\n\n\nIndependent Work: Bring personal projects\, homework or studying you may need to do\, or use the time to focus on tasks\n\n\n\nUnstructured Activities: puzzles\, sketching\, journaling\, or engaging in other personal hobbies\n\n\n\nExploring Resources: Learn about other programs\, events\, or services Sinneave offers\n\n\n\nSimply Being: Spend time in the space without any specific activity\, just enjoying the presence of others without any expectations to engage\n\n\n\n\nTo ensure a welcoming and safe environment for all users\, please read over the Rules of the Space before you arrive: \n\n\n\n\nCheck-In is Required: Everyone signs in upon arrival\n\n\n\nNo Alcohol or Drugs: This is a substance-free space for everyone’s safety and comfort\n\n\n\nRespectful Content and Behavior: No engagement with explicit content and all interactions should be respectful\n\n\n\nNoise Levels: Keep volume moderate to accommodate diverse activities\n\n\n\nNo formal supervision provided: Attend and engage independently
URL:https://sinneavefoundation.org/event/your-time-your-way-27/2026-06-23/
LOCATION:The Ability Hub\, Suite #300\, 3820 - 24th Avenue NW\, Calgary\, Alberta\, T3B-2X9\, Canada
CATEGORIES:Learning & Connection Activity
ATTACH;FMTTYPE=image/png:https://sinneavefoundation.org/wp-content/uploads/2026/02/Website-image-YTYW-gradient-1200-x-630-px-1.png
GEO:51.0747716;-114.1439694
X-APPLE-STRUCTURED-LOCATION;VALUE=URI;X-ADDRESS=The Ability Hub Suite #300 3820 - 24th Avenue NW Calgary Alberta T3B-2X9 Canada;X-APPLE-RADIUS=500;X-TITLE=Suite #300\, 3820 - 24th Avenue NW:geo:-114.1439694,51.0747716
END:VEVENT
BEGIN:VEVENT
DTSTART;TZID=America/Edmonton:20260624T100000
DTEND;TZID=America/Edmonton:20260624T120000
DTSTAMP:20260421T155751
CREATED:20260421T174850Z
LAST-MODIFIED:20260421T174851Z
UID:10001497-1782295200-1782302400@sinneavefoundation.org
SUMMARY:The Employment Classroom: Communicating Well in the Workplace
DESCRIPTION:Are you interested in learning more about all the stages of the employment journey and the steps you can take to lead you on a path to success?  \n\n\n\nOur Employment Classroom series of workshops cover many topics related to finding a job and keeping a job\, including employment preparedness\, life skills\, and soft skills for the workplace. \n\n\n\nIn this particular session\, participants will learn: \n\n\n\n\nHow to communicate effectively in a workplace setting\n\n\n\nHow to give and receive feedback\n\n\n\nAll about email etiquette\n\n\n\nHow to navigate unwritten rules in the workplace\n\n\n\n\n\nAttendees will have the opportunity to learn what is expected in professional settings\, how to navigate specific questions\, and receive and provide feedback\, if desired. \n\n\n\n\n\n\n\n\nWednesday\, June 2410:00 a.m. – 12:00 p.m.In-person at The Ability Hub (300\, 3820 24 Avenue NW) \n\n\n\n\n\n\n\n\n\nThis workshop combines classroom instruction and time to practice what you’ve learned with support from the facilitators\, if needed. Attendees to these workshops must be able to participate independently. \n\n\n\nPlease note: These classes are limited to 15 attendees. Registration is on a first-come\, first-served basis. *If the course is full\, you will be added to a waitlist. Please do not attend until your registration has been confirmed by our staff. \n\n\n\n\n\n\n\nTo Register:  \n\n\n\nClick the button that says\, Sinneave Connects to access registration through our online hub. If you already have a Sinneave Connects account\, just log in as usual. If you have not registered yet\, it’s free and easy. Just follow the instructions on the Log-in page. \n\n\n\n \n\n\n\n\n\nSinneave Connects\n\n\n\n\n\n\n\n\nAbout our Facilitators:  \n\n\n\nRyan Elkanah is a late-diagnosed AuDHD adult and professional relationship builder who brings curiosity\, empathy\, and lived experience to every space they enter. Having navigated masking\, burnout\, loss\, and the ongoing work of reclaiming agency\, they approach their work with humility\, intention\, and care. Ryan creates spaces where people can show up fully\, where reflection and authenticity meet courage and growth. Grounded in a neuro-affirming\, trauma-informed\, person-centered\, and strengths-based approach\, they walk alongside others in the lifelong practice of becoming. \n\n\n\nMarcela Montes-Lobos is an EmploymentWorks online facilitator at the Sinneave Family Foundation and is a late-diagnosed Hispanic neurodivergent adult who has embraced her unique diversity as well as her family’s. Having lived experience in language barriers\, as well as other barriers that many neurodivergent folks face in life\, she decided mid-life to return to school\, leaving a career in the airline indjustry and becoming an Addiction and Disability Support Worker. She is passionate about creating safe spaces\, always encouraging participants’ autonomy\, curiosity and empowering them on their journey. \n\n\n\nIf you have questions\, reach out to info@sinneavefoundation.org or call our office at (403) 210-5000. We’re here to help!
URL:https://sinneavefoundation.org/event/the-employment-classroom-communicating-well-in-the-workplace/
LOCATION:The Ability Hub\, Suite #300\, 3820 - 24th Avenue NW\, Calgary\, Alberta\, T3B-2X9\, Canada
CATEGORIES:Learning & Connection Activity,Workshops
ATTACH;FMTTYPE=image/png:https://sinneavefoundation.org/wp-content/uploads/2026/03/Website-image-EW-Classroom-.png
GEO:51.0747716;-114.1439694
X-APPLE-STRUCTURED-LOCATION;VALUE=URI;X-ADDRESS=The Ability Hub Suite #300 3820 - 24th Avenue NW Calgary Alberta T3B-2X9 Canada;X-APPLE-RADIUS=500;X-TITLE=Suite #300\, 3820 - 24th Avenue NW:geo:-114.1439694,51.0747716
END:VEVENT
BEGIN:VEVENT
DTSTART;TZID=America/Edmonton:20260624T170000
DTEND;TZID=America/Edmonton:20260624T193000
DTSTAMP:20260421T155751
CREATED:20260420T213609Z
LAST-MODIFIED:20260420T213610Z
UID:10001493-1782320400-1782329400@sinneavefoundation.org
SUMMARY:Your Time\, Your Way
DESCRIPTION:Members of our community are invited to drop-in and use our space on Tuesdays\, Wednesdays\, and Thursdays to unwind or recharge—with no pressure to engage in structured activities. We have several rooms available–a quiet lounge\, computer desks\, hang out sofas–you choose. It’s your time to use your way. \n\n\n\nEach week\, we offer a “third space”—a place separate from home\, work\, or school where there is no obligation to spend money on food or beverages—to members of our community.  \n\n\n\nWe provide flexible seating\, focus tools\, and adjustable lighting options in an effort to make our space welcoming and inclusive to those who wish to spend time in it. \n\n\n\nDrop-in hours are 5:00 – 7:30 p.m. \n\n\n\n \n\n\n\n\n\nHere are some suggestions of things you may like to do\, but this is not an exhaustive list: \n\n\n\n\nSocializing: Chat with others\, make new connections\, or catch up with friends\n\n\n\nUsing Computers: Access the internet\, complete personal tasks\, or explore hobbies online. Use our computers and wifi or bring your own device and connect via our network\n\n\n\nRelaxing: Sit quietly\, read\, listen to music with headphones\, or just enjoy the calm space\n\n\n\nIndependent Work: Bring personal projects\, homework or studying you may need to do\, or use the time to focus on tasks\n\n\n\nUnstructured Activities: puzzles\, sketching\, journaling\, or engaging in other personal hobbies\n\n\n\nExploring Resources: Learn about other programs\, events\, or services Sinneave offers\n\n\n\nSimply Being: Spend time in the space without any specific activity\, just enjoying the presence of others without any expectations to engage\n\n\n\n\nTo ensure a welcoming and safe environment for all users\, please read over the Rules of the Space before you arrive: \n\n\n\n\nCheck-In is Required: Everyone signs in upon arrival\n\n\n\nNo Alcohol or Drugs: This is a substance-free space for everyone’s safety and comfort\n\n\n\nRespectful Content and Behavior: No engagement with explicit content and all interactions should be respectful\n\n\n\nNoise Levels: Keep volume moderate to accommodate diverse activities\n\n\n\nNo formal supervision provided: Attend and engage independently
URL:https://sinneavefoundation.org/event/your-time-your-way-27/2026-06-24/
LOCATION:The Ability Hub\, Suite #300\, 3820 - 24th Avenue NW\, Calgary\, Alberta\, T3B-2X9\, Canada
CATEGORIES:Learning & Connection Activity
ATTACH;FMTTYPE=image/png:https://sinneavefoundation.org/wp-content/uploads/2026/02/Website-image-YTYW-gradient-1200-x-630-px-1.png
GEO:51.0747716;-114.1439694
X-APPLE-STRUCTURED-LOCATION;VALUE=URI;X-ADDRESS=The Ability Hub Suite #300 3820 - 24th Avenue NW Calgary Alberta T3B-2X9 Canada;X-APPLE-RADIUS=500;X-TITLE=Suite #300\, 3820 - 24th Avenue NW:geo:-114.1439694,51.0747716
END:VEVENT
BEGIN:VEVENT
DTSTART;TZID=America/Edmonton:20260624T183000
DTEND;TZID=America/Edmonton:20260624T193000
DTSTAMP:20260421T155751
CREATED:20260420T201722Z
LAST-MODIFIED:20260420T203547Z
UID:10001470-1782325800-1782329400@sinneavefoundation.org
SUMMARY:Navigating Healthcare: From Planning to Follow-Up
DESCRIPTION:Navigating the healthcare system can often feel overwhelming–from knowing which provider to see\, to preparing for appointments\, asking the right questions\, and managing follow-up care. \n\n\n\nTo support individuals in these everyday situations\, this 60-minute facilitated session will introduce participants to four micro-eLearning modules\, which are available on Sinneave Connects\, our online learning hub: \n\n\n\n\nFigure Out Who to See\,\n\n\n\nPlan for Your Next Health Appointment\,\n\n\n\nCommunicate Effectively During Appointments\, and\n\n\n\nTake Charge of Follow-Up Care.\n\n\n\n\nLearn how these resources can support you in different stages of the healthcare journey\, and how to access them for ongoing use. \n\n\n\nWednesday\, June 246:30 – 7:30 p.m.Online via Sinneave Connects  \n\n\n\n\n\n\n\nThis virtual session is hosted on Sinneave Connects\, our online learning hub. If you already have a Sinneave Connects account\, just log in as usual. If you have not registered yet\, it’s free and easy to set up. Click the button that says\, “Sinneave Connects” and follow the prompts on the log-in screen. \n\n\n\n\nSinneave Connects\n\n\n\n\n\n\n\n\nAbout the Presenter: \n\n\n\nAlexandra (Ali) Skeet is a Learning and Connection Associate at The Sinneave Family Foundation. She delivers the Information and Navigation service where she has the pleasure to meet with Autistic and neurodivergent individuals one-on-one to provide consistent\, person-centred information\, and navigate individuals to Sinneave programs and services and community-based resources. Ali has more than a decade of experience in the mental health field and has a passion for person-centred care and intersectional inclusivity. \n\n\n\nIf you have questions\, please reach out to info@sinneavefoundation.org or call 403 210-5000. We’re here to help.
URL:https://sinneavefoundation.org/event/navigating-healthcare-from-planning-to-follow-up-7/
LOCATION:Online via Sinneave Connects
CATEGORIES:Learning & Connection Activity,Workshops
ATTACH;FMTTYPE=image/png:https://sinneavefoundation.org/wp-content/uploads/2026/03/Website-image-icon-only-Navigating-the-Health-Care-System-1200-x-630-px.png
END:VEVENT
BEGIN:VEVENT
DTSTART;TZID=America/Edmonton:20260625T170000
DTEND;TZID=America/Edmonton:20260625T193000
DTSTAMP:20260421T155751
CREATED:20260420T213609Z
LAST-MODIFIED:20260420T213610Z
UID:10001494-1782406800-1782415800@sinneavefoundation.org
SUMMARY:Your Time\, Your Way
DESCRIPTION:Members of our community are invited to drop-in and use our space on Tuesdays\, Wednesdays\, and Thursdays to unwind or recharge—with no pressure to engage in structured activities. We have several rooms available–a quiet lounge\, computer desks\, hang out sofas–you choose. It’s your time to use your way. \n\n\n\nEach week\, we offer a “third space”—a place separate from home\, work\, or school where there is no obligation to spend money on food or beverages—to members of our community.  \n\n\n\nWe provide flexible seating\, focus tools\, and adjustable lighting options in an effort to make our space welcoming and inclusive to those who wish to spend time in it. \n\n\n\nDrop-in hours are 5:00 – 7:30 p.m. \n\n\n\n \n\n\n\n\n\nHere are some suggestions of things you may like to do\, but this is not an exhaustive list: \n\n\n\n\nSocializing: Chat with others\, make new connections\, or catch up with friends\n\n\n\nUsing Computers: Access the internet\, complete personal tasks\, or explore hobbies online. Use our computers and wifi or bring your own device and connect via our network\n\n\n\nRelaxing: Sit quietly\, read\, listen to music with headphones\, or just enjoy the calm space\n\n\n\nIndependent Work: Bring personal projects\, homework or studying you may need to do\, or use the time to focus on tasks\n\n\n\nUnstructured Activities: puzzles\, sketching\, journaling\, or engaging in other personal hobbies\n\n\n\nExploring Resources: Learn about other programs\, events\, or services Sinneave offers\n\n\n\nSimply Being: Spend time in the space without any specific activity\, just enjoying the presence of others without any expectations to engage\n\n\n\n\nTo ensure a welcoming and safe environment for all users\, please read over the Rules of the Space before you arrive: \n\n\n\n\nCheck-In is Required: Everyone signs in upon arrival\n\n\n\nNo Alcohol or Drugs: This is a substance-free space for everyone’s safety and comfort\n\n\n\nRespectful Content and Behavior: No engagement with explicit content and all interactions should be respectful\n\n\n\nNoise Levels: Keep volume moderate to accommodate diverse activities\n\n\n\nNo formal supervision provided: Attend and engage independently
URL:https://sinneavefoundation.org/event/your-time-your-way-27/2026-06-25/
LOCATION:The Ability Hub\, Suite #300\, 3820 - 24th Avenue NW\, Calgary\, Alberta\, T3B-2X9\, Canada
CATEGORIES:Learning & Connection Activity
ATTACH;FMTTYPE=image/png:https://sinneavefoundation.org/wp-content/uploads/2026/02/Website-image-YTYW-gradient-1200-x-630-px-1.png
GEO:51.0747716;-114.1439694
X-APPLE-STRUCTURED-LOCATION;VALUE=URI;X-ADDRESS=The Ability Hub Suite #300 3820 - 24th Avenue NW Calgary Alberta T3B-2X9 Canada;X-APPLE-RADIUS=500;X-TITLE=Suite #300\, 3820 - 24th Avenue NW:geo:-114.1439694,51.0747716
END:VEVENT
BEGIN:VEVENT
DTSTART;TZID=America/Edmonton:20260630T170000
DTEND;TZID=America/Edmonton:20260630T193000
DTSTAMP:20260421T155751
CREATED:20260420T213609Z
LAST-MODIFIED:20260420T213610Z
UID:10001495-1782838800-1782847800@sinneavefoundation.org
SUMMARY:Your Time\, Your Way
DESCRIPTION:Members of our community are invited to drop-in and use our space on Tuesdays\, Wednesdays\, and Thursdays to unwind or recharge—with no pressure to engage in structured activities. We have several rooms available–a quiet lounge\, computer desks\, hang out sofas–you choose. It’s your time to use your way. \n\n\n\nEach week\, we offer a “third space”—a place separate from home\, work\, or school where there is no obligation to spend money on food or beverages—to members of our community.  \n\n\n\nWe provide flexible seating\, focus tools\, and adjustable lighting options in an effort to make our space welcoming and inclusive to those who wish to spend time in it. \n\n\n\nDrop-in hours are 5:00 – 7:30 p.m. \n\n\n\n \n\n\n\n\n\nHere are some suggestions of things you may like to do\, but this is not an exhaustive list: \n\n\n\n\nSocializing: Chat with others\, make new connections\, or catch up with friends\n\n\n\nUsing Computers: Access the internet\, complete personal tasks\, or explore hobbies online. Use our computers and wifi or bring your own device and connect via our network\n\n\n\nRelaxing: Sit quietly\, read\, listen to music with headphones\, or just enjoy the calm space\n\n\n\nIndependent Work: Bring personal projects\, homework or studying you may need to do\, or use the time to focus on tasks\n\n\n\nUnstructured Activities: puzzles\, sketching\, journaling\, or engaging in other personal hobbies\n\n\n\nExploring Resources: Learn about other programs\, events\, or services Sinneave offers\n\n\n\nSimply Being: Spend time in the space without any specific activity\, just enjoying the presence of others without any expectations to engage\n\n\n\n\nTo ensure a welcoming and safe environment for all users\, please read over the Rules of the Space before you arrive: \n\n\n\n\nCheck-In is Required: Everyone signs in upon arrival\n\n\n\nNo Alcohol or Drugs: This is a substance-free space for everyone’s safety and comfort\n\n\n\nRespectful Content and Behavior: No engagement with explicit content and all interactions should be respectful\n\n\n\nNoise Levels: Keep volume moderate to accommodate diverse activities\n\n\n\nNo formal supervision provided: Attend and engage independently
URL:https://sinneavefoundation.org/event/your-time-your-way-27/2026-06-30/
LOCATION:The Ability Hub\, Suite #300\, 3820 - 24th Avenue NW\, Calgary\, Alberta\, T3B-2X9\, Canada
CATEGORIES:Learning & Connection Activity
ATTACH;FMTTYPE=image/png:https://sinneavefoundation.org/wp-content/uploads/2026/02/Website-image-YTYW-gradient-1200-x-630-px-1.png
GEO:51.0747716;-114.1439694
X-APPLE-STRUCTURED-LOCATION;VALUE=URI;X-ADDRESS=The Ability Hub Suite #300 3820 - 24th Avenue NW Calgary Alberta T3B-2X9 Canada;X-APPLE-RADIUS=500;X-TITLE=Suite #300\, 3820 - 24th Avenue NW:geo:-114.1439694,51.0747716
END:VEVENT
END:VCALENDAR