BEGIN:VCALENDAR
VERSION:2.0
PRODID:-//Sinneave Foundation - ECPv6.15.19//NONSGML v1.0//EN
CALSCALE:GREGORIAN
METHOD:PUBLISH
X-ORIGINAL-URL:https://sinneavefoundation.org
X-WR-CALDESC:Events for Sinneave Foundation
REFRESH-INTERVAL;VALUE=DURATION:PT1H
X-Robots-Tag:noindex
X-PUBLISHED-TTL:PT1H
BEGIN:VTIMEZONE
TZID:America/Edmonton
BEGIN:DAYLIGHT
TZOFFSETFROM:-0700
TZOFFSETTO:-0600
TZNAME:MDT
DTSTART:20230312T090000
END:DAYLIGHT
BEGIN:STANDARD
TZOFFSETFROM:-0600
TZOFFSETTO:-0700
TZNAME:MST
DTSTART:20231105T080000
END:STANDARD
BEGIN:DAYLIGHT
TZOFFSETFROM:-0700
TZOFFSETTO:-0600
TZNAME:MDT
DTSTART:20240310T090000
END:DAYLIGHT
BEGIN:STANDARD
TZOFFSETFROM:-0600
TZOFFSETTO:-0700
TZNAME:MST
DTSTART:20241103T080000
END:STANDARD
BEGIN:DAYLIGHT
TZOFFSETFROM:-0700
TZOFFSETTO:-0600
TZNAME:MDT
DTSTART:20250309T090000
END:DAYLIGHT
BEGIN:STANDARD
TZOFFSETFROM:-0600
TZOFFSETTO:-0700
TZNAME:MST
DTSTART:20251102T080000
END:STANDARD
END:VTIMEZONE
BEGIN:VEVENT
DTSTART;TZID=America/Edmonton:20240402T110000
DTEND;TZID=America/Edmonton:20240402T140000
DTSTAMP:20260425T121152
CREATED:20240301T034608Z
LAST-MODIFIED:20240905T211446Z
UID:10000581-1712055600-1712066400@sinneavefoundation.org
SUMMARY:YYC Autism Awareness & Acceptance Day
DESCRIPTION:YYC World Autism Acceptance Day is April 2!\n\nYYC World Autism Awareness (& Acceptance) Day (YYC WAAD) in Calgary has grown to be the largest of its kind in Canada! 2024 marks the 11th annual celebration and we are excited to celebrate\, raise awareness and promote acceptance everywhere. The event is free for all ages\, and you are invited!\n\nHosted by Autism Calgary and Autism Aspergers Friendship Society (AAFS) Calgary\, this event brings together local leading autism- and disability-serving agencies and educational organizations\, all onsite showcasing their programs and services.\n\nYou can expect food trucks\, facing painting\, an art station\, and performers on the spectrum during the event. Plus…we’re planning a few new things that will appeal to young adults too–be sure to come check it out!\n\nWear Gold or represent your favourite local sports team!\n\nTuesday\, April 2\, 2024\n\n11 a.m. – 2 p.m.\n\nCalgary Stampede Youth Campus (1302 6th Street SE)\n\nThis is an outdoor event (rain\, snow\, and shine)\, so feel free to bring lawn chairs if seating is a priority for you!\n\nIf you have any questions and/or are interested in a sponsorship\, donations or vendor table please contact yycwaad@aafscalgary.com\n\nRegister in advance to help organizers to know how many people to plan and prepare for: https://www.generoussolutions.com/e/world-autism-awareness-day-2024-820
URL:https://sinneavefoundation.org/event/save-the-date-yyc-autism-awareness-acceptance-day/
LOCATION:Calgary Stampede Youth Campus\, 1302 6 Street SE\, Calgary\, Alberta\, T2G 4Z2\, Canada
CATEGORIES:Special Events
ATTACH;FMTTYPE=image/jpeg:https://sinneavefoundation.org/wp-content/uploads/2024/06/YYC-WAAD-Poster-scaled-1.jpg
END:VEVENT
BEGIN:VEVENT
DTSTART;TZID=America/Edmonton:20240411T173000
DTEND;TZID=America/Edmonton:20240411T190000
DTSTAMP:20260425T121152
CREATED:20240328T053711Z
LAST-MODIFIED:20240905T211424Z
UID:10000605-1712856600-1712862000@sinneavefoundation.org
SUMMARY:Movie Night! Hosted by Autism Awareness Club UCalgary
DESCRIPTION:The University of Calgary Autism Awareness Club is hosting a Movie Night!!! \nTake a break from studying and join them for an evening of snacks\, drinks and fun! \n  \nThursday\, April 11 \n5:30 – 7:00 p.m. \nat The Sinneave Family Foundation \n300\, 3820 24 Ave NW \n  \nAll are welcome! You don’t have to be a member or university student to participate\, you just need to enjoy meeting and spending time with great people! \nRSVP to autismawarenessucalgary@gmail.com so organizers know how many people to plan for.
URL:https://sinneavefoundation.org/event/movie-night-hosted-by-autism-awareness-club-ucalgary/
LOCATION:The Ability Hub\, Suite #300\, 3820 - 24th Avenue NW|Suite #300\, 3820 – 24th Avenue NW|Suite #300\, 3820 – 24th Avenue NW|Suite #300\, 3820 – 24th Avenue NW\, Calgary\, Alberta\, T3B-2X9|T3B-2X9|T3B-2X9|T3B-2X9\, Canada
CATEGORIES:Special Events
ATTACH;FMTTYPE=image/jpeg:https://sinneavefoundation.org/wp-content/uploads/2024/06/AACUC-Movie-Night-Apr-11-scaled-1.jpg
GEO:51.0747716|51.0747716|51.0747716|51.0747716;-114.1439694|-114.1439694|-114.1439694|-114.1439694
X-APPLE-STRUCTURED-LOCATION;VALUE=URI;X-ADDRESS=The Ability Hub Suite #300 3820 - 24th Avenue NW|Suite #300 3820 – 24th Avenue NW|Suite #300 3820 – 24th Avenue NW|Suite #300 3820 – 24th Avenue NW Calgary Alberta T3B-2X9|T3B-2X9|T3B-2X9|T3B-2X9 Canada;X-APPLE-RADIUS=500;X-TITLE=Suite #300\, 3820 - 24th Avenue NW|Suite #300\, 3820 – 24th Avenue NW|Suite #300\, 3820 – 24th Avenue NW|Suite #300\, 3820 – 24th Avenue NW:geo:-114.1439694|-114.1439694|-114.1439694|-114.1439694,51.0747716|51.0747716|51.0747716|51.0747716
END:VEVENT
BEGIN:VEVENT
DTSTART;TZID=America/Edmonton:20240424T173000
DTEND;TZID=America/Edmonton:20240424T190000
DTSTAMP:20260425T121152
CREATED:20240328T002233Z
LAST-MODIFIED:20251027T195410Z
UID:10000603-1713979800-1713985200@sinneavefoundation.org
SUMMARY:Trivia Night! Hosted by Autism Awareness Club UCalgary
DESCRIPTION:You’re invited to the Autism Awareness Club UCalgary’s last event of the semester – TRIVIA NIGHT!!!\n\n \n\nWednesday\, April 24\, 2024\n\n5:30 – 7:00 p.m. \n\nat The Sinneave Family Foundation\n\n300\, 3820 24 Ave NW\n\n \n\nAll are welcome – you don’t have to be a member or a university student to participate. You just need to love having fun with a great group of people!\n\nIf you have a specific area of knowledge you want to be included in the selection of topics\, please let the organizers know when you RSVP.\n\nEmail autismawarenessucalgary@gmail.com to let them know you’re coming BEFORE April 23.\n\n 
URL:https://sinneavefoundation.org/event/trivia-night-hosted-by-autism-awareness-club-ucalgary/
LOCATION:The Ability Hub\, Suite #300\, 3820 - 24th Avenue NW|Suite #300\, 3820 – 24th Avenue NW|Suite #300\, 3820 – 24th Avenue NW|Suite #300\, 3820 – 24th Avenue NW\, Calgary\, Alberta\, T3B-2X9|T3B-2X9|T3B-2X9|T3B-2X9\, Canada
CATEGORIES:Special Events
ATTACH;FMTTYPE=image/jpeg:https://sinneavefoundation.org/wp-content/uploads/2024/06/AACUC-Trivia-night-Apr-24-scaled-1.jpg
GEO:51.0747716|51.0747716|51.0747716|51.0747716;-114.1439694|-114.1439694|-114.1439694|-114.1439694
X-APPLE-STRUCTURED-LOCATION;VALUE=URI;X-ADDRESS=The Ability Hub Suite #300 3820 - 24th Avenue NW|Suite #300 3820 – 24th Avenue NW|Suite #300 3820 – 24th Avenue NW|Suite #300 3820 – 24th Avenue NW Calgary Alberta T3B-2X9|T3B-2X9|T3B-2X9|T3B-2X9 Canada;X-APPLE-RADIUS=500;X-TITLE=Suite #300\, 3820 - 24th Avenue NW|Suite #300\, 3820 – 24th Avenue NW|Suite #300\, 3820 – 24th Avenue NW|Suite #300\, 3820 – 24th Avenue NW:geo:-114.1439694|-114.1439694|-114.1439694|-114.1439694,51.0747716|51.0747716|51.0747716|51.0747716
END:VEVENT
END:VCALENDAR