BEGIN:VCALENDAR
VERSION:2.0
PRODID:-//Sinneave Foundation - ECPv6.15.19//NONSGML v1.0//EN
CALSCALE:GREGORIAN
METHOD:PUBLISH
X-WR-CALNAME:Sinneave Foundation
X-ORIGINAL-URL:https://sinneavefoundation.org
X-WR-CALDESC:Events for Sinneave Foundation
REFRESH-INTERVAL;VALUE=DURATION:PT1H
X-Robots-Tag:noindex
X-PUBLISHED-TTL:PT1H
BEGIN:VTIMEZONE
TZID:America/Edmonton
BEGIN:DAYLIGHT
TZOFFSETFROM:-0700
TZOFFSETTO:-0600
TZNAME:MDT
DTSTART:20250309T090000
END:DAYLIGHT
BEGIN:STANDARD
TZOFFSETFROM:-0600
TZOFFSETTO:-0700
TZNAME:MST
DTSTART:20251102T080000
END:STANDARD
BEGIN:DAYLIGHT
TZOFFSETFROM:-0700
TZOFFSETTO:-0600
TZNAME:MDT
DTSTART:20260308T090000
END:DAYLIGHT
BEGIN:STANDARD
TZOFFSETFROM:-0600
TZOFFSETTO:-0700
TZNAME:MST
DTSTART:20261101T080000
END:STANDARD
BEGIN:DAYLIGHT
TZOFFSETFROM:-0700
TZOFFSETTO:-0600
TZNAME:MDT
DTSTART:20270314T090000
END:DAYLIGHT
BEGIN:STANDARD
TZOFFSETFROM:-0600
TZOFFSETTO:-0700
TZNAME:MST
DTSTART:20271107T080000
END:STANDARD
END:VTIMEZONE
BEGIN:VEVENT
DTSTART;TZID=America/Edmonton:20260223T173000
DTEND;TZID=America/Edmonton:20260223T190000
DTSTAMP:20260424T130255
CREATED:20260211T180356Z
LAST-MODIFIED:20260211T181327Z
UID:10001374-1771867800-1771873200@sinneavefoundation.org
SUMMARY:Arts and Crafts Night - with Autism Awareness Club UCalgary
DESCRIPTION:Did you know that engaging in arts and crafts has been found to be an effective practice for managing mental health? The act of creating stimulates the ideal conditions for mindfulness by accessing and engaging different parts of the brain.  \n\n\n\nThat’s an excellent reason to join the Autism Awareness Club at University of Calgary for and Arts and Crafts evening. Materials will be provided. \n\n\n\nMonday\, February 23\, 20265:30 – 7:00 p.m.at The Ability Hub (300\, 3820 24 Ave NW) \n\n\n\nAll are welcome! You don’t need to be a UCalgary student to attend\, you just need to enjoy spending time with great people. \n\n\n\nPlease RSVP your attendance to autismawarenessucalgary@gmail.com so the organizers know how many people to expect.
URL:https://sinneavefoundation.org/event/arts-and-craft-night-with-autism-awareness-club-ucalgary/
LOCATION:The Ability Hub\, Suite #300\, 3820 - 24th Avenue NW\, Calgary\, Alberta\, T3B-2X9\, Canada
CATEGORIES:Special Events
ATTACH;FMTTYPE=image/png:https://sinneavefoundation.org/wp-content/uploads/2026/02/Website-image-AACUC-Arts-and-Crafts-night-1200-x-630-px.png
GEO:51.0747716;-114.1439694
X-APPLE-STRUCTURED-LOCATION;VALUE=URI;X-ADDRESS=The Ability Hub Suite #300 3820 - 24th Avenue NW Calgary Alberta T3B-2X9 Canada;X-APPLE-RADIUS=500;X-TITLE=Suite #300\, 3820 - 24th Avenue NW:geo:-114.1439694,51.0747716
END:VEVENT
END:VCALENDAR