BEGIN:VCALENDAR
VERSION:2.0
PRODID:-//Sinneave Foundation - ECPv6.15.19//NONSGML v1.0//EN
CALSCALE:GREGORIAN
METHOD:PUBLISH
X-WR-CALNAME:Sinneave Foundation
X-ORIGINAL-URL:https://sinneavefoundation.org
X-WR-CALDESC:Events for Sinneave Foundation
REFRESH-INTERVAL;VALUE=DURATION:PT1H
X-Robots-Tag:noindex
X-PUBLISHED-TTL:PT1H
BEGIN:VTIMEZONE
TZID:America/Edmonton
BEGIN:DAYLIGHT
TZOFFSETFROM:-0700
TZOFFSETTO:-0600
TZNAME:MDT
DTSTART:20240310T090000
END:DAYLIGHT
BEGIN:STANDARD
TZOFFSETFROM:-0600
TZOFFSETTO:-0700
TZNAME:MST
DTSTART:20241103T080000
END:STANDARD
BEGIN:DAYLIGHT
TZOFFSETFROM:-0700
TZOFFSETTO:-0600
TZNAME:MDT
DTSTART:20250309T090000
END:DAYLIGHT
BEGIN:STANDARD
TZOFFSETFROM:-0600
TZOFFSETTO:-0700
TZNAME:MST
DTSTART:20251102T080000
END:STANDARD
BEGIN:DAYLIGHT
TZOFFSETFROM:-0700
TZOFFSETTO:-0600
TZNAME:MDT
DTSTART:20260308T090000
END:DAYLIGHT
BEGIN:STANDARD
TZOFFSETFROM:-0600
TZOFFSETTO:-0700
TZNAME:MST
DTSTART:20261101T080000
END:STANDARD
END:VTIMEZONE
BEGIN:VEVENT
DTSTART;TZID=America/Edmonton:20250409T100000
DTEND;TZID=America/Edmonton:20250409T120000
DTSTAMP:20260422T053356
CREATED:20250319T211646Z
LAST-MODIFIED:20250409T153707Z
UID:10000827-1744192800-1744200000@sinneavefoundation.org
SUMMARY:The Employment Classroom Sessions #1: Knowing yourself and your employment goals
DESCRIPTION:Are you interested in learning more about your employment journey and the steps you can take to lead you on a path to success?  \n\n\n\nThe session on Wednesday\, April 9\, 2025 will focus on knowing yourself\, your employment goals\, and you will have the opportunity to: \n\n\n\n\nLearn about your personality and what you want to get out of work and\,\n\n\n\nUnderstand your skills\, values\, and motivations for setting realistic and fulfilling employment goals\, which in turn can lead to a more satisfying and successful career journey.\n\n\n\n\nJoin our facilitators Ryan Elkanah and Sherry Taylor as they provide expert knowledge on the following topics: \n\n\n\n\nEmployment Preparedness\,\n\n\n\nLife Skills and\,\n\n\n\nSoft Skills.\n\n\n\n\nAbout our Facilitators:  \n\n\n\nRyan Elkanah and Sherry Taylor are part of the Sinneave Employment Team committed to empowering Autistic and neurodivergent individuals on their journeys towards meaningful employment and career success. \n\n\n\nPlease note spots are limited to eight participants and will be on a first-come first-served basis. Registration is through Sinneave Connects below and the session will be held in-person only at The Ability Hub (300\, 3820 24 Ave NW). \n\n\n\nTo Register:  \n\n\n\nIf you already have a Connects account\, just log in as usual. If you have not registered yet\, it’s easy! Click the button below that says\, “The Employment Classroom Sessions Registration – April 9\, 2025” to access the learning hub and follow these steps: \n\n\n\n\nPick  a username\n\n\n\nPick a password (Don’t forget to record it somewhere safe for next time!)\n\n\n\nChoose the\, “The Employment Classroom Sessions Registration – April 9\, 2025” event and click on the enroll button.\n\n\n\n\nThe Employment Classroom Sessions Registration – April 9\, 2025\n\n\n\n\n\n\n\nIf you have any questions or need assistance\, please reach out to us at info@sinneavefoundation.org or call our office at (403) 210-5000. We’re here to help! \n\n\n\nOther Employment Classroom Sessions include: \n\n\n\nThe Employment Classroom Sessions #1: Knowing yourself and your employment goals – April 9\, 2025 \n\n\n\nLearn about your personality and what you want to get out of work and understand your skills\, values\, and motivations for setting realistic and fulfilling employment goals\, which in turn can lead to a more satisfying and successful career journey. \n\n\n\nThe Employment Classroom Sessions #2: Matching your strengths to the right jobs – April 23\, 2025 \n\n\n\nIdentify your strengths and interests which will help with aligning your job search to industries and roles that are a good match. \n\n\n\nThe Employment Classroom Sessions #3: Writing an effective resume and cover letter – May 7\, 2025 \n\n\n\nLearn how to write an effective resume and cover letter\, while you also learn about what to include in each of these documents so you are successful in your job search journey. \n\n\n\nThe Employment Classroom Sessions #4: Preparing for and doing well in a job interview – May 21\, 2025 \n\n\n\nLearn how to prepare for and perform well in a job interview. You will learn what skills you need to develop in order to perform well in job interviews\, and you will have the opportunity to learn what is expected of you in professional settings\, how to navigate specific questions\, and be given the opportunity to receive and provide feedback.
URL:https://sinneavefoundation.org/event/the-employment-classroom-sessions/
LOCATION:The Ability Hub\, Suite #300\, 3820 - 24th Avenue NW\, Calgary\, Alberta\, T3B-2X9\, Canada
CATEGORIES:Exploration Sessions,Workshops
ATTACH;FMTTYPE=image/png:https://sinneavefoundation.org/wp-content/uploads/2025/03/EW-Workshop-Knowing-Yourself-website-image.png
GEO:51.0747716;-114.1439694
X-APPLE-STRUCTURED-LOCATION;VALUE=URI;X-ADDRESS=The Ability Hub Suite #300 3820 - 24th Avenue NW Calgary Alberta T3B-2X9 Canada;X-APPLE-RADIUS=500;X-TITLE=Suite #300\, 3820 - 24th Avenue NW:geo:-114.1439694,51.0747716
END:VEVENT
BEGIN:VEVENT
DTSTART;TZID=America/Edmonton:20250409T150000
DTEND;TZID=America/Edmonton:20250409T190000
DTSTAMP:20260422T053356
CREATED:20250401T212518Z
LAST-MODIFIED:20250401T212906Z
UID:10000846-1744210800-1744225200@sinneavefoundation.org
SUMMARY:Your Time Your Way
DESCRIPTION:Many individuals can benefit from what is often referred to as a “third space”\, a place separate from home and work/school. In this offering\, we invite you to drop in and utilize our space as a safe place to help you unwind or recharge — with no pressure to engage in structured activities. \n\n\n\nNo diagnosis or disclosures are required. \n\n\n\nActivities Permitted: \n\n\n\n\nSocializing: Chatting with others\, making new connections\, or catching up with friends.\n\n\n\nUsing Computers: Accessing the internet\, completing personal tasks\, or exploring hobbies online.\n\n\n\nRelaxing: Sitting quietly\, reading\, listening to music with headphones\, or just enjoying a calm space.\n\n\n\nIndependent Work: Bringing personal projects\, studying\, or using the time to focus on tasks.\n\n\n\nUnstructured Activities: Doing puzzles\, sketching\, journaling\, or engaging in other personal hobbies.\n\n\n\nExploring Resources: Learning about other programs\, events\, or services Sinneave offers.\n\n\n\nSimply Being: Spending time in the space without any specific activity\, just enjoying the presence of others without any expectations to engage.\n\n\n\n\nTo ensure a welcoming and safe space for all users\, familiarize yourself with the Rules of the Space: \n\n\n\n\nCheck-In Required: Everyone signs in upon arrival.\n\n\n\nNo Alcohol or Drugs: Substance-free space for everyone’s safety and comfort.\n\n\n\nRespectful Content and Behavior: No engagement with explicit content\, and all interactions should be respectful.\n\n\n\nNoise Levels: Keep volume moderate to accommodate diverse activities.\n\n\n\nNo formal supervision provided: Attend and engage independently
URL:https://sinneavefoundation.org/event/your-time-your-way-3/2025-04-09/
LOCATION:The Ability Hub\, Suite #300\, 3820 - 24th Avenue NW\, Calgary\, Alberta\, T3B-2X9\, Canada
CATEGORIES:Learning & Connection Activity
ATTACH;FMTTYPE=image/png:https://sinneavefoundation.org/wp-content/uploads/2025/01/Web-Your-Time-Your-Way.png
GEO:51.0747716;-114.1439694
X-APPLE-STRUCTURED-LOCATION;VALUE=URI;X-ADDRESS=The Ability Hub Suite #300 3820 - 24th Avenue NW Calgary Alberta T3B-2X9 Canada;X-APPLE-RADIUS=500;X-TITLE=Suite #300\, 3820 - 24th Avenue NW:geo:-114.1439694,51.0747716
END:VEVENT
END:VCALENDAR