BEGIN:VCALENDAR
VERSION:2.0
PRODID:-//Sinneave Foundation - ECPv6.15.19//NONSGML v1.0//EN
CALSCALE:GREGORIAN
METHOD:PUBLISH
X-ORIGINAL-URL:https://sinneavefoundation.org
X-WR-CALDESC:Events for Sinneave Foundation
REFRESH-INTERVAL;VALUE=DURATION:PT1H
X-Robots-Tag:noindex
X-PUBLISHED-TTL:PT1H
BEGIN:VTIMEZONE
TZID:America/Edmonton
BEGIN:DAYLIGHT
TZOFFSETFROM:-0700
TZOFFSETTO:-0600
TZNAME:MDT
DTSTART:20240310T090000
END:DAYLIGHT
BEGIN:STANDARD
TZOFFSETFROM:-0600
TZOFFSETTO:-0700
TZNAME:MST
DTSTART:20241103T080000
END:STANDARD
BEGIN:DAYLIGHT
TZOFFSETFROM:-0700
TZOFFSETTO:-0600
TZNAME:MDT
DTSTART:20250309T090000
END:DAYLIGHT
BEGIN:STANDARD
TZOFFSETFROM:-0600
TZOFFSETTO:-0700
TZNAME:MST
DTSTART:20251102T080000
END:STANDARD
BEGIN:DAYLIGHT
TZOFFSETFROM:-0700
TZOFFSETTO:-0600
TZNAME:MDT
DTSTART:20260308T090000
END:DAYLIGHT
BEGIN:STANDARD
TZOFFSETFROM:-0600
TZOFFSETTO:-0700
TZNAME:MST
DTSTART:20261101T080000
END:STANDARD
END:VTIMEZONE
BEGIN:VEVENT
DTSTART;TZID=America/Edmonton:20250507T100000
DTEND;TZID=America/Edmonton:20250507T120000
DTSTAMP:20260422T023537
CREATED:20250408T150814Z
LAST-MODIFIED:20250507T164631Z
UID:10000872-1746612000-1746619200@sinneavefoundation.org
SUMMARY:The Employment Classroom Sessions #3: Writing an effective resume and cover letter
DESCRIPTION:Are you interested in learning more about the employment journey and the steps you can take to lead you on a path to success? We are offering a series of workshops that cover many topics related to finding a job\, keeping a job and thriving in the workplace.  \n\n\n\nJoin us Wednesday\, May 7\, 2025 to learn how to write an effective resume and cover letter. \n\n\n\n\nLearn about the purpose of a resume and cover letter and\,\n\n\n\nWhat to include in each of these documents so you are successful in your job search journey.\n\n\n\n\nThe workshop includes classroom instruction and time to practice what you’ve learned with one-on-one support from the facilitators\, Ryan and Sherry.  \n\n\n\nPlease note: space is limited to six participants and will be on a first-come\, first-served basis.  \n\n\n\nRegistration is through Sinneave Connects\, our online learning hub. The session will be held in-person only at The Ability Hub (300\, 3820 24 Ave NW). \n\n\n\nTo Register:  \n\n\n\nIf you already have a Sinneave Connects account\, just log in as usual. If you have not registered yet\, it’s easy! Click the button below that says\, Sinneave Connects to access the learning hub and follow these steps: \n\n\n\n\nPick a username\n\n\n\nPick a password (Don’t forget to record it somewhere safe for next time!)\n\n\n\nChoose the Employment Classroom Sessions Registration – May 7 event and click on the enroll button\n\n\n\n\nSinneave Connects\n\n\n\nIf you have any questions or need assistance\, please reach out to us at info@sinneavefoundation.org or call our office at (403) 210-5000. We’re here to help! \n\n\n\nAbout our Facilitators:  \n\n\n\nRyan Elkanah and Sherry Taylor\, members of the Sinneave employment team\, are committed to empowering Autistic and neurodivergent individuals on their journeys towards meaningful employment and career success. \n\n\n\nUpcoming Employment Classroom Sessions include: \n\n\n\nThe Employment Classroom Sessions #4: Preparing for and doing well in a job interview – May 21\, 2025 \n\n\n\nLearn how to prepare for and perform well in a job interview. You will learn what skills you need to develop in order to perform well in job interviews\, and you will have the opportunity to learn what is expected of you in professional settings\, how to navigate specific questions\, and be given the opportunity to receive and provide feedback.
URL:https://sinneavefoundation.org/event/the-employment-classroom-sessions-3-writing-an-effective-resume-and-cover-letter/
LOCATION:The Ability Hub\, Suite #300\, 3820 - 24th Avenue NW\, Calgary\, Alberta\, T3B-2X9\, Canada
CATEGORIES:Exploration Sessions,Workshops
ATTACH;FMTTYPE=image/png:https://sinneavefoundation.org/wp-content/uploads/2025/04/EW-Workshop-May-7-Resume-Cover-letter-Website-image.png
GEO:51.0747716;-114.1439694
X-APPLE-STRUCTURED-LOCATION;VALUE=URI;X-ADDRESS=The Ability Hub Suite #300 3820 - 24th Avenue NW Calgary Alberta T3B-2X9 Canada;X-APPLE-RADIUS=500;X-TITLE=Suite #300\, 3820 - 24th Avenue NW:geo:-114.1439694,51.0747716
END:VEVENT
BEGIN:VEVENT
DTSTART;TZID=America/Edmonton:20250507T123000
DTEND;TZID=America/Edmonton:20250507T170000
DTSTAMP:20260422T023537
CREATED:20250423T143910Z
LAST-MODIFIED:20250423T143912Z
UID:10000885-1746621000-1746637200@sinneavefoundation.org
SUMMARY:Your Time Your Way
DESCRIPTION:Many individuals can benefit from what is often referred to as a “third space”\, a place separate from home and work/school. In this offering\, we invite you to drop in and utilize our space as a safe place to help you unwind or recharge — with no pressure to engage in structured activities. \n\n\n\nNo diagnosis or disclosures are required. \n\n\n\nActivities Permitted: \n\n\n\n\nSocializing: Chatting with others\, making new connections\, or catching up with friends.\n\n\n\nUsing Computers: Accessing the internet\, completing personal tasks\, or exploring hobbies online.\n\n\n\nRelaxing: Sitting quietly\, reading\, listening to music with headphones\, or just enjoying a calm space.\n\n\n\nIndependent Work: Bringing personal projects\, studying\, or using the time to focus on tasks.\n\n\n\nUnstructured Activities: Doing puzzles\, sketching\, journaling\, or engaging in other personal hobbies.\n\n\n\nExploring Resources: Learning about other programs\, events\, or services Sinneave offers.\n\n\n\nSimply Being: Spending time in the space without any specific activity\, just enjoying the presence of others without any expectations to engage.\n\n\n\n\nTo ensure a welcoming and safe space for all users\, familiarize yourself with the Rules of the Space: \n\n\n\n\nCheck-In Required: Everyone signs in upon arrival.\n\n\n\nNo Alcohol or Drugs: Substance-free space for everyone’s safety and comfort.\n\n\n\nRespectful Content and Behavior: No engagement with explicit content\, and all interactions should be respectful.\n\n\n\nNoise Levels: Keep volume moderate to accommodate diverse activities.\n\n\n\nNo formal supervision provided: Attend and engage independently
URL:https://sinneavefoundation.org/event/your-time-your-way-4/2025-05-07/
LOCATION:The Ability Hub\, Suite #300\, 3820 - 24th Avenue NW\, Calgary\, Alberta\, T3B-2X9\, Canada
CATEGORIES:Learning & Connection Activity
ATTACH;FMTTYPE=image/png:https://sinneavefoundation.org/wp-content/uploads/2025/04/YTYW-Graphic-1200-x-630-px.png
GEO:51.0747716;-114.1439694
X-APPLE-STRUCTURED-LOCATION;VALUE=URI;X-ADDRESS=The Ability Hub Suite #300 3820 - 24th Avenue NW Calgary Alberta T3B-2X9 Canada;X-APPLE-RADIUS=500;X-TITLE=Suite #300\, 3820 - 24th Avenue NW:geo:-114.1439694,51.0747716
END:VEVENT
END:VCALENDAR