BEGIN:VCALENDAR
VERSION:2.0
PRODID:-//Sinneave Foundation - ECPv6.15.19//NONSGML v1.0//EN
CALSCALE:GREGORIAN
METHOD:PUBLISH
X-ORIGINAL-URL:https://sinneavefoundation.org
X-WR-CALDESC:Events for Sinneave Foundation
REFRESH-INTERVAL;VALUE=DURATION:PT1H
X-Robots-Tag:noindex
X-PUBLISHED-TTL:PT1H
BEGIN:VTIMEZONE
TZID:America/Edmonton
BEGIN:DAYLIGHT
TZOFFSETFROM:-0700
TZOFFSETTO:-0600
TZNAME:MDT
DTSTART:20240310T090000
END:DAYLIGHT
BEGIN:STANDARD
TZOFFSETFROM:-0600
TZOFFSETTO:-0700
TZNAME:MST
DTSTART:20241103T080000
END:STANDARD
BEGIN:DAYLIGHT
TZOFFSETFROM:-0700
TZOFFSETTO:-0600
TZNAME:MDT
DTSTART:20250309T090000
END:DAYLIGHT
BEGIN:STANDARD
TZOFFSETFROM:-0600
TZOFFSETTO:-0700
TZNAME:MST
DTSTART:20251102T080000
END:STANDARD
BEGIN:DAYLIGHT
TZOFFSETFROM:-0700
TZOFFSETTO:-0600
TZNAME:MDT
DTSTART:20260308T090000
END:DAYLIGHT
BEGIN:STANDARD
TZOFFSETFROM:-0600
TZOFFSETTO:-0700
TZNAME:MST
DTSTART:20261101T080000
END:STANDARD
END:VTIMEZONE
BEGIN:VEVENT
DTSTART;TZID=America/Edmonton:20251021T140000
DTEND;TZID=America/Edmonton:20251021T153000
DTSTAMP:20260421T213846
CREATED:20250906T172316Z
LAST-MODIFIED:20250906T172319Z
UID:10001074-1761055200-1761060600@sinneavefoundation.org
SUMMARY:Employment Skills Help Desk
DESCRIPTION:Benefit from connecting one-on-one with experienced professionals who understand neurodiversity and will help you identify your strengths\, interests and potential career paths. Our goal is to create an individualized\, inclusive and supportive environment where neurodivergent individuals can access resources\, gain valuable insights and enhance their employability\, confidence and career prospects. \n\n\n\nAttendees are encouraged to select from available topics to receive tailored guidance or bring other employment-related concerns they may have. Our employment coaches have experience and expertise in: \n\n\n\n\nCareer Exploration\n\n\n\nCover Letter Writing\n\n\n\nDisclosure & Accommodations\n\n\n\nInterview Prep\n\n\n\nJob Search Strategies\n\n\n\nResume Building\n\n\n\nApplicant Tracking System (ATS)\n\n\n\n1:1 Facilitator guidance* (Maximum 45 minutes)\n\n\n\n\nTuesday\, October 21\, 20252:00 – 3:30 pmIn-Person at The Ability Hub (300\, 3820 24 Avenue NW) \n\n\n\nAttendees must book an in-person 45-minute appointment with one of our three facilitators. \n\n\n\nAvailable times:  \n\n\n\n3 appointments from 2:00 – 2:45 p.m. \n\n\n\n3 appointments from 2:45 – 3:30 p.m. \n\n\n\nAppointments can be booked on Sinneave Connects\, our online learning hub. When you click the button that says\, “Sinneave Connects” you will be directed to the log-in page. If you already have an account\, just log in as usual. \n\n\n\nIf you don’t have an account\, it’s free and easy to set up. \n\n\n\n\nCreate a user name\n\n\n\nCreate a password (don’t forget to save it someplace handy)\n\n\n\nSelect “Register”\n\n\n\nChoose Employment Skills Help Desk Registration – October 21\, 2025 and follow the instructions.\n\n\n\n\n\nSinneave Connects\n\n\n\n\n\n\n\n\nPlease select a time slot that works for you and click the enroll button. To allow for the greatest participation\, participants are limited to ONE time slot per day. If no sessions are available\, that means they are all booked. Please choose an available time slot on a different day. \n\n\n\nIf you have any questions or require assistance with enrolling\, please reach out to us at info@sinneavefoundation.org or call our office at 403 210-5000. We’re here to help!
URL:https://sinneavefoundation.org/event/employment-skills-help-desk-12/
LOCATION:The Ability Hub\, Suite #300\, 3820 - 24th Avenue NW\, Calgary\, Alberta\, T3B-2X9\, Canada
CATEGORIES:Exploration Sessions,Workshops
ATTACH;FMTTYPE=image/png:https://sinneavefoundation.org/wp-content/uploads/2025/05/June-Help-Desk-website-image.png
GEO:51.0747716;-114.1439694
X-APPLE-STRUCTURED-LOCATION;VALUE=URI;X-ADDRESS=The Ability Hub Suite #300 3820 - 24th Avenue NW Calgary Alberta T3B-2X9 Canada;X-APPLE-RADIUS=500;X-TITLE=Suite #300\, 3820 - 24th Avenue NW:geo:-114.1439694,51.0747716
END:VEVENT
BEGIN:VEVENT
DTSTART;TZID=America/Edmonton:20251021T170000
DTEND;TZID=America/Edmonton:20251021T183000
DTSTAMP:20260421T213846
CREATED:20250912T145015Z
LAST-MODIFIED:20251015T163244Z
UID:10001164-1761066000-1761071400@sinneavefoundation.org
SUMMARY:Social Communication Workshop: Pro-tips for Social Communication
DESCRIPTION:Meeting new people and making friends isn’t always easy. In this session\, we’ll share pro-tips and strategies you can practice and use when it comes to making friends and maintaining social relationships. \n\n\n\nThis session is one of several drop-in workshops we offer that are designed to provide Autistic and neurodivergent individuals opportunities to learn and practice essential social communication skills in a safe and welcoming setting. Each 90-minute workshop covers a different aspect of social communication\, providing information\, tips and strategies intended to help in day-to-day social situations.  \n\n\n\nTuesday\, October 21\, 20255:00 – 6:30 p.m.Online via Sinneave Connects \n\n\n\nThere is no cost to attend this workshop. If you register in advance you’ll be notified of any last minute changes to the schedule\, but you can also just drop-in. This workshop is virtual\, via Sinneave Connects\, our online learning hub. Sinneave Connects is free\, but you need to register for an account to use it. \n\n\n\nIf you already have a Sinneave Connects account\, just log in as usual. If you have not registered yet\, it’s easy! Click the button that says “Sinneave Connects” to access the hub and follow these steps: \n\n\n\n\nCreate a user name\n\n\n\nCreate a password (don’t forget to save it someplace handy)\n\n\n\nSelect “Register”\n\n\n\nChoose the Social Communication Workshop: Pro-tips for Social Communication – October 21\, 2025 course to access the virtual link.\n\n\n\nClick on the\, “Choose session” button\, and then press Confirm.\n\n\n\n\n\nSinneave Connects\n\n\n\n\n\n\n\n\nAbout the Presenter: \n\n\n\nYonatan Tesfagiorgis is a Life Skills Coach at The Sinneave Family Foundation and has been working with neurodivergent and Autistic individuals for over 8 years. He strives to offer skill building strategies using a neuro affirming framework and provides an inclusive space for all individuals.  \n\n\n\nIf you have any questions or if you need help navigating Sinneave Connects\, please reach out to info@sinneavefoundation.org or call 403 210-5000. We’re here to help.
URL:https://sinneavefoundation.org/event/social-communication-workshop-pro-tips-for-social-communication/
LOCATION:Online via Sinneave Connects
CATEGORIES:Learning & Connection Activity,Workshops
ATTACH;FMTTYPE=image/png:https://sinneavefoundation.org/wp-content/uploads/2025/07/Website-Protips-for-social-communication-1200-x-630-px-.png
END:VEVENT
BEGIN:VEVENT
DTSTART;TZID=America/Edmonton:20251021T170000
DTEND;TZID=America/Edmonton:20251021T193000
DTSTAMP:20260421T213846
CREATED:20250728T152823Z
LAST-MODIFIED:20251218T184442Z
UID:10001130-1761066000-1761075000@sinneavefoundation.org
SUMMARY:Your Time\, Your Way
DESCRIPTION:Many individuals can benefit from what is often referred to as a “third space”—a place separate from home or work or school where there is no obligation to spend money on food or beverages. So we’re opening our doors to members of our community. \n\n\n\nWe invite you to drop in and use our space to help you unwind or recharge—with no pressure to engage in structured activities. We have several rooms and spaces available–a quiet lounge\, computer desks\, hang out sofas–you choose. It’s your time to use your way. \n\n\n\nOur space provides flexible seating options\, focus tools\, and adjustable lighting options as we strive to make our space more welcoming and inclusive to those who wish to spend time in it. \n\n\n\nOur drop-in hours are 5:00 – 7:30 p.m. \n\n\n\n\n\n\n\n\n\nHere are some suggestions of things you may like to do\, but this is not an exhaustive list: \n\n\n\n\nSocializing: Chat with others\, make new connections\, or catch up with friends\n\n\n\nUsing Computers: Access  the internet\, complete personal tasks\, or explore hobbies online. Use our computers and wifi or bring your own device and connect via our network\n\n\n\nRelaxing: Sit quietly\, read\, listen to music with headphones\, or just enjoy the calm space\n\n\n\nIndependent Work: Bring personal projects\, homework or studying you may need to do\, or use the time to focus on tasks\n\n\n\nUnstructured Activities: puzzles\, sketching\, journaling\, or engaging in other personal hobbies\n\n\n\nExploring Resources: Learn about other programs\, events\, or services Sinneave offers\n\n\n\nSimply Being: Spend time in the space without any specific activity\, just enjoying the presence of others without any expectations to engage\n\n\n\n\n\n\n\nTo ensure a welcoming and safe space for all users\, please read over the Rules of the Space before you arrive: \n\n\n\n\nCheck-In is Required: Everyone signs in upon arrival\n\n\n\nNo Alcohol or Drugs: This is a substance-free space for everyone’s safety and comfort\n\n\n\nRespectful Content and Behavior: No engagement with explicit content and all interactions should be respectful\n\n\n\nNoise Levels: Keep volume moderate to accommodate diverse activities\n\n\n\nNo formal supervision provided: Attend and engage independently
URL:https://sinneavefoundation.org/event/your-time-your-way-10/2025-10-21/
LOCATION:The Ability Hub\, Suite #300\, 3820 - 24th Avenue NW\, Calgary\, Alberta\, T3B-2X9\, Canada
CATEGORIES:Learning & Connection Activity
ATTACH;FMTTYPE=image/png:https://sinneavefoundation.org/wp-content/uploads/2025/04/YTYW-Graphic-1200-x-630-px.png
GEO:51.0747716;-114.1439694
X-APPLE-STRUCTURED-LOCATION;VALUE=URI;X-ADDRESS=The Ability Hub Suite #300 3820 - 24th Avenue NW Calgary Alberta T3B-2X9 Canada;X-APPLE-RADIUS=500;X-TITLE=Suite #300\, 3820 - 24th Avenue NW:geo:-114.1439694,51.0747716
END:VEVENT
BEGIN:VEVENT
DTSTART;TZID=America/Edmonton:20251021T173000
DTEND;TZID=America/Edmonton:20251021T193000
DTSTAMP:20260421T213846
CREATED:20250923T144039Z
LAST-MODIFIED:20250923T144042Z
UID:10001171-1761067800-1761075000@sinneavefoundation.org
SUMMARY:Supporting Healthy Relationships: Participant Workshop 
DESCRIPTION:We are pleased to be partnering with the Centre for Sexuality on a new initiative that adapts the Centre’s Relationship & Sexual Health program for Autistic adults. This program has provided vital information to youth about sexual health and healthy relationships. We are excited to be adapting this program for adults with autism to bring this information to you. \n\n\n\nPresented in a welcoming and inclusive space\, through a neuroaffirming lens\, these interactive workshops present an opportunity to learn about the hallmarks of healthy relationships in a safe space. These workshops start Tuesday\, October 14 and continue weekly for eight weeks. You can sign up for all the sessions\, or just the ones that interest you. \n\n\n\n\n\n\n\nThe schedule for these workshops is as follows: \n\n\n\n\nIdentity: Owning your story\, supporting others (October 14)\n\n\n\nMind Matters: Self-concept and relationship skills (October 21)\n\n\n\nBoundaries: Holding your own with confidence (October 28)\n\n\n\nConsent: Yes\, no\, and everything in between (November 4)\n\n\n\nRelationships: Healthy vs. harmful and what it means for you (November 13)\n\n\n\nDating: Decoding signals and signs (November 18)\n\n\n\nOnline Dating: Behind the screen (November 25) \n\n\n\nSexual Health: Talking and testing (December 2)\n\n\n\n\n\n\n\n\nDuring this two-hour hybrid workshop (with breaks)\, Autistic adults will also have an opportunity to discuss: \n\n\n\n• Strategies for addressing and supporting common relationship challenges • Sexual health resources• Open discussion and Q&A opportunities \n\n\n\n\n\n\n\n\n\nTuesday\, October 21\, 20255:30 – 7:30 p.m.In-Person at The Ability Hub (300\, 3820 24 Avenue NW) and Online via Microsoft Teams \n\n\n\n\n\n\n\nPlease RSVP for this workshop by clicking on the button that says\, “RSVP” and let the organizers know if you will be attending in-person or online.   \n\n\n\n\nRSVP
URL:https://sinneavefoundation.org/event/supporting-healthy-relationships-participant-workshop-7/
LOCATION:Hybrid: The Ability Hub and Online
CATEGORIES:Information Session
ATTACH;FMTTYPE=image/png:https://sinneavefoundation.org/wp-content/uploads/2025/09/CFS-Workshops-website-image-1200-x-630-px.png
END:VEVENT
END:VCALENDAR