BEGIN:VCALENDAR
VERSION:2.0
PRODID:-//Sinneave Foundation - ECPv6.15.19//NONSGML v1.0//EN
CALSCALE:GREGORIAN
METHOD:PUBLISH
X-ORIGINAL-URL:https://sinneavefoundation.org
X-WR-CALDESC:Events for Sinneave Foundation
REFRESH-INTERVAL;VALUE=DURATION:PT1H
X-Robots-Tag:noindex
X-PUBLISHED-TTL:PT1H
BEGIN:VTIMEZONE
TZID:America/Edmonton
BEGIN:DAYLIGHT
TZOFFSETFROM:-0700
TZOFFSETTO:-0600
TZNAME:MDT
DTSTART:20250309T090000
END:DAYLIGHT
BEGIN:STANDARD
TZOFFSETFROM:-0600
TZOFFSETTO:-0700
TZNAME:MST
DTSTART:20251102T080000
END:STANDARD
BEGIN:DAYLIGHT
TZOFFSETFROM:-0700
TZOFFSETTO:-0600
TZNAME:MDT
DTSTART:20260308T090000
END:DAYLIGHT
BEGIN:STANDARD
TZOFFSETFROM:-0600
TZOFFSETTO:-0700
TZNAME:MST
DTSTART:20261101T080000
END:STANDARD
BEGIN:DAYLIGHT
TZOFFSETFROM:-0700
TZOFFSETTO:-0600
TZNAME:MDT
DTSTART:20270314T090000
END:DAYLIGHT
BEGIN:STANDARD
TZOFFSETFROM:-0600
TZOFFSETTO:-0700
TZNAME:MST
DTSTART:20271107T080000
END:STANDARD
END:VTIMEZONE
BEGIN:VEVENT
DTSTART;TZID=America/Edmonton:20260407T170000
DTEND;TZID=America/Edmonton:20260407T193000
DTSTAMP:20260421T092941
CREATED:20260129T170549Z
LAST-MODIFIED:20260325T231841Z
UID:10001349-1775581200-1775590200@sinneavefoundation.org
SUMMARY:Your Time\, Your Way
DESCRIPTION:Many individuals can benefit from what is often referred to as a “third space”—a place separate from home or work or school where there is no obligation to spend money on food or beverages. So we’re opening our doors to members of our community. \n\n\n\n\nWe invite you to drop in and use our space to help you unwind or recharge—with no pressure to engage in structured activities. We have several rooms and spaces available–a quiet lounge\, computer desks\, hang out sofas–you choose. It’s your time to use your way. \n\n\n\nOur space provides flexible seating options\, focus tools\, and adjustable lighting options as we strive to make our space more welcoming and inclusive to those who wish to spend time in it. \n\n\n\nOur drop-in hours are 5:00 – 7:30 p.m. \n\n\n\nHere are some suggestions of things you may like to do\, but this is not an exhaustive list: \n\n\n\n\nSocializing: Chat with others\, make new connections\, or catch up with friends\n\n\n\nUsing Computers: Access the internet\, complete personal tasks\, or explore hobbies online. Use our computers and wifi or bring your own device and connect via our network\n\n\n\nRelaxing: Sit quietly\, read\, listen to music with headphones\, or just enjoy the calm space\n\n\n\nIndependent Work: Bring personal projects\, homework or studying you may need to do\, or use the time to focus on tasks\n\n\n\nUnstructured Activities: puzzles\, sketching\, journaling\, or engaging in other personal hobbies\n\n\n\nExploring Resources: Learn about other programs\, events\, or services Sinneave offers\n\n\n\nSimply Being: Spend time in the space without any specific activity\, just enjoying the presence of others without any expectations to engage\n\n\n\n\nTo ensure a welcoming and safe space for all users\, please read over the Rules of the Space before you arrive: \n\n\n\n\nCheck-In is Required: Everyone signs in upon arrival\n\n\n\nNo Alcohol or Drugs: This is a substance-free space for everyone’s safety and comfort\n\n\n\nRespectful Content and Behavior: No engagement with explicit content and all interactions should be respectful\n\n\n\nNoise Levels: Keep volume moderate to accommodate diverse activities\n\n\n\nNo formal supervision provided: Attend and engage independently
URL:https://sinneavefoundation.org/event/your-time-your-way-22/2026-04-07/
LOCATION:The Ability Hub\, Suite #300\, 3820 - 24th Avenue NW\, Calgary\, Alberta\, T3B-2X9\, Canada
CATEGORIES:Learning & Connection Activity
ATTACH;FMTTYPE=image/png:https://sinneavefoundation.org/wp-content/uploads/2026/02/Website-image-YTYW-gradient-1200-x-630-px-1.png
GEO:51.0747716;-114.1439694
X-APPLE-STRUCTURED-LOCATION;VALUE=URI;X-ADDRESS=The Ability Hub Suite #300 3820 - 24th Avenue NW Calgary Alberta T3B-2X9 Canada;X-APPLE-RADIUS=500;X-TITLE=Suite #300\, 3820 - 24th Avenue NW:geo:-114.1439694,51.0747716
END:VEVENT
BEGIN:VEVENT
DTSTART;TZID=America/Edmonton:20260407T180000
DTEND;TZID=America/Edmonton:20260407T193000
DTSTAMP:20260421T092941
CREATED:20260311T162727Z
LAST-MODIFIED:20260410T182957Z
UID:10001393-1775584800-1775590200@sinneavefoundation.org
SUMMARY:Social Communication Workshop: Communication and Miscommunication
DESCRIPTION:Communication can feel effortless one moment and confusing or frustrating the next. Many different factors can make conversations run smoothly (or lead to misunderstandings). \n\n\n\n\n \n\n\n\nIn this workshop\, participants will learn why miscommunication happens and feel more confident navigating it.  \n\n\n\nTogether\, we’ll discuss: \n\n\n\n\n\nWhat is really happening when we communicate\n\n\n\nCommon reasons for miscommunication\n\n\n\nRecognize how autism\, non-spoken “language”\, and unwritten social rules affect our communication\n\n\n\nHow to anticipate and prevent misunderstandings\n\n\n\nHow to address and repair miscommunication when it happens\n\n\n\n\n\n\n\n\nTuesday\, April 76:00 – 7:30 p.m.In-person at The Ability Hub (300\, 3820 24 Ave NW)There is no cost to attend this drop-in workshop. \n\n\n\nThis workshop is designed to provide Autistic and neurodivergent individuals with opportunities to learn and practice a variety of social communication skills in a safe and welcoming setting. Participants will be provided with information\, tips\, and strategies that they can choose to apply common day-to-day social situations. \n\n\n\nAdvance registration is not required\, however\, if you want to sign up\, our team can contact you in the event of any last minute changes or cancellations. Click the button that says “Sinneave Connects” to enroll in the course. \n\n\n\nIf you have not created a free Sinneave Connects account yet\, you will need to do that. Just follow the prompts on the sign-in page. \n\n\n\n\n\n\n\n\nSinneave Connects\n\n\n\n\n\n\n\n\nAbout the Presenter:Yonatan Tesfagiorgis is a Life Skills Coach at The Sinneave Family Foundation and has been working with neurodivergent and Autistic individuals for more than 8 years. He offers skill-building strategies using a neuro-affirming framework and provides an inclusive space for all individuals. \n\n\n\nIf you have questions\, reach out to info@sinneavefoundation.org or call 403 210-5000. We’re here to help.
URL:https://sinneavefoundation.org/event/social-communication-workshop-communication-and-miscommunication-3/
LOCATION:The Ability Hub\, Suite #300\, 3820 - 24th Avenue NW\, Calgary\, Alberta\, T3B-2X9\, Canada
CATEGORIES:Learning & Connection Activity,Workshops
ATTACH;FMTTYPE=image/png:https://sinneavefoundation.org/wp-content/uploads/2026/01/Website-image-Comm-and-Miscomm-1200-x-630-px-1.png
GEO:51.0747716;-114.1439694
X-APPLE-STRUCTURED-LOCATION;VALUE=URI;X-ADDRESS=The Ability Hub Suite #300 3820 - 24th Avenue NW Calgary Alberta T3B-2X9 Canada;X-APPLE-RADIUS=500;X-TITLE=Suite #300\, 3820 - 24th Avenue NW:geo:-114.1439694,51.0747716
END:VEVENT
END:VCALENDAR