BEGIN:VCALENDAR
VERSION:2.0
PRODID:-//Sinneave Foundation - ECPv6.15.19//NONSGML v1.0//EN
CALSCALE:GREGORIAN
METHOD:PUBLISH
X-WR-CALNAME:Sinneave Foundation
X-ORIGINAL-URL:https://sinneavefoundation.org
X-WR-CALDESC:Events for Sinneave Foundation
REFRESH-INTERVAL;VALUE=DURATION:PT1H
X-Robots-Tag:noindex
X-PUBLISHED-TTL:PT1H
BEGIN:VTIMEZONE
TZID:America/Edmonton
BEGIN:DAYLIGHT
TZOFFSETFROM:-0700
TZOFFSETTO:-0600
TZNAME:MDT
DTSTART:20250309T090000
END:DAYLIGHT
BEGIN:STANDARD
TZOFFSETFROM:-0600
TZOFFSETTO:-0700
TZNAME:MST
DTSTART:20251102T080000
END:STANDARD
BEGIN:DAYLIGHT
TZOFFSETFROM:-0700
TZOFFSETTO:-0600
TZNAME:MDT
DTSTART:20260308T090000
END:DAYLIGHT
BEGIN:STANDARD
TZOFFSETFROM:-0600
TZOFFSETTO:-0700
TZNAME:MST
DTSTART:20261101T080000
END:STANDARD
BEGIN:DAYLIGHT
TZOFFSETFROM:-0700
TZOFFSETTO:-0600
TZNAME:MDT
DTSTART:20270314T090000
END:DAYLIGHT
BEGIN:STANDARD
TZOFFSETFROM:-0600
TZOFFSETTO:-0700
TZNAME:MST
DTSTART:20271107T080000
END:STANDARD
END:VTIMEZONE
BEGIN:VEVENT
DTSTART;TZID=America/Edmonton:20260202T170000
DTEND;TZID=America/Edmonton:20260202T200000
DTSTAMP:20260423T143651
CREATED:20251216T174630Z
LAST-MODIFIED:20260128T211632Z
UID:10001250-1770051600-1770062400@sinneavefoundation.org
SUMMARY:The Joy of Cooking: Cooking Skills for Independent Living
DESCRIPTION:Whether independent living is one of your current goals and you are planning to move out soon\, or it is a long-term goal for the future – you can begin preparing for it now – starting in the kitchen! \n\n\n\nThis hands-on session is a great way to help you increase your confidence in the kitchen. Participants will have the opportunity to learn about: \n\n\n\n\nThe importance of good hygiene\,\n\n\n\nCleanliness in the kitchen and the importance of preventing cross-contamination\,\n\n\n\nThe proper use of utensils\,\n\n\n\nHow to properly measure and prepare food\, and work with others.\n\n\n\n\nThe menu for this session is Valentine’s Day Heart Sugar Cookies and Chocolate Covered Pretzels (Yum!). \n\n\n\nMonday\, February 25:00 – 8:00 p.m.In-person at The Ability Hub (300\, 3820 24 Ave NW) \n\n\n\nThis session is limited to six participants. If there are no spots available\, you can sign up to be placed on a waiting list and a member of our team will reach out to you if spots open up.  \n\n\n\nThere will only be light support provided by staff\, so participants need to be able to follow instructions\, and be willing to work in a small group to prepare the meal. All supplies will be provided. \n\n\n\nTo register\, click the button that says\, “Sinneave Connects” and follow the instructions. If you have an account\, just log in as usual. If you don’t have an account yet\, it’s free and easy to sign up. \n\n\n\n\nCreate a user name\n\n\n\nCreate a password (don’t forget to save it someplace handy)\n\n\n\nSelect “Register”\n\n\n\nChoose the Joy of Cooking: Cooking Skills for Independent Living – February 2\, 2026 Registration course and click on the\, “Enroll” button.\n\n\n\n\n\nSinneave Connects\n\n\n\n\n\n\n\n\nAbout the Presenter: \n\n\n\nMila Fernandes – McKenna is a participant of the Launch + Skills program\, and a student who learned how to cook at a young age\, and has been baking for 10 years. She enjoys baking cookies\, cakes\, and cupcakes for birthdays. \n\n\n\nIf you have questions\, reach out to info@sinneavefoundation.org or call 403 210-5000. We’re here to help.
URL:https://sinneavefoundation.org/event/the-joy-of-cooking-cooking-skills-for-independent-living-9/
LOCATION:The Ability Hub\, Suite #300\, 3820 - 24th Avenue NW\, Calgary\, Alberta\, T3B-2X9\, Canada
CATEGORIES:Learning & Connection Activity,Workshops
ATTACH;FMTTYPE=image/jpeg:https://sinneavefoundation.org/wp-content/uploads/2025/04/May-5-Joy-of-Cooking-website-image.jpg
GEO:51.0747716;-114.1439694
X-APPLE-STRUCTURED-LOCATION;VALUE=URI;X-ADDRESS=The Ability Hub Suite #300 3820 - 24th Avenue NW Calgary Alberta T3B-2X9 Canada;X-APPLE-RADIUS=500;X-TITLE=Suite #300\, 3820 - 24th Avenue NW:geo:-114.1439694,51.0747716
END:VEVENT
END:VCALENDAR