BEGIN:VCALENDAR
VERSION:2.0
PRODID:-//Sinneave Foundation - ECPv6.15.19//NONSGML v1.0//EN
CALSCALE:GREGORIAN
METHOD:PUBLISH
X-WR-CALNAME:Sinneave Foundation
X-ORIGINAL-URL:https://sinneavefoundation.org
X-WR-CALDESC:Events for Sinneave Foundation
REFRESH-INTERVAL;VALUE=DURATION:PT1H
X-Robots-Tag:noindex
X-PUBLISHED-TTL:PT1H
BEGIN:VTIMEZONE
TZID:America/Edmonton
BEGIN:DAYLIGHT
TZOFFSETFROM:-0700
TZOFFSETTO:-0600
TZNAME:MDT
DTSTART:20250309T090000
END:DAYLIGHT
BEGIN:STANDARD
TZOFFSETFROM:-0600
TZOFFSETTO:-0700
TZNAME:MST
DTSTART:20251102T080000
END:STANDARD
BEGIN:DAYLIGHT
TZOFFSETFROM:-0700
TZOFFSETTO:-0600
TZNAME:MDT
DTSTART:20260308T090000
END:DAYLIGHT
BEGIN:STANDARD
TZOFFSETFROM:-0600
TZOFFSETTO:-0700
TZNAME:MST
DTSTART:20261101T080000
END:STANDARD
BEGIN:DAYLIGHT
TZOFFSETFROM:-0700
TZOFFSETTO:-0600
TZNAME:MDT
DTSTART:20270314T090000
END:DAYLIGHT
BEGIN:STANDARD
TZOFFSETFROM:-0600
TZOFFSETTO:-0700
TZNAME:MST
DTSTART:20271107T080000
END:STANDARD
END:VTIMEZONE
BEGIN:VEVENT
DTSTART;TZID=America/Edmonton:20260128T100000
DTEND;TZID=America/Edmonton:20260128T120000
DTSTAMP:20260421T160305
CREATED:20251202T160033Z
LAST-MODIFIED:20251202T160035Z
UID:10001233-1769594400-1769601600@sinneavefoundation.org
SUMMARY:The Employment Classroom: Making sense of workplace interactions
DESCRIPTION:Are you interested in learning more about all the stages of the employment journey and the steps you can take to lead you on a path to success? We are offering a series of workshops that cover many topics related to finding a job\, keeping a job\, and thriving in the workplace.  \n\n\n\nJoin us Wednesday\, January 28 from 10 a.m. to Noon to learn tips and strategies for navigating workplace interactions with clarity and impact\, and the importance of social interaction at work and beyond. \n\n\n\nWednesday\, January 28\, 202610:00 a.m. – 12:00 p.m.In-person at The Ability Hub (300\, 3820 24 Avenue NW) \n\n\n\nThe workshop combines classroom instruction and time to practice what you’ve learned with support from the facilitators\, if needed. Attendees to these workshops must be able to participate independently. \n\n\n\n**Please note space is limited to 2 participants and is on a first-come\, first-served basis. Please register quickly to avoid disappointment. Thank you for your understanding.** \n\n\n\nTo Register:  \n\n\n\nIf you already have a Sinneave Connects account\, just log in as usual. If you have not registered yet\, it’s easy! Click the button that says\, Sinneave Connects to access the learning hub and follow these steps: \n\n\n\n\nPick a username\n\n\n\nPick a password (Don’t forget to record it somewhere safe for next time!)\n\n\n\nChoose The Employment Classroom: Making sense of workplace interactions workshop and click on the enroll button\n\n\n\n\n\nSinneave Connects\n\n\n\n\n\n\n\n\nAbout our Facilitators:  \n\n\n\nRyan Elkanah and Sherry Taylor\, members of the Sinneave employment team\, are committed to empowering Autistic and neurodivergent individuals on their journeys towards meaningful employment and career success. \n\n\n\nIf you have questions or need assistance\, reach out to info@sinneavefoundation.org or call (403) 210-5000. We’re here to help!
URL:https://sinneavefoundation.org/event/the-employment-classroom-making-sense-of-workplace-interactions/
LOCATION:The Ability Hub\, Suite #300\, 3820 - 24th Avenue NW\, Calgary\, Alberta\, T3B-2X9\, Canada
CATEGORIES:Learning & Connection Activity,Workshops
ATTACH;FMTTYPE=image/png:https://sinneavefoundation.org/wp-content/uploads/2025/06/Website-Workplace-interactions-July-23.png
GEO:51.0747716;-114.1439694
X-APPLE-STRUCTURED-LOCATION;VALUE=URI;X-ADDRESS=The Ability Hub Suite #300 3820 - 24th Avenue NW Calgary Alberta T3B-2X9 Canada;X-APPLE-RADIUS=500;X-TITLE=Suite #300\, 3820 - 24th Avenue NW:geo:-114.1439694,51.0747716
END:VEVENT
BEGIN:VEVENT
DTSTART;TZID=America/Edmonton:20260128T170000
DTEND;TZID=America/Edmonton:20260128T193000
DTSTAMP:20260421T160305
CREATED:20260210T222011Z
LAST-MODIFIED:20260325T231714Z
UID:10001244-1769619600-1769628600@sinneavefoundation.org
SUMMARY:Your Time\, Your Way
DESCRIPTION:Many individuals can benefit from what is often referred to as a “third space”—a place separate from home or work or school where there is no obligation to spend money on food or beverages. So we’re opening our doors to members of our community. \n\n\n\nWe invite you to drop in and use our space to help you unwind or recharge—with no pressure to engage in structured activities. We have several rooms and spaces available–a quiet lounge\, computer desks\, hang out sofas–you choose. It’s your time to use your way. \n\n\n\nOur space provides flexible seating options\, focus tools\, and adjustable lighting options as we strive to make our space more welcoming and inclusive to those who wish to spend time in it. \n\n\n\nOur drop-in hours are 5:00 – 7:30 p.m. \n\n\n\n\n\n\n\n\n\nHere are some suggestions of things you may like to do\, but this is not an exhaustive list: \n\n\n\n\nSocializing: Chat with others\, make new connections\, or catch up with friends\n\n\n\nUsing Computers: Access  the internet\, complete personal tasks\, or explore hobbies online. Use our computers and wifi or bring your own device and connect via our network\n\n\n\nRelaxing: Sit quietly\, read\, listen to music with headphones\, or just enjoy the calm space\n\n\n\nIndependent Work: Bring personal projects\, homework or studying you may need to do\, or use the time to focus on tasks\n\n\n\nUnstructured Activities: puzzles\, sketching\, journaling\, or engaging in other personal hobbies\n\n\n\nExploring Resources: Learn about other programs\, events\, or services Sinneave offers\n\n\n\nSimply Being: Spend time in the space without any specific activity\, just enjoying the presence of others without any expectations to engage\n\n\n\n\n\n\n\nTo ensure a welcoming and safe space for all users\, please read over the Rules of the Space before you arrive: \n\n\n\n\nCheck-In is Required: Everyone signs in upon arrival\n\n\n\nNo Alcohol or Drugs: This is a substance-free space for everyone’s safety and comfort\n\n\n\nRespectful Content and Behavior: No engagement with explicit content and all interactions should be respectful\n\n\n\nNoise Levels: Keep volume moderate to accommodate diverse activities\n\n\n\nNo formal supervision provided: Attend and engage independently
URL:https://sinneavefoundation.org/event/your-time-your-way-24/2026-01-28/
LOCATION:The Ability Hub\, Suite #300\, 3820 - 24th Avenue NW\, Calgary\, Alberta\, T3B-2X9\, Canada
CATEGORIES:Learning & Connection Activity
ATTACH;FMTTYPE=image/png:https://sinneavefoundation.org/wp-content/uploads/2026/02/Website-image-YTYW-gradient-1200-x-630-px-1.png
GEO:51.0747716;-114.1439694
X-APPLE-STRUCTURED-LOCATION;VALUE=URI;X-ADDRESS=The Ability Hub Suite #300 3820 - 24th Avenue NW Calgary Alberta T3B-2X9 Canada;X-APPLE-RADIUS=500;X-TITLE=Suite #300\, 3820 - 24th Avenue NW:geo:-114.1439694,51.0747716
END:VEVENT
BEGIN:VEVENT
DTSTART;TZID=America/Edmonton:20260128T183000
DTEND;TZID=America/Edmonton:20260128T200000
DTSTAMP:20260421T160305
CREATED:20260108T175800Z
LAST-MODIFIED:20260128T211054Z
UID:10001313-1769625000-1769630400@sinneavefoundation.org
SUMMARY:Webinar: Grief & Loss for Caregivers
DESCRIPTION:Join us for an open discussion on navigating grief and loss as a caregiver\, sharing stories\, and finding support. Caregivers often experience ongoing grief and loss—not just through death\, but through life-altering changes that reshape their expectations and roles. \n\n\n\nWe have discovered that with the aging adults in the Autism Edmonton community\, many are caretakers for a loved one in their lives. This shouldn’t be a surprise as approx. 42% of people in Canada are caretakers. Over half of women (52%) provide care for children or adults\, paid or unpaid\, significantly more than men.This session will explore how one navigates grief’s emotional terrain while discovering tools and insights to move forward with resilience and care. \n\n\n\nThis session is brought to you by Caregivers Alberta\, The Sinneave Family Foundation\, and Autism Edmonton. \n\n\n\nMonday\, January 266:30 p.m. – 8:00 p.m.Online via Autism Edmonton \n\n\n\nRegistration for this event is via Autism Edmonton’s website. You can register by clicking the button that says\, “Register”. \n\n\n\n\nRegister\n\n\n\n\n\n\n\n\n\n\nAbout the Facilatator: \n\n\n\nKaren Cuthbertson is the Manager\, Support Services for Caregivers Alberta\, based in Calgary. Her role is to support people in navigating the challenging role of being a caregiver for a family member or friend. Karen is a “sandwich generation” caregiver herself\, caring for both young adults and aging parents. She has extensive experience working in youth mental health\, dementia\, and cancer care. She has a Master of Science in Psychology and 20+ years of experience working in the public\, private\, and non-profit sectors.
URL:https://sinneavefoundation.org/event/webinar-grief-loss-for-caregivers/
LOCATION:Online via Autism Edmonton
CATEGORIES:Presentation,Special Events
END:VEVENT
END:VCALENDAR