BEGIN:VCALENDAR
VERSION:2.0
PRODID:-//Sinneave Foundation - ECPv6.15.19//NONSGML v1.0//EN
CALSCALE:GREGORIAN
METHOD:PUBLISH
X-WR-CALNAME:Sinneave Foundation
X-ORIGINAL-URL:https://sinneavefoundation.org
X-WR-CALDESC:Events for Sinneave Foundation
REFRESH-INTERVAL;VALUE=DURATION:PT1H
X-Robots-Tag:noindex
X-PUBLISHED-TTL:PT1H
BEGIN:VTIMEZONE
TZID:America/Edmonton
BEGIN:DAYLIGHT
TZOFFSETFROM:-0700
TZOFFSETTO:-0600
TZNAME:MDT
DTSTART:20250309T090000
END:DAYLIGHT
BEGIN:STANDARD
TZOFFSETFROM:-0600
TZOFFSETTO:-0700
TZNAME:MST
DTSTART:20251102T080000
END:STANDARD
BEGIN:DAYLIGHT
TZOFFSETFROM:-0700
TZOFFSETTO:-0600
TZNAME:MDT
DTSTART:20260308T090000
END:DAYLIGHT
BEGIN:STANDARD
TZOFFSETFROM:-0600
TZOFFSETTO:-0700
TZNAME:MST
DTSTART:20261101T080000
END:STANDARD
BEGIN:DAYLIGHT
TZOFFSETFROM:-0700
TZOFFSETTO:-0600
TZNAME:MDT
DTSTART:20270314T090000
END:DAYLIGHT
BEGIN:STANDARD
TZOFFSETFROM:-0600
TZOFFSETTO:-0700
TZNAME:MST
DTSTART:20271107T080000
END:STANDARD
END:VTIMEZONE
BEGIN:VEVENT
DTSTART;TZID=America/Edmonton:20260212T170000
DTEND;TZID=America/Edmonton:20260212T183000
DTSTAMP:20260424T024942
CREATED:20260105T202705Z
LAST-MODIFIED:20260119T152456Z
UID:10001292-1770915600-1770921000@sinneavefoundation.org
SUMMARY:Acceptance & Commitment Training Skills Group
DESCRIPTION:Applications for the February – March 2026 Acceptance & Commitment Training (ACT) Skills Group are now closed. In order to participate in this Skills Group\, you must have applied through Sinneave Connects and be accepted into the group. \n\n\n\nPlease note this Skills Group will be held virtually only through Sinneave Connects and will not be held in person.  \n\n\n\nIf you have questions or need support\, please email info@sinneavefoundation.org or call 403-210-5000. We’re here to help.
URL:https://sinneavefoundation.org/event/acceptance-commitment-training-skills-group-5/2026-02-12/
CATEGORIES:Skills Groups
ATTACH;FMTTYPE=image/png:https://sinneavefoundation.org/wp-content/uploads/2025/12/Website-image-ACT-Skills-Groups-2026-1.png
END:VEVENT
END:VCALENDAR