BEGIN:VCALENDAR
VERSION:2.0
PRODID:-//Sinneave Foundation - ECPv6.15.19//NONSGML v1.0//EN
CALSCALE:GREGORIAN
METHOD:PUBLISH
X-ORIGINAL-URL:https://sinneavefoundation.org
X-WR-CALDESC:Events for Sinneave Foundation
REFRESH-INTERVAL;VALUE=DURATION:PT1H
X-Robots-Tag:noindex
X-PUBLISHED-TTL:PT1H
BEGIN:VTIMEZONE
TZID:America/Edmonton
BEGIN:DAYLIGHT
TZOFFSETFROM:-0700
TZOFFSETTO:-0600
TZNAME:MDT
DTSTART:20250309T090000
END:DAYLIGHT
BEGIN:STANDARD
TZOFFSETFROM:-0600
TZOFFSETTO:-0700
TZNAME:MST
DTSTART:20251102T080000
END:STANDARD
BEGIN:DAYLIGHT
TZOFFSETFROM:-0700
TZOFFSETTO:-0600
TZNAME:MDT
DTSTART:20260308T090000
END:DAYLIGHT
BEGIN:STANDARD
TZOFFSETFROM:-0600
TZOFFSETTO:-0700
TZNAME:MST
DTSTART:20261101T080000
END:STANDARD
BEGIN:DAYLIGHT
TZOFFSETFROM:-0700
TZOFFSETTO:-0600
TZNAME:MDT
DTSTART:20270314T090000
END:DAYLIGHT
BEGIN:STANDARD
TZOFFSETFROM:-0600
TZOFFSETTO:-0700
TZNAME:MST
DTSTART:20271107T080000
END:STANDARD
END:VTIMEZONE
BEGIN:VEVENT
DTSTART;TZID=America/Edmonton:20260210T120000
DTEND;TZID=America/Edmonton:20260210T130000
DTSTAMP:20260421T112303
CREATED:20260107T181706Z
LAST-MODIFIED:20260128T211723Z
UID:10001307-1770724800-1770728400@sinneavefoundation.org
SUMMARY:Get to know us! Virtual Information Session
DESCRIPTION:Are you interested in the programs and services The Sinneave Family Foundation (Sinneave) has to offer? Are you or your child Autistic or neurodivergent and age 15 or older? This presentation is for you! Join us for a 60-minute virtual information session and Q & A and get to know all about us! \n\n\n\nWe will talk more about who we are and how we can support Autistic and neurodivergent youth and adults with the major life transitions they are facing. Some of these life transitions are: \n\n\n\n\nGraduating high school and going to university\n\n\n\nGetting a job\n\n\n\nMoving out and living independently\n\n\n\nAnd more!\n\n\n\n\n\nTuesday\, February 1012:00 – 1:00 pmOnline via Sinneave Connects \n\n\n\nThis session is ideal for Autistic and neurodivergent individuals\, their support networks\, such as parents\, caregivers and guardians\, as well as local service providers and professionals who may be seeking more information about our programs and services in the Calgary area and beyond. \n\n\n\n\n\n\n\n\n\n\nThis virtual session takes place on Sinneave Connects\, our online learning hub. If you already have an account\, just log-in as usual. If you need an account\, it’s free and easy to set up. Click the button that says\, “Sinneave Connects” and follow the instructions: \n\n\n\n\n\nCreate a user name\n\n\n\nCreate a password (don’t forget to save it someplace handy)\n\n\n\nSelect “Register”\n\n\n\nChoose the Get to know us! Virtual Information Session – February 10\, 2026″ session to register for the session and to access the virtual link.\n\n\n\n\n\n\nSinneave Connects\n\n\n\n\n\n\n\n\n\n\nAbout the Presenter \n\n\n\nJay Monge is the Learning & Connection Coordinator for The Sinneave Family Foundation. She oversees Sinneave’s Information & Navigation service and supports knowledge exchange activities including community engagement\, workshops\, and presentations. Jay has more than 10 years experience in the disability sector.  \n\n\n\nIf you need assistance\, please don’t hesitate to reach out to info@sinneavefoundation.org or call 403 210-5000. We’re here to help!
URL:https://sinneavefoundation.org/event/get-to-know-us-virtual-information-session-10/
LOCATION:Online via Sinneave Connects
CATEGORIES:Information Session
ATTACH;FMTTYPE=image/png:https://sinneavefoundation.org/wp-content/uploads/2025/03/Website-Info-Session-Mar-13-1200-x-630-px-1.png
END:VEVENT
END:VCALENDAR