BEGIN:VCALENDAR
VERSION:2.0
PRODID:-//Sinneave Foundation - ECPv6.15.19//NONSGML v1.0//EN
CALSCALE:GREGORIAN
METHOD:PUBLISH
X-ORIGINAL-URL:https://sinneavefoundation.org
X-WR-CALDESC:Events for Sinneave Foundation
REFRESH-INTERVAL;VALUE=DURATION:PT1H
X-Robots-Tag:noindex
X-PUBLISHED-TTL:PT1H
BEGIN:VTIMEZONE
TZID:America/Edmonton
BEGIN:DAYLIGHT
TZOFFSETFROM:-0700
TZOFFSETTO:-0600
TZNAME:MDT
DTSTART:20250309T090000
END:DAYLIGHT
BEGIN:STANDARD
TZOFFSETFROM:-0600
TZOFFSETTO:-0700
TZNAME:MST
DTSTART:20251102T080000
END:STANDARD
BEGIN:DAYLIGHT
TZOFFSETFROM:-0700
TZOFFSETTO:-0600
TZNAME:MDT
DTSTART:20260308T090000
END:DAYLIGHT
BEGIN:STANDARD
TZOFFSETFROM:-0600
TZOFFSETTO:-0700
TZNAME:MST
DTSTART:20261101T080000
END:STANDARD
BEGIN:DAYLIGHT
TZOFFSETFROM:-0700
TZOFFSETTO:-0600
TZNAME:MDT
DTSTART:20270314T090000
END:DAYLIGHT
BEGIN:STANDARD
TZOFFSETFROM:-0600
TZOFFSETTO:-0700
TZNAME:MST
DTSTART:20271107T080000
END:STANDARD
END:VTIMEZONE
BEGIN:VEVENT
DTSTART;TZID=America/Edmonton:20260217T173000
DTEND;TZID=America/Edmonton:20260217T190000
DTSTAMP:20260424T102250
CREATED:20260108T213517Z
LAST-MODIFIED:20260128T214712Z
UID:10001316-1771349400-1771354800@sinneavefoundation.org
SUMMARY:Social Communication Workshop: Handling Disagreements
DESCRIPTION:Do you find it difficult to communicate when someone disagrees with you? In this workshop\, we will talk about conflict and share tips to help you keep your cool when you are in the middle of a disagreement\, as well as provide strategies to help you work through it. \n\n\n\nIn this session\, you will have the opportunity to: \n\n\n\n\nDiscuss the impact that disagreements can have on communication\n\n\n\nDiscuss how arguments may affect how others perceive you (e.g.\, your reputation) \n\n\n\nIdentify strategies to assist in resolving disagreements\n\n\n\nPractice what you have learned through roleplay \n\n\n\n\nTuesday\, February 175:30 – 7:00 pmOnline via Sinneave Connects There is no cost to attend  \n\n\n\nThis workshop is designed to provide Autistic and neurodivergent individuals opportunities to learn and practice essential social communication skills in a safe and welcoming setting. Participants will be provided with information\, tips\, and strategies intended to help in day-to-day social situations. \n\n\n\nIf you register in advance you’ll be notified of any last minute changes to the schedule. \n\n\n\nThis workshop is virtual\, via Sinneave Connects\, our online learning hub. If you already have a Connects account\, just log in as usual. If you have not registered yet\, it’s free and easy! Click the button that says “Sinneave Connects” to access the hub and follow the instructions on the log-in screen. \n\n\n\n\n\n\nCreate a password (don’t forget to save it someplace handy)\n\n\n\nCreate a user name\n\n\n\nSelect “Register”\n\n\n\nSelect the “Social Communication Workshop: Handling Disagreements – February 17\, 2026” course and enroll.\n\n\n\n\n\n\nSinneave Connects\n\n\n\n\n\n\n\n\n\n\nAbout the Presenter: \n\n\n\nYonatan Tesfagiorgis is a Life Skills Coach at The Sinneave Family Foundation and has been working with neurodivergent and Autistic individuals for over 8 years. He strives to offer skill building strategies using a neuro affirming framework and provides an inclusive space for all individuals. \n\n\n\nIf you have questions\, reach out to info@sinneavefoundation.org or call 403 210-5000. We’re here to help.
URL:https://sinneavefoundation.org/event/social-communication-workshop-handling-disagreements/
LOCATION:Online via Sinneave Connects
CATEGORIES:Learning & Connection Activity,Workshops
ATTACH;FMTTYPE=image/png:https://sinneavefoundation.org/wp-content/uploads/2026/01/Website-image-Disagreements-1200-x-630-px.png
END:VEVENT
END:VCALENDAR