BEGIN:VCALENDAR
VERSION:2.0
PRODID:-//Sinneave Foundation - ECPv6.15.19//NONSGML v1.0//EN
CALSCALE:GREGORIAN
METHOD:PUBLISH
X-WR-CALNAME:Sinneave Foundation
X-ORIGINAL-URL:https://sinneavefoundation.org
X-WR-CALDESC:Events for Sinneave Foundation
REFRESH-INTERVAL;VALUE=DURATION:PT1H
X-Robots-Tag:noindex
X-PUBLISHED-TTL:PT1H
BEGIN:VTIMEZONE
TZID:America/Edmonton
BEGIN:DAYLIGHT
TZOFFSETFROM:-0700
TZOFFSETTO:-0600
TZNAME:MDT
DTSTART:20250309T090000
END:DAYLIGHT
BEGIN:STANDARD
TZOFFSETFROM:-0600
TZOFFSETTO:-0700
TZNAME:MST
DTSTART:20251102T080000
END:STANDARD
BEGIN:DAYLIGHT
TZOFFSETFROM:-0700
TZOFFSETTO:-0600
TZNAME:MDT
DTSTART:20260308T090000
END:DAYLIGHT
BEGIN:STANDARD
TZOFFSETFROM:-0600
TZOFFSETTO:-0700
TZNAME:MST
DTSTART:20261101T080000
END:STANDARD
BEGIN:DAYLIGHT
TZOFFSETFROM:-0700
TZOFFSETTO:-0600
TZNAME:MDT
DTSTART:20270314T090000
END:DAYLIGHT
BEGIN:STANDARD
TZOFFSETFROM:-0600
TZOFFSETTO:-0700
TZNAME:MST
DTSTART:20271107T080000
END:STANDARD
END:VTIMEZONE
BEGIN:VEVENT
DTSTART;TZID=America/Edmonton:20260210T173000
DTEND;TZID=America/Edmonton:20260210T190000
DTSTAMP:20260422T152508
CREATED:20260107T174512Z
LAST-MODIFIED:20260212T174618Z
UID:10001306-1770744600-1770750000@sinneavefoundation.org
SUMMARY:Social Communication Workshop: Understanding Communication Beyond Words
DESCRIPTION:Much of our everyday communication involves the use of non-verbal cues. Non-verbal cues can include things like facial expressions\, posture\, eye contact\, hand gestures\, as well as tone of voice. These cues are often used to emphasize a particular point that the communicator is trying to make. They may also be used to change the meaning of the words being spoken (e.g.\, sarcasm). \n\n\n\nIt is often assumed that everyone knows what non-verbal cues are and what they mean\, but not everyone uses or understands them. Thankfully\, they can be explored\, practiced\, and adapted in ways that support everyone’s understanding.   \n\n\n\nIn this session\, you will have the opportunity to: \n\n\n\n\nDevelop greater understanding of non-verbal cues and how they impact shared communication.\n\n\n\nDiscuss strategies for noticing\, interpreting\, and responding to non-verbal cues.\n\n\n\nReceive tips to support effective non-verbal communication across different social situations.\n\n\n\n\nTuesday\, February 105:30 – 7:00 p.m.Online via Sinneave Connects There is no cost to attend  \n\n\n\nThis workshop is designed to provide Autistic and neurodivergent individuals with opportunities to learn and practice a variety of social communication skills in a safe and welcoming setting. Participants will be provided with information\, tips\, and strategies that they can choose to apply to common day-to-day social situations. \n\n\n\nIf you register in advance you’ll be notified of any last minute changes to the schedule. \n\n\n\nThis workshop is virtual\, via Sinneave Connects\, our online learning hub. If you already have a Sinneave Connects account\, just log in as usual. If you have not registered yet\, it’s easy! Click the button that says “Sinneave Connects” to access the hub and follow these steps: \n\n\n\n\nCreate a user name\n\n\n\nCreate a password (don’t forget to save it someplace handy)\n\n\n\nSelect “Register”\n\n\n\nChoose the Social Communication Workshop: Understanding Communication Beyond Words – February 10\, 2026 course to access the virtual link.\n\n\n\nClick on the\, “Choose session” button\, and then press Confirm.\n\n\n\n\n\nSinneave Connects\n\n\n\n\n\n\n\n\nAbout the Presenter: \n\n\n\nYonatan Tesfagiorgis is a Life Skills Coach at The Sinneave Family Foundation and has been working with neurodivergent and Autistic individuals for over 8 years. He strives to offer skill building strategies using a neuro affirming framework and provides an inclusive space for all individuals. \n\n\n\nIf you have questions\, reach out to info@sinneavefoundation.org or call 403 210-5000. We’re here to help.
URL:https://sinneavefoundation.org/event/social-communication-workshop-the-art-of-non-verbal-communication-4/
LOCATION:Online via Sinneave Connects
CATEGORIES:Learning & Connection Activity,Workshops
ATTACH;FMTTYPE=image/png:https://sinneavefoundation.org/wp-content/uploads/2026/01/Website-image-Art-of-Non-verbal-1200-x-630-px.png
END:VEVENT
END:VCALENDAR